BEGIN:VCALENDAR
VERSION:2.0
PRODID:-//wp-events-plugin.com//7.2.3.1//EN
TZID:Europe/London
X-WR-TIMEZONE:Europe/London
BEGIN:VEVENT
UID:3608@larevistadelapalma.com
DTSTART:20250315T163000Z
DTEND:20250315T225900Z
DTSTAMP:20250313T183752Z
URL:https://www.larevistadelapalma.com/events/carnaval-del-ocean-drive/
SUMMARY:Carnaval del Ocean Drive
DESCRIPTION:¡Piratas\, marineros\, sirenas\, reserven la fecha del 15 de m
 arzo que  se viene el Carnaval del Ocean!\n\nRevuelve en el armario y no 
 te pierdas el primer carnaval en el Kiosco Ocean Drive. La temática: ¡El
  mar!\n\n&nbsp\;
ATTACH;FMTTYPE=image/jpeg:https://www.larevistadelapalma.com/wp-content/up
 loads/2025/02/Carnaval-Ocean-Drive.jpg
CATEGORIES:Festivales/Fiestas,Fiestas populares,Música,Otras propuestas
LOCATION:Playa de Puerto Naos\, Puerto Naos\, Los Llanos de Aridane \, 3876
 9\, España
GEO:28.587524;-17.910531
X-APPLE-STRUCTURED-LOCATION;VALUE=URI;X-ADDRESS=Puerto Naos\, Los Llanos de
  Aridane \, 38769\, España;X-APPLE-RADIUS=100;X-TITLE=Playa de Puerto Nao
 s:geo:28.587524,-17.910531
END:VEVENT
END:VCALENDARBEGIN:VCALENDAR
VERSION:2.0
PRODID:-//wp-events-plugin.com//7.2.3.1//EN
TZID:Europe/London
X-WR-TIMEZONE:Europe/London
BEGIN:VEVENT
UID:3608@larevistadelapalma.com
DTSTART:20250315T163000Z
DTEND:20250315T225900Z
DTSTAMP:20250313T183752Z
URL:https://www.larevistadelapalma.com/events/carnaval-del-ocean-drive/
SUMMARY:Carnaval del Ocean Drive
DESCRIPTION:¡Piratas\, marineros\, sirenas\, reserven la fecha del 15 de m
 arzo que  se viene el Carnaval del Ocean!\n\nRevuelve en el armario y no 
 te pierdas el primer carnaval en el Kiosco Ocean Drive. La temática: ¡El
  mar!\n\n&nbsp\;
ATTACH;FMTTYPE=image/jpeg:https://www.larevistadelapalma.com/wp-content/up
 loads/2025/02/Carnaval-Ocean-Drive.jpg
CATEGORIES:Festivales/Fiestas,Fiestas populares,Música,Otras propuestas
LOCATION:Playa de Puerto Naos\, Puerto Naos\, Los Llanos de Aridane \, 3876
 9\, España
GEO:28.587524;-17.910531
X-APPLE-STRUCTURED-LOCATION;VALUE=URI;X-ADDRESS=Puerto Naos\, Los Llanos de
  Aridane \, 38769\, España;X-APPLE-RADIUS=100;X-TITLE=Playa de Puerto Nao
 s:geo:28.587524,-17.910531
END:VEVENT
END:VCALENDAR