BEGIN:VCALENDAR
VERSION:2.0
PRODID:-//wp-events-plugin.com//7.2.3.1//EN
TZID:Europe/London
X-WR-TIMEZONE:Europe/London
BEGIN:VEVENT
UID:4556@larevistadelapalma.com
DTSTART:20260307T164500Z
DTEND:20260307T225900Z
DTSTAMP:20260303T223246Z
URL:https://www.larevistadelapalma.com/events/carnaval-marino-en-el-ocean-
 drive/
SUMMARY:Carnaval marino en el Ocean Drive
DESCRIPTION:¿Te quedaste con ganas de Carnaval? Pues el sábado 7 de marzo
  el Kiosco OceanDrive celebra una nueva edición del Carnaval Marino\, ven
 te disfrazado de cualquier cosa que tenga que ver con el mar\, la playa...
 y disfruta del único Carnaval en la arena.\n\nEstarán Grajasound y Dj Za
 pi.
ATTACH;FMTTYPE=image/jpeg:https://www.larevistadelapalma.com/wp-content/up
 loads/2026/03/3-7-carnaval-marino.jpg
CATEGORIES:Festivales/Fiestas,Fiestas populares,Música,Otras
 propuestas,Varios
LOCATION:Playa de Puerto Naos\, Puerto Naos\, Los Llanos de Aridane \, 3876
 9\, España
GEO:28.587524;-17.910531
X-APPLE-STRUCTURED-LOCATION;VALUE=URI;X-ADDRESS=Puerto Naos\, Los Llanos de
  Aridane \, 38769\, España;X-APPLE-RADIUS=100;X-TITLE=Playa de Puerto Nao
 s:geo:28.587524,-17.910531
END:VEVENT
END:VCALENDARBEGIN:VCALENDAR
VERSION:2.0
PRODID:-//wp-events-plugin.com//7.2.3.1//EN
TZID:Europe/London
X-WR-TIMEZONE:Europe/London
BEGIN:VEVENT
UID:4556@larevistadelapalma.com
DTSTART:20260307T164500Z
DTEND:20260307T225900Z
DTSTAMP:20260303T223246Z
URL:https://www.larevistadelapalma.com/events/carnaval-marino-en-el-ocean-
 drive/
SUMMARY:Carnaval marino en el Ocean Drive
DESCRIPTION:¿Te quedaste con ganas de Carnaval? Pues el sábado 7 de marzo
  el Kiosco OceanDrive celebra una nueva edición del Carnaval Marino\, ven
 te disfrazado de cualquier cosa que tenga que ver con el mar\, la playa...
 y disfruta del único Carnaval en la arena.\n\nEstarán Grajasound y Dj Za
 pi.
ATTACH;FMTTYPE=image/jpeg:https://www.larevistadelapalma.com/wp-content/up
 loads/2026/03/3-7-carnaval-marino.jpg
CATEGORIES:Festivales/Fiestas,Fiestas populares,Música,Otras
 propuestas,Varios
LOCATION:Playa de Puerto Naos\, Puerto Naos\, Los Llanos de Aridane \, 3876
 9\, España
GEO:28.587524;-17.910531
X-APPLE-STRUCTURED-LOCATION;VALUE=URI;X-ADDRESS=Puerto Naos\, Los Llanos de
  Aridane \, 38769\, España;X-APPLE-RADIUS=100;X-TITLE=Playa de Puerto Nao
 s:geo:28.587524,-17.910531
END:VEVENT
END:VCALENDAR