BEGIN:VCALENDAR
VERSION:2.0
PRODID:-//wp-events-plugin.com//7.2.3.1//EN
TZID:Europe/London
X-WR-TIMEZONE:Europe/London
BEGIN:VEVENT
UID:4545@larevistadelapalma.com
DTSTART:20260307T110000Z
DTEND:20260307T130000Z
DTSTAMP:20260303T195639Z
URL:https://www.larevistadelapalma.com/events/carrera-popular-igualdad/
SUMMARY:Carrera popular ‘Cada paso deja huella’
DESCRIPTION:El Cabildo organiza la carrera popular ‘Cada paso deja huella
 ’ para concienciar sobre la igualdad a través del deporte.\n\nLa inicia
 tiva está incluida en una amplia programación de actividades diseñada p
 ara conmemorar el Día Internacional de la Mujer.\n\nEl Cabildo de La Palm
 a organiza una carrera popular que se desarrolla bajo el lema ‘Cada paso
  deja huella’ para celebrar el Día Internacional de la Mujer y que est
 á incluida en un programa más amplio de actividades pensadas para concie
 nciar a la población en materia de igualdad\, en esta edición\, a travé
 s del deporte.  Todas las actividades están organizadas en colaboración
  con el Ayuntamiento de El Paso y cuentan con la financiación del Institu
 to Canario de Igualdad (ICI).\n\nLa carrera popular por la Igualdad que po
 drá realizarse individualmente o en equipos y consistirá en un circuito 
 de 500 metros en el que se darán cuatro vueltas\, completando un total de
  2 kilómetros. La salida está prevista a las 12:00 horas. Las personas i
 nteresadas podrán inscribirse de manera online hasta el jueves 5 de marzo
  a las 23:00 horas\, a través de este enlace.\n\nLa carrera forma parte d
 e la celebración central del programa\, que tendrá lugar el sábado 7 de
  marzo en El Paso en concreto en la Plaza Francisca Gazmira y sus alrededo
 res. Además ese mismo día también se desarrollarán actividades para to
 das las edades\, como diseño y elaboración de murales\, pintacaras y act
 ividades musicales.\n\nEn ese mismo lugar\, el viernes 6 de marzo\, en hor
 ario de tarde\, tendrá lugar una conferencia sobre el papel de la mujer e
 n el deporte\, que se titulará ‘Mismo recorrido\, mismas oportunidades
 ’. Posteriormente\, se hará entrega de los dorsales para la carrera pop
 ular que se podrán personalizar con mensajes de igualdad.\n\n&nbsp\;
ATTACH;FMTTYPE=image/jpeg:https://www.larevistadelapalma.com/wp-content/up
 loads/2026/03/8M-La-Palma.jpeg
CATEGORIES:Actividades deportivas,Otras propuestas
LOCATION:Municipio de El Paso\, El Paso\, La Palma \, El Paso\, 38750\, Esp
 aña
GEO:28.652378;-17.880396
X-APPLE-STRUCTURED-LOCATION;VALUE=URI;X-ADDRESS=El Paso\, La Palma \, El Pa
 so\, 38750\, España;X-APPLE-RADIUS=100;X-TITLE=Municipio de El Paso:geo:2
 8.652378,-17.880396
END:VEVENT
END:VCALENDARBEGIN:VCALENDAR
VERSION:2.0
PRODID:-//wp-events-plugin.com//7.2.3.1//EN
TZID:Europe/London
X-WR-TIMEZONE:Europe/London
BEGIN:VEVENT
UID:4545@larevistadelapalma.com
DTSTART:20260307T110000Z
DTEND:20260307T130000Z
DTSTAMP:20260303T195639Z
URL:https://www.larevistadelapalma.com/events/carrera-popular-igualdad/
SUMMARY:Carrera popular ‘Cada paso deja huella’
DESCRIPTION:El Cabildo organiza la carrera popular ‘Cada paso deja huella
 ’ para concienciar sobre la igualdad a través del deporte.\n\nLa inicia
 tiva está incluida en una amplia programación de actividades diseñada p
 ara conmemorar el Día Internacional de la Mujer.\n\nEl Cabildo de La Palm
 a organiza una carrera popular que se desarrolla bajo el lema ‘Cada paso
  deja huella’ para celebrar el Día Internacional de la Mujer y que est
 á incluida en un programa más amplio de actividades pensadas para concie
 nciar a la población en materia de igualdad\, en esta edición\, a travé
 s del deporte.  Todas las actividades están organizadas en colaboración
  con el Ayuntamiento de El Paso y cuentan con la financiación del Institu
 to Canario de Igualdad (ICI).\n\nLa carrera popular por la Igualdad que po
 drá realizarse individualmente o en equipos y consistirá en un circuito 
 de 500 metros en el que se darán cuatro vueltas\, completando un total de
  2 kilómetros. La salida está prevista a las 12:00 horas. Las personas i
 nteresadas podrán inscribirse de manera online hasta el jueves 5 de marzo
  a las 23:00 horas\, a través de este enlace.\n\nLa carrera forma parte d
 e la celebración central del programa\, que tendrá lugar el sábado 7 de
  marzo en El Paso en concreto en la Plaza Francisca Gazmira y sus alrededo
 res. Además ese mismo día también se desarrollarán actividades para to
 das las edades\, como diseño y elaboración de murales\, pintacaras y act
 ividades musicales.\n\nEn ese mismo lugar\, el viernes 6 de marzo\, en hor
 ario de tarde\, tendrá lugar una conferencia sobre el papel de la mujer e
 n el deporte\, que se titulará ‘Mismo recorrido\, mismas oportunidades
 ’. Posteriormente\, se hará entrega de los dorsales para la carrera pop
 ular que se podrán personalizar con mensajes de igualdad.\n\n&nbsp\;
ATTACH;FMTTYPE=image/jpeg:https://www.larevistadelapalma.com/wp-content/up
 loads/2026/03/8M-La-Palma.jpeg
CATEGORIES:Actividades deportivas,Otras propuestas
LOCATION:Municipio de El Paso\, El Paso\, La Palma \, El Paso\, 38750\, Esp
 aña
GEO:28.652378;-17.880396
X-APPLE-STRUCTURED-LOCATION;VALUE=URI;X-ADDRESS=El Paso\, La Palma \, El Pa
 so\, 38750\, España;X-APPLE-RADIUS=100;X-TITLE=Municipio de El Paso:geo:2
 8.652378,-17.880396
END:VEVENT
END:VCALENDAR