BEGIN:VCALENDAR
VERSION:2.0
PRODID:-//wp-events-plugin.com//7.2.3.1//EN
TZID:Europe/London
X-WR-TIMEZONE:Europe/London
BEGIN:VEVENT
UID:3422@larevistadelapalma.com
DTSTART:20241130T193000Z
DTEND:20241130T210000Z
DTSTAMP:20241126T121513Z
URL:https://www.larevistadelapalma.com/events/casablanca-la-isla-de-las-vo
 ces/
SUMMARY:La banda grancanaria Casablanca III actúa en el festival "La Isla 
 de las Voces"\, en Puntagorda
DESCRIPTION:La banda grancanaria Casablanca III actúa este sábado 30 de n
 oviembre en el festival "La Isla de las Voces"\, un encuentro artístico y
  literario que acoge el municipio Puntagorda. \n\nEl espacio "Comunidad 4
  Caminos"\, acogerá el concierto de Casablanca III dentro de la programa
 ción del festival "La Isla de las Voces". El trío subirá al escenario e
 ste sábado 30 de noviembre a la 20:30h\, entrada libre hasta completar af
 oro.\n\nCasablanca III abandera la neo-psicodelia desde Las Palmas de Gran
  Canaria\, construyen un viaje sonoro cargado de melodías hipnóticas\, p
 inceladas de shoegaze y una base rítmica influenciada por el space-rock y
  el krautrock. Bandas como Neu!\, The Exorcist CBG\, Moon Duo y Suicide fo
 rman parte de las influencias más palpables de Casablanca III.\n\nLa band
 a está formada por Ancor Casimiro a la batería\, Regina Antunez al bajo\
 , y Víctor Herrera a la guitarra. Recientemente han estado recorriendo la
 s principales salas de Las Palmas de Gran Canaria como Arequipa6 y Sala Fa
 ro\, con una muy buena acogida por parte del público que se deja llevar p
 or un viaje sonoro hipnótico.\n\nCasablanca III/badcamp&gt\;&gt\;
ATTACH;FMTTYPE=image/jpeg:https://www.larevistadelapalma.com/wp-content/up
 loads/2024/11/Casablanca-III-_-Promo-3.jpg
CATEGORIES:Conciertos,Música
LOCATION:Comunidad Cuatro Caminos\, Puntagorda\, 46 Cno. El Pinar\, Puntago
 rda\, 38789\, España
GEO:28.773885;-17.978138
X-APPLE-STRUCTURED-LOCATION;VALUE=URI;X-ADDRESS=46 Cno. El Pinar\, Puntagor
 da\, 38789\, España;X-APPLE-RADIUS=100;X-TITLE=Comunidad Cuatro Caminos\,
  Puntagorda:geo:28.773885,-17.978138
END:VEVENT
END:VCALENDARBEGIN:VCALENDAR
VERSION:2.0
PRODID:-//wp-events-plugin.com//7.2.3.1//EN
TZID:Europe/London
X-WR-TIMEZONE:Europe/London
BEGIN:VEVENT
UID:3422@larevistadelapalma.com
DTSTART:20241130T193000Z
DTEND:20241130T210000Z
DTSTAMP:20241126T121513Z
URL:https://www.larevistadelapalma.com/events/casablanca-la-isla-de-las-vo
 ces/
SUMMARY:La banda grancanaria Casablanca III actúa en el festival "La Isla 
 de las Voces"\, en Puntagorda
DESCRIPTION:La banda grancanaria Casablanca III actúa este sábado 30 de n
 oviembre en el festival "La Isla de las Voces"\, un encuentro artístico y
  literario que acoge el municipio Puntagorda. \n\nEl espacio "Comunidad 4
  Caminos"\, acogerá el concierto de Casablanca III dentro de la programa
 ción del festival "La Isla de las Voces". El trío subirá al escenario e
 ste sábado 30 de noviembre a la 20:30h\, entrada libre hasta completar af
 oro.\n\nCasablanca III abandera la neo-psicodelia desde Las Palmas de Gran
  Canaria\, construyen un viaje sonoro cargado de melodías hipnóticas\, p
 inceladas de shoegaze y una base rítmica influenciada por el space-rock y
  el krautrock. Bandas como Neu!\, The Exorcist CBG\, Moon Duo y Suicide fo
 rman parte de las influencias más palpables de Casablanca III.\n\nLa band
 a está formada por Ancor Casimiro a la batería\, Regina Antunez al bajo\
 , y Víctor Herrera a la guitarra. Recientemente han estado recorriendo la
 s principales salas de Las Palmas de Gran Canaria como Arequipa6 y Sala Fa
 ro\, con una muy buena acogida por parte del público que se deja llevar p
 or un viaje sonoro hipnótico.\n\nCasablanca III/badcamp&gt\;&gt\;
ATTACH;FMTTYPE=image/jpeg:https://www.larevistadelapalma.com/wp-content/up
 loads/2024/11/Casablanca-III-_-Promo-3.jpg
CATEGORIES:Conciertos,Música
LOCATION:Comunidad Cuatro Caminos\, Puntagorda\, 46 Cno. El Pinar\, Puntago
 rda\, 38789\, España
GEO:28.773885;-17.978138
X-APPLE-STRUCTURED-LOCATION;VALUE=URI;X-ADDRESS=46 Cno. El Pinar\, Puntagor
 da\, 38789\, España;X-APPLE-RADIUS=100;X-TITLE=Comunidad Cuatro Caminos\,
  Puntagorda:geo:28.773885,-17.978138
END:VEVENT
END:VCALENDAR