BEGIN:VCALENDAR
VERSION:2.0
PRODID:-//wp-events-plugin.com//7.2.3.1//EN
TZID:Europe/London
X-WR-TIMEZONE:Europe/London
BEGIN:VEVENT
UID:3279@larevistadelapalma.com
DTSTART:20241025T160000Z
DTEND:20241025T180000Z
DTSTAMP:20240925T175807Z
URL:https://www.larevistadelapalma.com/events/cata-en-tu-barrio-santa-rosa
 lia/
SUMMARY:‘Cata en Tu Barrio’: Santa Rosalía
DESCRIPTION:El Ayuntamiento de Villa de Mazo prosigue con el programa Cata 
 en Tu Barrio\, una iniciativa que busca poner en valor el trabajo de los v
 iticultores locales y promover el consumo del vino producido en el municip
 io.\n\nUnos encuentros que se realizan por distintos barrios de la Villa d
 e Mazo\, donde los asistentes pueden disfrutar de una jornada en la que se
  resalta la calidad del producto insular y el esfuerzo que implica su prod
 ucción.\n\nLa próxima cata se realizará en el barrio de Santa Rosalía\
 , en horario de 17:00 a 19:00 horas. El aforo será limitado\, por lo que 
 se recomienda a los interesados que reserven su plaza en el teléfono 9224
 40003 EXT 217.
ATTACH;FMTTYPE=image/jpeg:https://www.larevistadelapalma.com/wp-content/up
 loads/2024/09/Cata-en-tu-barrio-Mazo.jpg
CATEGORIES:Gastro,Otras propuestas
LOCATION:Municipio de Villa de Mazo\, Villa de Mazo\, Villa de Mazo\, 38730
 \, España
GEO:28.622071;-17.780675
X-APPLE-STRUCTURED-LOCATION;VALUE=URI;X-ADDRESS=Villa de Mazo\, Villa de Ma
 zo\, 38730\, España;X-APPLE-RADIUS=100;X-TITLE=Municipio de Villa de Mazo
 :geo:28.622071,-17.780675
END:VEVENT
END:VCALENDARBEGIN:VCALENDAR
VERSION:2.0
PRODID:-//wp-events-plugin.com//7.2.3.1//EN
TZID:Europe/London
X-WR-TIMEZONE:Europe/London
BEGIN:VEVENT
UID:3279@larevistadelapalma.com
DTSTART:20241025T160000Z
DTEND:20241025T180000Z
DTSTAMP:20240925T175807Z
URL:https://www.larevistadelapalma.com/events/cata-en-tu-barrio-santa-rosa
 lia/
SUMMARY:‘Cata en Tu Barrio’: Santa Rosalía
DESCRIPTION:El Ayuntamiento de Villa de Mazo prosigue con el programa Cata 
 en Tu Barrio\, una iniciativa que busca poner en valor el trabajo de los v
 iticultores locales y promover el consumo del vino producido en el municip
 io.\n\nUnos encuentros que se realizan por distintos barrios de la Villa d
 e Mazo\, donde los asistentes pueden disfrutar de una jornada en la que se
  resalta la calidad del producto insular y el esfuerzo que implica su prod
 ucción.\n\nLa próxima cata se realizará en el barrio de Santa Rosalía\
 , en horario de 17:00 a 19:00 horas. El aforo será limitado\, por lo que 
 se recomienda a los interesados que reserven su plaza en el teléfono 9224
 40003 EXT 217.
ATTACH;FMTTYPE=image/jpeg:https://www.larevistadelapalma.com/wp-content/up
 loads/2024/09/Cata-en-tu-barrio-Mazo.jpg
CATEGORIES:Gastro,Otras propuestas
LOCATION:Municipio de Villa de Mazo\, Villa de Mazo\, Villa de Mazo\, 38730
 \, España
GEO:28.622071;-17.780675
X-APPLE-STRUCTURED-LOCATION;VALUE=URI;X-ADDRESS=Villa de Mazo\, Villa de Ma
 zo\, 38730\, España;X-APPLE-RADIUS=100;X-TITLE=Municipio de Villa de Mazo
 :geo:28.622071,-17.780675
END:VEVENT
END:VCALENDAR