BEGIN:VCALENDAR
VERSION:2.0
PRODID:-//wp-events-plugin.com//7.2.3.1//EN
TZID:Europe/London
X-WR-TIMEZONE:Europe/London
BEGIN:VEVENT
UID:163@larevistadelapalma.com
DTSTART:20230718T170000Z
DTEND:20230718T183000Z
DTSTAMP:20230718T162044Z
URL:https://www.larevistadelapalma.com/events/cata-y-exposicion-de-pitayas
 -en-brena-baja/
SUMMARY:Cata y exposición de pitayas en Breña Baja
DESCRIPTION:* El Ayuntamiento de Breña Baja cancela los actos de las Fiest
 as de Santiago Apóstol y Santa Ana\, de esta semana\, ante la continuidad
  de la situación de emergencia en Nivel 2 por la Situación del Incendio 
 en la comarca Nor-Oeste de la isla.
ATTACH;FMTTYPE=image/jpeg:https://www.larevistadelapalma.com/wp-content/up
 loads/2023/07/Pitayas.jpg
CATEGORIES:Gastro,Otras propuestas
LOCATION:Plaza de las Madres\, San José\, Breña Baja\, 38712\, España
GEO:28.642202;-17.775828
X-APPLE-STRUCTURED-LOCATION;VALUE=URI;X-ADDRESS=San José\, Breña Baja\, 3
 8712\, España;X-APPLE-RADIUS=100;X-TITLE=Plaza de las Madres:geo:28.64220
 2,-17.775828
END:VEVENT
END:VCALENDARBEGIN:VCALENDAR
VERSION:2.0
PRODID:-//wp-events-plugin.com//7.2.3.1//EN
TZID:Europe/London
X-WR-TIMEZONE:Europe/London
BEGIN:VEVENT
UID:163@larevistadelapalma.com
DTSTART:20230718T170000Z
DTEND:20230718T183000Z
DTSTAMP:20230718T162044Z
URL:https://www.larevistadelapalma.com/events/cata-y-exposicion-de-pitayas
 -en-brena-baja/
SUMMARY:Cata y exposición de pitayas en Breña Baja
DESCRIPTION:* El Ayuntamiento de Breña Baja cancela los actos de las Fiest
 as de Santiago Apóstol y Santa Ana\, de esta semana\, ante la continuidad
  de la situación de emergencia en Nivel 2 por la Situación del Incendio 
 en la comarca Nor-Oeste de la isla.
ATTACH;FMTTYPE=image/jpeg:https://www.larevistadelapalma.com/wp-content/up
 loads/2023/07/Pitayas.jpg
CATEGORIES:Gastro,Otras propuestas
LOCATION:Plaza de las Madres\, San José\, Breña Baja\, 38712\, España
GEO:28.642202;-17.775828
X-APPLE-STRUCTURED-LOCATION;VALUE=URI;X-ADDRESS=San José\, Breña Baja\, 3
 8712\, España;X-APPLE-RADIUS=100;X-TITLE=Plaza de las Madres:geo:28.64220
 2,-17.775828
END:VEVENT
END:VCALENDAR