BEGIN:VCALENDAR
VERSION:2.0
PRODID:-//wp-events-plugin.com//7.2.3.1//EN
TZID:Europe/London
X-WR-TIMEZONE:Europe/London
BEGIN:VEVENT
UID:4537@larevistadelapalma.com
DTSTART;VALUE=DATE:20260223
DTEND;VALUE=DATE:20260328
DTSTAMP:20260223T135643Z
URL:https://www.larevistadelapalma.com/events/catalogo-de-especies-mab/
SUMMARY:El "Catálogo de Especies"\, de Naza Martín llega al MAB
DESCRIPTION:Hoy 23 de efebrero se inaugura en el Museo Arqueológico Benaho
 arita la muestra "Catálogo de Especies"\, un proyecto que une arte\, educ
 ación y sostenibilidad. \nImpulsado por la artista palmera Naza Martín j
 unto a la Reserva de la Biosfera La Palma. En él\, el alumnado puede imag
 inar criaturas marinas del futuro para reflexionar sobre el cambio climát
 ico a través del arte.\n“Catálogo de Especies” es una exposición q
 ue invita a imaginar el futuro de la biodiversidad marina a través del ar
 te. Creada por la artista Naza Martín (lamaquinacreadora)\, esta muestra 
 combina creatividad y ciencia para reflexionar sobre el impacto humano en 
 los ecosistemas.\nEsta exposición nos lleva a un universo donde las espec
 ies evolucionan para sobrevivir en un planeta en crisis. Es un proyecto qu
 e conecta el arte contemporáneo con el pensamiento ecológico\, la educac
 ión y la imaginación\, con un fuerte compromiso social y ambiental.\nEn 
 esta primera fase participan más de 500 estudiantes de Los Llanos de Arid
 ane. El proyecto continuará su recorrido por otros municipios de la Isla 
 durante 2026.\n\n 	 Lunes\, 23 de febrero-  09:00 h - Presentación del
  Proyecto "Catálogo de Especies" \n\n 
ATTACH;FMTTYPE=image/jpeg:https://www.larevistadelapalma.com/wp-content/up
 loads/2026/02/Naza-Martin-scaled.jpg
CATEGORIES:Exposiciones
LOCATION:Museo Arqueológico Benahoarita (MAB)\, Calle Las Adelfas\, Los Ll
 anos de Aridane\, 38760\, España
GEO:28.656757;-17.910203
X-APPLE-STRUCTURED-LOCATION;VALUE=URI;X-ADDRESS=Calle Las Adelfas\, Los Lla
 nos de Aridane\, 38760\, España;X-APPLE-RADIUS=100;X-TITLE=Museo Arqueol
 ógico Benahoarita (MAB):geo:28.656757,-17.910203
END:VEVENT
END:VCALENDARBEGIN:VCALENDAR
VERSION:2.0
PRODID:-//wp-events-plugin.com//7.2.3.1//EN
TZID:Europe/London
X-WR-TIMEZONE:Europe/London
BEGIN:VEVENT
UID:4537@larevistadelapalma.com
DTSTART;VALUE=DATE:20260223
DTEND;VALUE=DATE:20260328
DTSTAMP:20260223T135643Z
URL:https://www.larevistadelapalma.com/events/catalogo-de-especies-mab/
SUMMARY:El "Catálogo de Especies"\, de Naza Martín llega al MAB
DESCRIPTION:Hoy 23 de efebrero se inaugura en el Museo Arqueológico Benaho
 arita la muestra "Catálogo de Especies"\, un proyecto que une arte\, educ
 ación y sostenibilidad. \nImpulsado por la artista palmera Naza Martín j
 unto a la Reserva de la Biosfera La Palma. En él\, el alumnado puede imag
 inar criaturas marinas del futuro para reflexionar sobre el cambio climát
 ico a través del arte.\n“Catálogo de Especies” es una exposición q
 ue invita a imaginar el futuro de la biodiversidad marina a través del ar
 te. Creada por la artista Naza Martín (lamaquinacreadora)\, esta muestra 
 combina creatividad y ciencia para reflexionar sobre el impacto humano en 
 los ecosistemas.\nEsta exposición nos lleva a un universo donde las espec
 ies evolucionan para sobrevivir en un planeta en crisis. Es un proyecto qu
 e conecta el arte contemporáneo con el pensamiento ecológico\, la educac
 ión y la imaginación\, con un fuerte compromiso social y ambiental.\nEn 
 esta primera fase participan más de 500 estudiantes de Los Llanos de Arid
 ane. El proyecto continuará su recorrido por otros municipios de la Isla 
 durante 2026.\n\n 	 Lunes\, 23 de febrero-  09:00 h - Presentación del
  Proyecto "Catálogo de Especies" \n\n 
ATTACH;FMTTYPE=image/jpeg:https://www.larevistadelapalma.com/wp-content/up
 loads/2026/02/Naza-Martin-scaled.jpg
CATEGORIES:Exposiciones
LOCATION:Museo Arqueológico Benahoarita (MAB)\, Calle Las Adelfas\, Los Ll
 anos de Aridane\, 38760\, España
GEO:28.656757;-17.910203
X-APPLE-STRUCTURED-LOCATION;VALUE=URI;X-ADDRESS=Calle Las Adelfas\, Los Lla
 nos de Aridane\, 38760\, España;X-APPLE-RADIUS=100;X-TITLE=Museo Arqueol
 ógico Benahoarita (MAB):geo:28.656757,-17.910203
END:VEVENT
END:VCALENDAR