BEGIN:VCALENDAR
VERSION:2.0
PRODID:-//wp-events-plugin.com//7.2.3.1//EN
TZID:Europe/London
X-WR-TIMEZONE:Europe/London
BEGIN:VEVENT
UID:787@larevistadelapalma.com
DTSTART:20231031T170000Z
DTEND:20231031T194500Z
DTSTAMP:20231024T174601Z
URL:https://www.larevistadelapalma.com/events/celebracion-de-halloween-en-
 puntallana/
SUMMARY:Celebración de Halloween en Puntallana
DESCRIPTION:\nTalleres\, hinchables\, discoteca infantil...\nEl día 31\, t
 e esperan en Puntallana para pasar una tarde terrorífica.  Será a parti
 r de las 18:00h en la Plaza de San Juan.\n\n\n
ATTACH;FMTTYPE=image/jpeg:https://www.larevistadelapalma.com/wp-content/up
 loads/2023/10/Halloween-Puntallana.jpg
CATEGORIES:Fiestas populares,Otras propuestas
LOCATION:Plaza de San Juan en Puntallna\, Calle Constitución\, s/n\, Punta
 llana\, 38715\, España
GEO:28.739777;-17.745493
X-APPLE-STRUCTURED-LOCATION;VALUE=URI;X-ADDRESS=Calle Constitución\, s/n\,
  Puntallana\, 38715\, España;X-APPLE-RADIUS=100;X-TITLE=Plaza de San Juan
  en Puntallna:geo:28.739777,-17.745493
END:VEVENT
END:VCALENDARBEGIN:VCALENDAR
VERSION:2.0
PRODID:-//wp-events-plugin.com//7.2.3.1//EN
TZID:Europe/London
X-WR-TIMEZONE:Europe/London
BEGIN:VEVENT
UID:787@larevistadelapalma.com
DTSTART:20231031T170000Z
DTEND:20231031T194500Z
DTSTAMP:20231024T174601Z
URL:https://www.larevistadelapalma.com/events/celebracion-de-halloween-en-
 puntallana/
SUMMARY:Celebración de Halloween en Puntallana
DESCRIPTION:\nTalleres\, hinchables\, discoteca infantil...\nEl día 31\, t
 e esperan en Puntallana para pasar una tarde terrorífica.  Será a parti
 r de las 18:00h en la Plaza de San Juan.\n\n\n
ATTACH;FMTTYPE=image/jpeg:https://www.larevistadelapalma.com/wp-content/up
 loads/2023/10/Halloween-Puntallana.jpg
CATEGORIES:Fiestas populares,Otras propuestas
LOCATION:Plaza de San Juan en Puntallna\, Calle Constitución\, s/n\, Punta
 llana\, 38715\, España
GEO:28.739777;-17.745493
X-APPLE-STRUCTURED-LOCATION;VALUE=URI;X-ADDRESS=Calle Constitución\, s/n\,
  Puntallana\, 38715\, España;X-APPLE-RADIUS=100;X-TITLE=Plaza de San Juan
  en Puntallna:geo:28.739777,-17.745493
END:VEVENT
END:VCALENDAR