BEGIN:VCALENDAR
VERSION:2.0
PRODID:-//wp-events-plugin.com//7.2.3.1//EN
TZID:Europe/London
X-WR-TIMEZONE:Europe/London
BEGIN:VEVENT
UID:3642@larevistadelapalma.com
DTSTART:20250321T193000Z
DTEND:20250321T210000Z
DTSTAMP:20250311T201623Z
URL:https://www.larevistadelapalma.com/events/celebracion-y-gaudi-dance-ex
 perience/
SUMMARY:"Celebración " y "Gaudí dance experience"
DESCRIPTION:Es un viaje en retrospectiva que nos muestra algunas de las cor
 eografías más emblemáticas y representativas de la Compañía Ibérica 
 de Danza.\n\n1ª Parte:\n\nCELEBRACIÓN es un viaje en retrospectiva que n
 os muestra algunas de las coreografías más emblemáticas y representativ
 as de la Compañía Ibérica de Danza en estos 30 años de trayectoria pro
 fesional. Celebramos este aniversario con un recorrido por el universo cre
 ativo y la riqueza y diversidad de estilos que caracterizan y fundamentan 
 la compañía.\n\n2ª Parte\n\nGAUDÍ DANCE EXPERIENCE. La estética del e
 spectáculo nos sumerge en el rico lenguaje de la Danza Escénica Español
 a de código abierto en un relato con curiosos detalles de la vida y obra 
 de\neste extraordinario arquitecto y humanista que nos conducen a su inter
 ior místico y emocional y a un núcleo gaudiniano en una geometría coreo
 grafiada y orgánica con la armonía y misticismo\nque subyace en su obra.
  Un paso más en la trayectoria evolutiva de la compañía.\nComprar entra
 das &gt\;&gt\;
ATTACH;FMTTYPE=image/jpeg:https://www.larevistadelapalma.com/wp-content/up
 loads/2025/03/GAUDI-DANCE-EXPERIENCE.webp
CATEGORIES:Espectáculos
LOCATION:Teatro Circo de Marte\, Calle Virgen de La Luz\, 5\, Santa Cruz de
  La Palma\, 38700\, España
GEO:28.682989;-17.765755
X-APPLE-STRUCTURED-LOCATION;VALUE=URI;X-ADDRESS=Calle Virgen de La Luz\, 5\
 , Santa Cruz de La Palma\, 38700\, España;X-APPLE-RADIUS=100;X-TITLE=Teat
 ro Circo de Marte:geo:28.682989,-17.765755
END:VEVENT
END:VCALENDARBEGIN:VCALENDAR
VERSION:2.0
PRODID:-//wp-events-plugin.com//7.2.3.1//EN
TZID:Europe/London
X-WR-TIMEZONE:Europe/London
BEGIN:VEVENT
UID:3642@larevistadelapalma.com
DTSTART:20250321T193000Z
DTEND:20250321T210000Z
DTSTAMP:20250311T201623Z
URL:https://www.larevistadelapalma.com/events/celebracion-y-gaudi-dance-ex
 perience/
SUMMARY:"Celebración " y "Gaudí dance experience"
DESCRIPTION:Es un viaje en retrospectiva que nos muestra algunas de las cor
 eografías más emblemáticas y representativas de la Compañía Ibérica 
 de Danza.\n\n1ª Parte:\n\nCELEBRACIÓN es un viaje en retrospectiva que n
 os muestra algunas de las coreografías más emblemáticas y representativ
 as de la Compañía Ibérica de Danza en estos 30 años de trayectoria pro
 fesional. Celebramos este aniversario con un recorrido por el universo cre
 ativo y la riqueza y diversidad de estilos que caracterizan y fundamentan 
 la compañía.\n\n2ª Parte\n\nGAUDÍ DANCE EXPERIENCE. La estética del e
 spectáculo nos sumerge en el rico lenguaje de la Danza Escénica Español
 a de código abierto en un relato con curiosos detalles de la vida y obra 
 de\neste extraordinario arquitecto y humanista que nos conducen a su inter
 ior místico y emocional y a un núcleo gaudiniano en una geometría coreo
 grafiada y orgánica con la armonía y misticismo\nque subyace en su obra.
  Un paso más en la trayectoria evolutiva de la compañía.\nComprar entra
 das &gt\;&gt\;
ATTACH;FMTTYPE=image/jpeg:https://www.larevistadelapalma.com/wp-content/up
 loads/2025/03/GAUDI-DANCE-EXPERIENCE.webp
CATEGORIES:Espectáculos
LOCATION:Teatro Circo de Marte\, Calle Virgen de La Luz\, 5\, Santa Cruz de
  La Palma\, 38700\, España
GEO:28.682989;-17.765755
X-APPLE-STRUCTURED-LOCATION;VALUE=URI;X-ADDRESS=Calle Virgen de La Luz\, 5\
 , Santa Cruz de La Palma\, 38700\, España;X-APPLE-RADIUS=100;X-TITLE=Teat
 ro Circo de Marte:geo:28.682989,-17.765755
END:VEVENT
END:VCALENDAR