BEGIN:VCALENDAR
VERSION:2.0
PRODID:-//wp-events-plugin.com//7.2.3.1//EN
TZID:Europe/London
X-WR-TIMEZONE:Europe/London
BEGIN:VEVENT
UID:3643@larevistadelapalma.com
DTSTART:20250317T193000Z
DTEND:20250317T210000Z
DTSTAMP:20250313T154011Z
URL:https://www.larevistadelapalma.com/events/celestina-la-tragicomedia-te
 atro-circo-de-marte/
SUMMARY:"Celestina\, la tragicomedia"\, Teatro Circo de Marte
DESCRIPTION:Celestina\, la tragicomedia aborda la genial obra de Fernando d
 e Rojas desde una interpretación grotesca y del teatro de la crueldad.\n\
 nLos actores permanecen durante todo el espectáculo en escena\, bien enca
 rnando los personajes o bien configurando el ambiente escénico y sonoro.\
 n\nDestaca la riqueza de los coros que transportan al espectador al submun
 do de aquella época\, pero que bien pudieran ser de nuestros días. La ob
 sesión por el dinero y el fracaso del individualismo exacerbado resultan 
 tremendamente actuales. Celestina es el personaje femenino más fascinante
  de nuestra literatura. El humor\, el erotismo y los conflictos de clases 
 se dan cita en este apasionante texto que le viene a Atalaya como anillo a
 l dedo.\n\nTras estrenarse el 1 de marzo de 2012 en el Teatro Calderón de
  Valladolid\, Celestina\, la tragicomedia de Atalaya ha cosechado un gra
 n éxito en las numerosas ciudades en las que se ha representado. Destaca 
 su paso por el International Theatre Festival “Podmoskovnyye Vechera” 
 de Moscú el 11 de octubre de 2016. Allí la compañía Atalaya obtuvo con
  Celestina\, la tragicomedia el Premio al Mejor Espectáculo. Además\, 
 el día 13 del mismo mes actuó en el XXV Festival Don Quijote de París.\
 nCelestina\, la Tragicomedia es el espectáculo que más funciones ha real
 izado en los más de 40 años de giras de Atalaya: cerca de 300 funciones\
 ; habiendo recorrido once países de cinco continentes y consiguiendo nume
 rosos premios\, incluyendo los de mejor espectáculo en festivales de Mosc
 ú y de Canadá.\nComprar entradas&gt\;&gt\;\nTambién se pueden adquirir
  las entradas en taquilla\, del 13 al 15 de marzo de: 11:30 a 13:30 horas\
 , y el 17 de marzo de: 11:30 h. a 13:30 horas y de 19:30 a 20.30 horas. \
 n\n\n\n&nbsp\;
ATTACH;FMTTYPE=image/jpeg:https://www.larevistadelapalma.com/wp-content/up
 loads/2025/03/La-Celestina.webp
CATEGORIES:Espectáculos,Teatro
LOCATION:Teatro Circo de Marte\, Calle Virgen de La Luz\, 5\, Santa Cruz de
  La Palma\, 38700\, España
GEO:28.682989;-17.765755
X-APPLE-STRUCTURED-LOCATION;VALUE=URI;X-ADDRESS=Calle Virgen de La Luz\, 5\
 , Santa Cruz de La Palma\, 38700\, España;X-APPLE-RADIUS=100;X-TITLE=Teat
 ro Circo de Marte:geo:28.682989,-17.765755
END:VEVENT
END:VCALENDARBEGIN:VCALENDAR
VERSION:2.0
PRODID:-//wp-events-plugin.com//7.2.3.1//EN
TZID:Europe/London
X-WR-TIMEZONE:Europe/London
BEGIN:VEVENT
UID:3643@larevistadelapalma.com
DTSTART:20250317T193000Z
DTEND:20250317T210000Z
DTSTAMP:20250313T154011Z
URL:https://www.larevistadelapalma.com/events/celestina-la-tragicomedia-te
 atro-circo-de-marte/
SUMMARY:"Celestina\, la tragicomedia"\, Teatro Circo de Marte
DESCRIPTION:Celestina\, la tragicomedia aborda la genial obra de Fernando d
 e Rojas desde una interpretación grotesca y del teatro de la crueldad.\n\
 nLos actores permanecen durante todo el espectáculo en escena\, bien enca
 rnando los personajes o bien configurando el ambiente escénico y sonoro.\
 n\nDestaca la riqueza de los coros que transportan al espectador al submun
 do de aquella época\, pero que bien pudieran ser de nuestros días. La ob
 sesión por el dinero y el fracaso del individualismo exacerbado resultan 
 tremendamente actuales. Celestina es el personaje femenino más fascinante
  de nuestra literatura. El humor\, el erotismo y los conflictos de clases 
 se dan cita en este apasionante texto que le viene a Atalaya como anillo a
 l dedo.\n\nTras estrenarse el 1 de marzo de 2012 en el Teatro Calderón de
  Valladolid\, Celestina\, la tragicomedia de Atalaya ha cosechado un gra
 n éxito en las numerosas ciudades en las que se ha representado. Destaca 
 su paso por el International Theatre Festival “Podmoskovnyye Vechera” 
 de Moscú el 11 de octubre de 2016. Allí la compañía Atalaya obtuvo con
  Celestina\, la tragicomedia el Premio al Mejor Espectáculo. Además\, 
 el día 13 del mismo mes actuó en el XXV Festival Don Quijote de París.\
 nCelestina\, la Tragicomedia es el espectáculo que más funciones ha real
 izado en los más de 40 años de giras de Atalaya: cerca de 300 funciones\
 ; habiendo recorrido once países de cinco continentes y consiguiendo nume
 rosos premios\, incluyendo los de mejor espectáculo en festivales de Mosc
 ú y de Canadá.\nComprar entradas&gt\;&gt\;\nTambién se pueden adquirir
  las entradas en taquilla\, del 13 al 15 de marzo de: 11:30 a 13:30 horas\
 , y el 17 de marzo de: 11:30 h. a 13:30 horas y de 19:30 a 20.30 horas. \
 n\n\n\n&nbsp\;
ATTACH;FMTTYPE=image/jpeg:https://www.larevistadelapalma.com/wp-content/up
 loads/2025/03/La-Celestina.webp
CATEGORIES:Espectáculos,Teatro
LOCATION:Teatro Circo de Marte\, Calle Virgen de La Luz\, 5\, Santa Cruz de
  La Palma\, 38700\, España
GEO:28.682989;-17.765755
X-APPLE-STRUCTURED-LOCATION;VALUE=URI;X-ADDRESS=Calle Virgen de La Luz\, 5\
 , Santa Cruz de La Palma\, 38700\, España;X-APPLE-RADIUS=100;X-TITLE=Teat
 ro Circo de Marte:geo:28.682989,-17.765755
END:VEVENT
END:VCALENDAR