BEGIN:VCALENDAR
VERSION:2.0
PRODID:-//wp-events-plugin.com//7.2.3.1//EN
TZID:Europe/London
X-WR-TIMEZONE:Europe/London
BEGIN:VEVENT
UID:2713@larevistadelapalma.com
DTSTART:20240111T190000Z
DTEND:20240111T203000Z
DTSTAMP:20240108T145147Z
URL:https://www.larevistadelapalma.com/events/cesar-f-parker-love-songs/
SUMMARY:César F Parker love songs
DESCRIPTION:Este jueves 11 de enero\, música en vivo en La Luna de Los Lla
 nos de Aridane\, con César F Parker. \n\nHaz tu reserva al: 922 401 913\n
 \n&nbsp\;\n\nhttps://www.youtube.com/watch?v=HmkroNbVc1k\n\nhttps://www.yo
 utube.com/watch?v=vM_4Y_7cDTo
ATTACH;FMTTYPE=image/jpeg:https://www.larevistadelapalma.com/wp-content/up
 loads/2024/01/Cesar-F-Parker-en-La-Luna.jpg
CATEGORIES:Conciertos,Música
LOCATION:Tasca La Luna\, Los Llanos de Aridane\, Calle Fernández Taño\, 2
 6\, Los Llanos de Aridane\, 38760\, España
GEO:28.659228;-17.911527
X-APPLE-STRUCTURED-LOCATION;VALUE=URI;X-ADDRESS=Calle Fernández Taño\, 26
 \, Los Llanos de Aridane\, 38760\, España;X-APPLE-RADIUS=100;X-TITLE=Tasc
 a La Luna\, Los Llanos de Aridane:geo:28.659228,-17.911527
END:VEVENT
END:VCALENDARBEGIN:VCALENDAR
VERSION:2.0
PRODID:-//wp-events-plugin.com//7.2.3.1//EN
TZID:Europe/London
X-WR-TIMEZONE:Europe/London
BEGIN:VEVENT
UID:2713@larevistadelapalma.com
DTSTART:20240111T190000Z
DTEND:20240111T203000Z
DTSTAMP:20240108T145147Z
URL:https://www.larevistadelapalma.com/events/cesar-f-parker-love-songs/
SUMMARY:César F Parker love songs
DESCRIPTION:Este jueves 11 de enero\, música en vivo en La Luna de Los Lla
 nos de Aridane\, con César F Parker. \n\nHaz tu reserva al: 922 401 913\n
 \n&nbsp\;\n\nhttps://www.youtube.com/watch?v=HmkroNbVc1k\n\nhttps://www.yo
 utube.com/watch?v=vM_4Y_7cDTo
ATTACH;FMTTYPE=image/jpeg:https://www.larevistadelapalma.com/wp-content/up
 loads/2024/01/Cesar-F-Parker-en-La-Luna.jpg
CATEGORIES:Conciertos,Música
LOCATION:Tasca La Luna\, Los Llanos de Aridane\, Calle Fernández Taño\, 2
 6\, Los Llanos de Aridane\, 38760\, España
GEO:28.659228;-17.911527
X-APPLE-STRUCTURED-LOCATION;VALUE=URI;X-ADDRESS=Calle Fernández Taño\, 26
 \, Los Llanos de Aridane\, 38760\, España;X-APPLE-RADIUS=100;X-TITLE=Tasc
 a La Luna\, Los Llanos de Aridane:geo:28.659228,-17.911527
END:VEVENT
END:VCALENDAR