BEGIN:VCALENDAR
VERSION:2.0
PRODID:-//wp-events-plugin.com//7.2.3.1//EN
TZID:Europe/London
X-WR-TIMEZONE:Europe/London
BEGIN:VEVENT
UID:632@larevistadelapalma.com
DTSTART;VALUE=DATE:20230901
DTEND;VALUE=DATE:20230923
DTSTAMP:20230911T204048Z
URL:https://www.larevistadelapalma.com/events/cesteria-creaciones-salvajes
 /
SUMMARY:Creaciones salvajes: exposición de cestería y más\, en Las Trici
 as
DESCRIPTION:La sala de exposiciones de Las Tricias acoge una nueva propuest
 a expositiva. Mika Conception nos presenta sus "Creaciones salvajes"\, un
 a muestra de cestería y otros objetos elaborados con distintas fibras nat
 urales.\nTiene como invitada a la artista Nami en Wonderland.
ATTACH;FMTTYPE=image/jpeg:https://www.larevistadelapalma.com/wp-content/up
 loads/2023/08/Creaciones-salvajes-cesteria-y-mas-expo-1.jpg
CATEGORIES:Exposiciones
LOCATION:Sala de Exposiciones Las Tricias\, Casa Los Barreros. Plaza José 
 Mata\, Las Tricias s/n\, Garafía\, 38787 \, España
GEO:28.781121;-17.963295
X-APPLE-STRUCTURED-LOCATION;VALUE=URI;X-ADDRESS=Casa Los Barreros. Plaza Jo
 sé Mata\, Las Tricias s/n\, Garafía\, 38787 \, España;X-APPLE-RADIUS=10
 0;X-TITLE=Sala de Exposiciones Las Tricias:geo:28.781121,-17.963295
END:VEVENT
END:VCALENDARBEGIN:VCALENDAR
VERSION:2.0
PRODID:-//wp-events-plugin.com//7.2.3.1//EN
TZID:Europe/London
X-WR-TIMEZONE:Europe/London
BEGIN:VEVENT
UID:632@larevistadelapalma.com
DTSTART;VALUE=DATE:20230901
DTEND;VALUE=DATE:20230923
DTSTAMP:20230911T204048Z
URL:https://www.larevistadelapalma.com/events/cesteria-creaciones-salvajes
 /
SUMMARY:Creaciones salvajes: exposición de cestería y más\, en Las Trici
 as
DESCRIPTION:La sala de exposiciones de Las Tricias acoge una nueva propuest
 a expositiva. Mika Conception nos presenta sus "Creaciones salvajes"\, un
 a muestra de cestería y otros objetos elaborados con distintas fibras nat
 urales.\nTiene como invitada a la artista Nami en Wonderland.
ATTACH;FMTTYPE=image/jpeg:https://www.larevistadelapalma.com/wp-content/up
 loads/2023/08/Creaciones-salvajes-cesteria-y-mas-expo-1.jpg
CATEGORIES:Exposiciones
LOCATION:Sala de Exposiciones Las Tricias\, Casa Los Barreros. Plaza José 
 Mata\, Las Tricias s/n\, Garafía\, 38787 \, España
GEO:28.781121;-17.963295
X-APPLE-STRUCTURED-LOCATION;VALUE=URI;X-ADDRESS=Casa Los Barreros. Plaza Jo
 sé Mata\, Las Tricias s/n\, Garafía\, 38787 \, España;X-APPLE-RADIUS=10
 0;X-TITLE=Sala de Exposiciones Las Tricias:geo:28.781121,-17.963295
END:VEVENT
END:VCALENDAR