BEGIN:VCALENDAR
VERSION:2.0
PRODID:-//wp-events-plugin.com//7.2.3.1//EN
TZID:Europe/London
X-WR-TIMEZONE:Europe/London
BEGIN:VEVENT
UID:12@larevistadelapalma.com
DTSTART:20230714T180000Z
DTEND:20230714T190000Z
DTSTAMP:20230621T163921Z
URL:https://www.larevistadelapalma.com/events/charla-calidad-de-vida/
SUMMARY:Charla "Leyes y principios para ganar calidad de vida y vida a los 
 años"
DESCRIPTION:El Dr. Santiago Marrero Núñez\, que cuenta con una gran traye
 ctoria como médico e investigador ofrece una charla sobre los principios 
 para ganar longevidad y calidad de vida\; reduciendo así la aparición de
  enfermedad.
ATTACH;FMTTYPE=image/jpeg:https://www.larevistadelapalma.com/wp-content/up
 loads/2023/06/charla-salud-Marrero.jpg
CATEGORIES:Formación,Otras propuestas
LOCATION:Real Sociedad Cosmológica\, C. Van de Walle\, 6\, Santa Cruz de l
 a Palma\, Santa Cruz de Tenerife\, 38700\, España
GEO:28.683437;-17.765238
X-APPLE-STRUCTURED-LOCATION;VALUE=URI;X-ADDRESS=C. Van de Walle\, 6\, Santa
  Cruz de la Palma\, Santa Cruz de Tenerife\, 38700\, España;X-APPLE-RADIU
 S=100;X-TITLE=Real Sociedad Cosmológica:geo:28.683437,-17.765238
END:VEVENT
END:VCALENDARBEGIN:VCALENDAR
VERSION:2.0
PRODID:-//wp-events-plugin.com//7.2.3.1//EN
TZID:Europe/London
X-WR-TIMEZONE:Europe/London
BEGIN:VEVENT
UID:12@larevistadelapalma.com
DTSTART:20230714T180000Z
DTEND:20230714T190000Z
DTSTAMP:20230621T163921Z
URL:https://www.larevistadelapalma.com/events/charla-calidad-de-vida/
SUMMARY:Charla "Leyes y principios para ganar calidad de vida y vida a los 
 años"
DESCRIPTION:El Dr. Santiago Marrero Núñez\, que cuenta con una gran traye
 ctoria como médico e investigador ofrece una charla sobre los principios 
 para ganar longevidad y calidad de vida\; reduciendo así la aparición de
  enfermedad.
ATTACH;FMTTYPE=image/jpeg:https://www.larevistadelapalma.com/wp-content/up
 loads/2023/06/charla-salud-Marrero.jpg
CATEGORIES:Formación,Otras propuestas
LOCATION:Real Sociedad Cosmológica\, C. Van de Walle\, 6\, Santa Cruz de l
 a Palma\, Santa Cruz de Tenerife\, 38700\, España
GEO:28.683437;-17.765238
X-APPLE-STRUCTURED-LOCATION;VALUE=URI;X-ADDRESS=C. Van de Walle\, 6\, Santa
  Cruz de la Palma\, Santa Cruz de Tenerife\, 38700\, España;X-APPLE-RADIU
 S=100;X-TITLE=Real Sociedad Cosmológica:geo:28.683437,-17.765238
END:VEVENT
END:VCALENDAR