BEGIN:VCALENDAR
VERSION:2.0
PRODID:-//wp-events-plugin.com//7.2.3.1//EN
TZID:Europe/London
X-WR-TIMEZONE:Europe/London
BEGIN:VEVENT
UID:3955@larevistadelapalma.com
DTSTART:20250905T180000Z
DTEND:20250905T225900Z
DTSTAMP:20250904T215956Z
URL:https://www.larevistadelapalma.com/events/cierre-de-temporada-en-el-oc
 ean-drive/
SUMMARY:Cierre de temporada en el Ocean Drive
DESCRIPTION:El viernes 5 de septiembre celebramos el cierre de la temporada
  veraniega en el kiosco Ocean. Un año más los viernes del Ocean han sido
  la cita ineludible del verano palmero con la increíble puesta de Sol del
  Valle\, las buenas vibras y la diversión asegurada con la mejor música 
 de La Palma.\n\nPara el último día cuentan con  Sistah Vibes aterrizand
 o del Rototom Sunsplash y el Tropicalia\, Elvira\, Dj Zapi y  Grajasound.
ATTACH;FMTTYPE=image/jpeg:https://www.larevistadelapalma.com/wp-content/up
 loads/2025/09/Cierre-verano-Ocean-Drive.png
CATEGORIES:Festivales/Fiestas,Música
LOCATION:Playa de Puerto Naos\, Puerto Naos\, Los Llanos de Aridane \, 3876
 9\, España
GEO:28.587524;-17.910531
X-APPLE-STRUCTURED-LOCATION;VALUE=URI;X-ADDRESS=Puerto Naos\, Los Llanos de
  Aridane \, 38769\, España;X-APPLE-RADIUS=100;X-TITLE=Playa de Puerto Nao
 s:geo:28.587524,-17.910531
END:VEVENT
END:VCALENDARBEGIN:VCALENDAR
VERSION:2.0
PRODID:-//wp-events-plugin.com//7.2.3.1//EN
TZID:Europe/London
X-WR-TIMEZONE:Europe/London
BEGIN:VEVENT
UID:3955@larevistadelapalma.com
DTSTART:20250905T180000Z
DTEND:20250905T225900Z
DTSTAMP:20250904T215956Z
URL:https://www.larevistadelapalma.com/events/cierre-de-temporada-en-el-oc
 ean-drive/
SUMMARY:Cierre de temporada en el Ocean Drive
DESCRIPTION:El viernes 5 de septiembre celebramos el cierre de la temporada
  veraniega en el kiosco Ocean. Un año más los viernes del Ocean han sido
  la cita ineludible del verano palmero con la increíble puesta de Sol del
  Valle\, las buenas vibras y la diversión asegurada con la mejor música 
 de La Palma.\n\nPara el último día cuentan con  Sistah Vibes aterrizand
 o del Rototom Sunsplash y el Tropicalia\, Elvira\, Dj Zapi y  Grajasound.
ATTACH;FMTTYPE=image/jpeg:https://www.larevistadelapalma.com/wp-content/up
 loads/2025/09/Cierre-verano-Ocean-Drive.png
CATEGORIES:Festivales/Fiestas,Música
LOCATION:Playa de Puerto Naos\, Puerto Naos\, Los Llanos de Aridane \, 3876
 9\, España
GEO:28.587524;-17.910531
X-APPLE-STRUCTURED-LOCATION;VALUE=URI;X-ADDRESS=Puerto Naos\, Los Llanos de
  Aridane \, 38769\, España;X-APPLE-RADIUS=100;X-TITLE=Playa de Puerto Nao
 s:geo:28.587524,-17.910531
END:VEVENT
END:VCALENDAR