BEGIN:VCALENDAR
VERSION:2.0
PRODID:-//wp-events-plugin.com//7.2.3.1//EN
TZID:Europe/London
X-WR-TIMEZONE:Europe/London
BEGIN:VEVENT
UID:3105@larevistadelapalma.com
DTSTART:20240725T200000Z
DTEND:20240725T213000Z
DTSTAMP:20240705T195342Z
URL:https://www.larevistadelapalma.com/events/cine-de-verano-en-tijarafe-f
 lash/
SUMMARY:Cine de verano en Tijarafe: «Flash»
DESCRIPTION:Tijarafe sigue con el ciclo de cine de verano\, este jueves\, s
 e proyecta «Flash».
ATTACH;FMTTYPE=image/jpeg:https://www.larevistadelapalma.com/wp-content/up
 loads/2024/07/the_flash-205686824-large.jpg
CATEGORIES:Cine,Cine y Literatura
LOCATION:Municipio de Tijarafe\, Municipio de Tijarafe\, Tijarafe\, 38780\,
  España
GEO:28.711091;-17.956181
X-APPLE-STRUCTURED-LOCATION;VALUE=URI;X-ADDRESS=Municipio de Tijarafe\, Tij
 arafe\, 38780\, España;X-APPLE-RADIUS=100;X-TITLE=Municipio de Tijarafe:g
 eo:28.711091,-17.956181
END:VEVENT
END:VCALENDARBEGIN:VCALENDAR
VERSION:2.0
PRODID:-//wp-events-plugin.com//7.2.3.1//EN
TZID:Europe/London
X-WR-TIMEZONE:Europe/London
BEGIN:VEVENT
UID:3105@larevistadelapalma.com
DTSTART:20240725T200000Z
DTEND:20240725T213000Z
DTSTAMP:20240705T195342Z
URL:https://www.larevistadelapalma.com/events/cine-de-verano-en-tijarafe-f
 lash/
SUMMARY:Cine de verano en Tijarafe: «Flash»
DESCRIPTION:Tijarafe sigue con el ciclo de cine de verano\, este jueves\, s
 e proyecta «Flash».
ATTACH;FMTTYPE=image/jpeg:https://www.larevistadelapalma.com/wp-content/up
 loads/2024/07/the_flash-205686824-large.jpg
CATEGORIES:Cine,Cine y Literatura
LOCATION:Municipio de Tijarafe\, Municipio de Tijarafe\, Tijarafe\, 38780\,
  España
GEO:28.711091;-17.956181
X-APPLE-STRUCTURED-LOCATION;VALUE=URI;X-ADDRESS=Municipio de Tijarafe\, Tij
 arafe\, 38780\, España;X-APPLE-RADIUS=100;X-TITLE=Municipio de Tijarafe:g
 eo:28.711091,-17.956181
END:VEVENT
END:VCALENDAR