BEGIN:VCALENDAR
VERSION:2.0
PRODID:-//wp-events-plugin.com//7.2.3.1//EN
TZID:Europe/London
X-WR-TIMEZONE:Europe/London
BEGIN:VEVENT
UID:3562@larevistadelapalma.com
DTSTART:20250124T173000Z
DTEND:20250124T190000Z
DTSTAMP:20250123T212804Z
URL:https://www.larevistadelapalma.com/events/cine-en-la-biblio-de-tijaraf
 e-nosferatu/
SUMMARY:Cine en la biblio de Tijarafe - “Nosferatu”
DESCRIPTION:Nosferatu fue la primera adaptación de la novela “Drácula
 ” de Bram Stoker\, pero al no ser autorizada\, la viuda del escritor con
 siguió destruir casi todas las copias de la cinta\, tras lo cual se convi
 rtió en un mito del cine expresionista alemán. En ella\, Murnau desplieg
 a todos los recursos cinematográficos disponibles hasta la fecha para con
 struir el relato de una pesadilla. No en vano\, el título completo es “
 Nosferatu: una sinfonía de horrores”.
ATTACH;FMTTYPE=image/jpeg:https://www.larevistadelapalma.com/wp-content/up
 loads/2025/01/nosferatu-Tijarafe.jpg
CATEGORIES:Cine,Cine y Literatura
LOCATION:Biblioteca Municipal de Tijarafe\, C. Real\, 4\, Tijarafe\, 38780\
 , España
GEO:28.710961;-17.955715
X-APPLE-STRUCTURED-LOCATION;VALUE=URI;X-ADDRESS=C. Real\, 4\, Tijarafe\, 38
 780\, España;X-APPLE-RADIUS=100;X-TITLE=Biblioteca Municipal de Tijarafe:
 geo:28.710961,-17.955715
END:VEVENT
END:VCALENDARBEGIN:VCALENDAR
VERSION:2.0
PRODID:-//wp-events-plugin.com//7.2.3.1//EN
TZID:Europe/London
X-WR-TIMEZONE:Europe/London
BEGIN:VEVENT
UID:3562@larevistadelapalma.com
DTSTART:20250124T173000Z
DTEND:20250124T190000Z
DTSTAMP:20250123T212804Z
URL:https://www.larevistadelapalma.com/events/cine-en-la-biblio-de-tijaraf
 e-nosferatu/
SUMMARY:Cine en la biblio de Tijarafe - “Nosferatu”
DESCRIPTION:Nosferatu fue la primera adaptación de la novela “Drácula
 ” de Bram Stoker\, pero al no ser autorizada\, la viuda del escritor con
 siguió destruir casi todas las copias de la cinta\, tras lo cual se convi
 rtió en un mito del cine expresionista alemán. En ella\, Murnau desplieg
 a todos los recursos cinematográficos disponibles hasta la fecha para con
 struir el relato de una pesadilla. No en vano\, el título completo es “
 Nosferatu: una sinfonía de horrores”.
ATTACH;FMTTYPE=image/jpeg:https://www.larevistadelapalma.com/wp-content/up
 loads/2025/01/nosferatu-Tijarafe.jpg
CATEGORIES:Cine,Cine y Literatura
LOCATION:Biblioteca Municipal de Tijarafe\, C. Real\, 4\, Tijarafe\, 38780\
 , España
GEO:28.710961;-17.955715
X-APPLE-STRUCTURED-LOCATION;VALUE=URI;X-ADDRESS=C. Real\, 4\, Tijarafe\, 38
 780\, España;X-APPLE-RADIUS=100;X-TITLE=Biblioteca Municipal de Tijarafe:
 geo:28.710961,-17.955715
END:VEVENT
END:VCALENDAR