BEGIN:VCALENDAR
VERSION:2.0
PRODID:-//wp-events-plugin.com//7.2.3.1//EN
TZID:Europe/London
X-WR-TIMEZONE:Europe/London
BEGIN:VEVENT
UID:3582@larevistadelapalma.com
DTSTART:20250207T173000Z
DTEND:20250207T190000Z
DTSTAMP:20250203T214818Z
URL:https://www.larevistadelapalma.com/events/cine-en-tijarafe-el-gabinete
 -del-doctor-caligari/
SUMMARY:Cine en Tijarafe: “El gabinete del doctor Caligari”.
DESCRIPTION:Cine en la biblio - “El gabinete del doctor Caligari”\nRobe
 rt Wiene\, 1920. 70 minutos.\n“El gabinete del doctor Caligari”\, estr
 enada en 1920\, es una película incalificable\, un prodigio visual y un g
 uion rico en matices y en interpretaciones. Narrado como una pesadilla o c
 omo la historia imaginada por un loco\, se ha visto en ella una crítica p
 acifista a la autoridad desatada que llevó a Alemania al desastre entre 1
 914 y 1919.\nSentado en un banco de un parque\, Francis anima a su compañ
 ero Alan para que vayan a Holstenwall\, una ciudad del norte de Alemania\,
  a ver el espectáculo ambulante del doctor Caligari. Un empleado municipa
 l que le niega al doctor el permiso para actuar\, aparece asesinado al dí
 a siguiente. Francis y Alan acuden a ver al doctor Caligari y a Cesare\, s
 u ayudante sonámbulo\, que le anuncia a Alan su porvenir: vivirá hasta e
 l amanecer.\n
ATTACH;FMTTYPE=image/jpeg:https://www.larevistadelapalma.com/wp-content/up
 loads/2025/02/El-gabinete-del-doctor-Caligari.jpg
CATEGORIES:Cine,Cine y Literatura
LOCATION:Biblioteca Municipal de Tijarafe\, C. Real\, 4\, Tijarafe\, 38780\
 , España
GEO:28.710961;-17.955715
X-APPLE-STRUCTURED-LOCATION;VALUE=URI;X-ADDRESS=C. Real\, 4\, Tijarafe\, 38
 780\, España;X-APPLE-RADIUS=100;X-TITLE=Biblioteca Municipal de Tijarafe:
 geo:28.710961,-17.955715
END:VEVENT
END:VCALENDARBEGIN:VCALENDAR
VERSION:2.0
PRODID:-//wp-events-plugin.com//7.2.3.1//EN
TZID:Europe/London
X-WR-TIMEZONE:Europe/London
BEGIN:VEVENT
UID:3582@larevistadelapalma.com
DTSTART:20250207T173000Z
DTEND:20250207T190000Z
DTSTAMP:20250203T214818Z
URL:https://www.larevistadelapalma.com/events/cine-en-tijarafe-el-gabinete
 -del-doctor-caligari/
SUMMARY:Cine en Tijarafe: “El gabinete del doctor Caligari”.
DESCRIPTION:Cine en la biblio - “El gabinete del doctor Caligari”\nRobe
 rt Wiene\, 1920. 70 minutos.\n“El gabinete del doctor Caligari”\, estr
 enada en 1920\, es una película incalificable\, un prodigio visual y un g
 uion rico en matices y en interpretaciones. Narrado como una pesadilla o c
 omo la historia imaginada por un loco\, se ha visto en ella una crítica p
 acifista a la autoridad desatada que llevó a Alemania al desastre entre 1
 914 y 1919.\nSentado en un banco de un parque\, Francis anima a su compañ
 ero Alan para que vayan a Holstenwall\, una ciudad del norte de Alemania\,
  a ver el espectáculo ambulante del doctor Caligari. Un empleado municipa
 l que le niega al doctor el permiso para actuar\, aparece asesinado al dí
 a siguiente. Francis y Alan acuden a ver al doctor Caligari y a Cesare\, s
 u ayudante sonámbulo\, que le anuncia a Alan su porvenir: vivirá hasta e
 l amanecer.\n
ATTACH;FMTTYPE=image/jpeg:https://www.larevistadelapalma.com/wp-content/up
 loads/2025/02/El-gabinete-del-doctor-Caligari.jpg
CATEGORIES:Cine,Cine y Literatura
LOCATION:Biblioteca Municipal de Tijarafe\, C. Real\, 4\, Tijarafe\, 38780\
 , España
GEO:28.710961;-17.955715
X-APPLE-STRUCTURED-LOCATION;VALUE=URI;X-ADDRESS=C. Real\, 4\, Tijarafe\, 38
 780\, España;X-APPLE-RADIUS=100;X-TITLE=Biblioteca Municipal de Tijarafe:
 geo:28.710961,-17.955715
END:VEVENT
END:VCALENDAR