BEGIN:VCALENDAR
VERSION:2.0
PRODID:-//wp-events-plugin.com//7.2.3.1//EN
TZID:Europe/London
X-WR-TIMEZONE:Europe/London
BEGIN:VEVENT
UID:753@larevistadelapalma.com
DTSTART:20231014T170000Z
DTEND:20231014T170000Z
DTSTAMP:20231010T235356Z
URL:https://www.larevistadelapalma.com/events/cine-forum-en-mazo/
SUMMARY:Cine-fórum en Mazo\, con la película ‘El país de las maravilla
 s’
DESCRIPTION:\nEl Ayuntamiento de Villa de Mazo organiza un cine-fórum de s
 ensibilización en torno a la película italiana ‘El país de las maravi
 llas’ el próximo sábado 14 de octubre\, a las 18:00 horas\, en el Cent
 ro de la Cultura Andares. Este acto se enmarca dentro de las múltiples ac
 tividades del proyecto de Coaching para la igualdad ‘Quiérete bien y ac
 ertarás’.\n\n\nAdemás\, se produce con motivo de la celebración del D
 ía de la Mujer Rural\, el 15 de octubre.\n\n\nLa cita será de carácter 
 gratuito y tras ella se llevará a cabo un coloquio de la mano de la coach
  Dévora Viña Carrascoso\, responsable de Tu Coach en La Palma\, y del cr
 ítico de cine Adrián González Viña.\n\n\n\n\nLos interesados deberán 
 inscribirse llamando al número 676152803.\n\n\n\nEL PAÍS DE LAS MARAVILL
 AS \nEscrita y dirigida por la nominada al Oscar Alice Rohrwacher\, y pro
 tagonizada por Maria Alexandra Lungu\, Agnese Graziani\, Sam Louwyck\, Alb
 a Rohrwacher\, Sabine Timoteo y Monica Bellucci.\nEl film relata la histor
 ia de la joven Gelsomina\, que vive con sus padres y sus tres hermanas peq
 ueñas en una granja destartalada de Umbria (Italia)\, donde producen miel
 .\nLas chicas crecen al margen de la sociedad\, pues su padre\, que cree q
 ue se acerca el fin del mundo\, prefiere que estén en contacto con la nat
 uraleza. Sin embargo\, las estrictas reglas que mantienen unida la familia
  se relajan con la llegada de Martin\, un joven alemán enviado allí para
  seguir un programa de reinserción\, y el descubrimiento por parte de las
  jóvenes de un concurso de televisión que se difunde por la comarca.\nht
 tps://www.youtube.com/watch?v=7pJE7CwmSGM\n\n
ATTACH;FMTTYPE=image/jpeg:https://www.larevistadelapalma.com/wp-content/up
 loads/2023/10/Cine-forum-mazo.jpg
CATEGORIES:Cine,Cine y Literatura
LOCATION:Centro de la Cultura Andares\, Ctra. Dr. Morera Bravo\, 2. El Pueb
 lo.\, Villa de Mazo\, 38730\, España
GEO:28.604882;-17.777431
X-APPLE-STRUCTURED-LOCATION;VALUE=URI;X-ADDRESS=Ctra. Dr. Morera Bravo\, 2.
  El Pueblo.\, Villa de Mazo\, 38730\, España;X-APPLE-RADIUS=100;X-TITLE=C
 entro de la Cultura Andares:geo:28.604882,-17.777431
END:VEVENT
END:VCALENDARBEGIN:VCALENDAR
VERSION:2.0
PRODID:-//wp-events-plugin.com//7.2.3.1//EN
TZID:Europe/London
X-WR-TIMEZONE:Europe/London
BEGIN:VEVENT
UID:753@larevistadelapalma.com
DTSTART:20231014T170000Z
DTEND:20231014T170000Z
DTSTAMP:20231010T235356Z
URL:https://www.larevistadelapalma.com/events/cine-forum-en-mazo/
SUMMARY:Cine-fórum en Mazo\, con la película ‘El país de las maravilla
 s’
DESCRIPTION:\nEl Ayuntamiento de Villa de Mazo organiza un cine-fórum de s
 ensibilización en torno a la película italiana ‘El país de las maravi
 llas’ el próximo sábado 14 de octubre\, a las 18:00 horas\, en el Cent
 ro de la Cultura Andares. Este acto se enmarca dentro de las múltiples ac
 tividades del proyecto de Coaching para la igualdad ‘Quiérete bien y ac
 ertarás’.\n\n\nAdemás\, se produce con motivo de la celebración del D
 ía de la Mujer Rural\, el 15 de octubre.\n\n\nLa cita será de carácter 
 gratuito y tras ella se llevará a cabo un coloquio de la mano de la coach
  Dévora Viña Carrascoso\, responsable de Tu Coach en La Palma\, y del cr
 ítico de cine Adrián González Viña.\n\n\n\n\nLos interesados deberán 
 inscribirse llamando al número 676152803.\n\n\n\nEL PAÍS DE LAS MARAVILL
 AS \nEscrita y dirigida por la nominada al Oscar Alice Rohrwacher\, y pro
 tagonizada por Maria Alexandra Lungu\, Agnese Graziani\, Sam Louwyck\, Alb
 a Rohrwacher\, Sabine Timoteo y Monica Bellucci.\nEl film relata la histor
 ia de la joven Gelsomina\, que vive con sus padres y sus tres hermanas peq
 ueñas en una granja destartalada de Umbria (Italia)\, donde producen miel
 .\nLas chicas crecen al margen de la sociedad\, pues su padre\, que cree q
 ue se acerca el fin del mundo\, prefiere que estén en contacto con la nat
 uraleza. Sin embargo\, las estrictas reglas que mantienen unida la familia
  se relajan con la llegada de Martin\, un joven alemán enviado allí para
  seguir un programa de reinserción\, y el descubrimiento por parte de las
  jóvenes de un concurso de televisión que se difunde por la comarca.\nht
 tps://www.youtube.com/watch?v=7pJE7CwmSGM\n\n
ATTACH;FMTTYPE=image/jpeg:https://www.larevistadelapalma.com/wp-content/up
 loads/2023/10/Cine-forum-mazo.jpg
CATEGORIES:Cine,Cine y Literatura
LOCATION:Centro de la Cultura Andares\, Ctra. Dr. Morera Bravo\, 2. El Pueb
 lo.\, Villa de Mazo\, 38730\, España
GEO:28.604882;-17.777431
X-APPLE-STRUCTURED-LOCATION;VALUE=URI;X-ADDRESS=Ctra. Dr. Morera Bravo\, 2.
  El Pueblo.\, Villa de Mazo\, 38730\, España;X-APPLE-RADIUS=100;X-TITLE=C
 entro de la Cultura Andares:geo:28.604882,-17.777431
END:VEVENT
END:VCALENDAR