BEGIN:VCALENDAR
VERSION:2.0
PRODID:-//wp-events-plugin.com//7.2.3.1//EN
TZID:Europe/London
X-WR-TIMEZONE:Europe/London
BEGIN:VEVENT
UID:3079@larevistadelapalma.com
DTSTART;VALUE=DATE:20240620
DTEND;VALUE=DATE:20240621
DTSTAMP:20240618T185825Z
URL:https://www.larevistadelapalma.com/events/clases-de-robotica-avanzada-
 en-brena-baja/
SUMMARY:Clases de Robótica avanzada en Breña Baja
DESCRIPTION:A partir de este jueves 20 de junio y durante los meses de juli
 o y agosto Roobotic Education organiza clases de “Robótica Avanzada” 
 en el Centro Social de la Mujer de San Antonio\, en horario de tarde\, dos
  veces por semana según los grupos que se formaran por edades. Cuenta con
  la colaboración del Ayuntamiento de Breña Baja.\n\nRoobotic Education o
 frece innovadoras actividades extraescolares en diversos puntos del archip
 iélago canario. Sus clases son dinámicas y participativas\, combinando e
 l aprendizaje con la diversión.\n\nLas inscripciones se podrán realizar 
 hasta el 30 de junio contactando al tlfo: 622 395 100. Plazas limitadas.
ATTACH;FMTTYPE=image/jpeg:https://www.larevistadelapalma.com/wp-content/up
 loads/2024/06/Robotica-24-Verano-Cartel.jpg
CATEGORIES:Formación,Otras propuestas
LOCATION:Municipio de Breña Baja\, Breña Baja\, Breña Baja\, 38712\, Esp
 aña
GEO:28.641297;-17.772467
X-APPLE-STRUCTURED-LOCATION;VALUE=URI;X-ADDRESS=Breña Baja\, Breña Baja\,
  38712\, España;X-APPLE-RADIUS=100;X-TITLE=Municipio de Breña Baja:geo:2
 8.641297,-17.772467
END:VEVENT
END:VCALENDARBEGIN:VCALENDAR
VERSION:2.0
PRODID:-//wp-events-plugin.com//7.2.3.1//EN
TZID:Europe/London
X-WR-TIMEZONE:Europe/London
BEGIN:VEVENT
UID:3079@larevistadelapalma.com
DTSTART;VALUE=DATE:20240620
DTEND;VALUE=DATE:20240621
DTSTAMP:20240618T185825Z
URL:https://www.larevistadelapalma.com/events/clases-de-robotica-avanzada-
 en-brena-baja/
SUMMARY:Clases de Robótica avanzada en Breña Baja
DESCRIPTION:A partir de este jueves 20 de junio y durante los meses de juli
 o y agosto Roobotic Education organiza clases de “Robótica Avanzada” 
 en el Centro Social de la Mujer de San Antonio\, en horario de tarde\, dos
  veces por semana según los grupos que se formaran por edades. Cuenta con
  la colaboración del Ayuntamiento de Breña Baja.\n\nRoobotic Education o
 frece innovadoras actividades extraescolares en diversos puntos del archip
 iélago canario. Sus clases son dinámicas y participativas\, combinando e
 l aprendizaje con la diversión.\n\nLas inscripciones se podrán realizar 
 hasta el 30 de junio contactando al tlfo: 622 395 100. Plazas limitadas.
ATTACH;FMTTYPE=image/jpeg:https://www.larevistadelapalma.com/wp-content/up
 loads/2024/06/Robotica-24-Verano-Cartel.jpg
CATEGORIES:Formación,Otras propuestas
LOCATION:Municipio de Breña Baja\, Breña Baja\, Breña Baja\, 38712\, Esp
 aña
GEO:28.641297;-17.772467
X-APPLE-STRUCTURED-LOCATION;VALUE=URI;X-ADDRESS=Breña Baja\, Breña Baja\,
  38712\, España;X-APPLE-RADIUS=100;X-TITLE=Municipio de Breña Baja:geo:2
 8.641297,-17.772467
END:VEVENT
END:VCALENDAR