BEGIN:VCALENDAR
VERSION:2.0
PRODID:-//wp-events-plugin.com//7.2.3.1//EN
TZID:Europe/London
X-WR-TIMEZONE:Europe/London
BEGIN:VEVENT
UID:3579@larevistadelapalma.com
DTSTART:20250221T183000Z
DTEND:20250221T194500Z
DTSTAMP:20250203T210948Z
URL:https://www.larevistadelapalma.com/events/clausura-universidad-otono-c
 onferencia-antonio-martinez-ron/
SUMMARY:La Palma clausura la Universidad de Otoño-Invierno con una confere
 ncia de Antonio Martínez Ron
DESCRIPTION:El Cabildo de La Palma\, de la mano con la Universidad de La La
 guna (ULL)\, clausura la Universidad de Otoño-Invierno de La Palma 2024-2
 025\, que esta edición ha puesto a disposición de la ciudadanía 14 curs
 os\, con la conferencia del prestigioso periodista y divulgador científic
 o Antonio Martínez Ron. \n\nLa charla tendrá lugar el próximo 21 de fe
 brero\, a las 19:30 horas\, en la Real Sociedad Cosmológica de Santa Cruz
  de La Palma. Bajo el título Una revolución perspectiva\, el conferencia
 nte hará un recorrido por la historia de la ciencia y cómo esta ha cambi
 ado nuestra forma de ver el mundo.\nEl contenido de la conferencia consist
 irá en una breve historia de cómo la ciencia ha revolucionado nuestra fo
 rma de ver el mundo y entender la realidad.\nEl consejero de Cultura y Edu
 cación del Cabildo de La Palma\, Pablo Díaz Cobiella\, asegura que cada 
 edición de la Universidad de Invierno refuerza el acceso a la formación 
 en La Palma\, acercando a profesionales de prestigio y ofreciendo oportuni
 dades a quienes buscan especializarse sin salir de la isla. “Que persona
 s como Antonio Martínez Ron formen parte del programa es un ejemplo del n
 ivel que hemos alcanzado”\, señala.\n\nCon esta conferencia se cierra u
 n programa que ha permitido\, un año más\, acercar formación de calidad
  y especializada a la ciudadanía palmera\, gracias al compromiso del Cabi
 ldo y la ULL. En esta edición\, que se extiende hasta el 18 de febrero\, 
 se ha contado con catorce cursos reconocidos con créditos ECTS\, además 
 de talleres\, así como actividades culturales y de ocio\, consolidándose
  como un referente en la oferta formativa de la isla. Esta charla pondrá 
 punto y final a esta edición.\nInscripción aquí &gt\;&gt\;\n&nbsp\;\n\n
 &nbsp\;
ATTACH;FMTTYPE=image/jpeg:https://www.larevistadelapalma.com/wp-content/up
 loads/2025/02/Acto-de-clausura-banner-eventos-1.png
CATEGORIES:Formación,Otras propuestas
LOCATION:Real Sociedad Cosmológica\, C. Van de Walle\, 6\, Santa Cruz de l
 a Palma\, Santa Cruz de Tenerife\, 38700\, España
GEO:28.683437;-17.765238
X-APPLE-STRUCTURED-LOCATION;VALUE=URI;X-ADDRESS=C. Van de Walle\, 6\, Santa
  Cruz de la Palma\, Santa Cruz de Tenerife\, 38700\, España;X-APPLE-RADIU
 S=100;X-TITLE=Real Sociedad Cosmológica:geo:28.683437,-17.765238
END:VEVENT
END:VCALENDARBEGIN:VCALENDAR
VERSION:2.0
PRODID:-//wp-events-plugin.com//7.2.3.1//EN
TZID:Europe/London
X-WR-TIMEZONE:Europe/London
BEGIN:VEVENT
UID:3579@larevistadelapalma.com
DTSTART:20250221T183000Z
DTEND:20250221T194500Z
DTSTAMP:20250203T210948Z
URL:https://www.larevistadelapalma.com/events/clausura-universidad-otono-c
 onferencia-antonio-martinez-ron/
SUMMARY:La Palma clausura la Universidad de Otoño-Invierno con una confere
 ncia de Antonio Martínez Ron
DESCRIPTION:El Cabildo de La Palma\, de la mano con la Universidad de La La
 guna (ULL)\, clausura la Universidad de Otoño-Invierno de La Palma 2024-2
 025\, que esta edición ha puesto a disposición de la ciudadanía 14 curs
 os\, con la conferencia del prestigioso periodista y divulgador científic
 o Antonio Martínez Ron. \n\nLa charla tendrá lugar el próximo 21 de fe
 brero\, a las 19:30 horas\, en la Real Sociedad Cosmológica de Santa Cruz
  de La Palma. Bajo el título Una revolución perspectiva\, el conferencia
 nte hará un recorrido por la historia de la ciencia y cómo esta ha cambi
 ado nuestra forma de ver el mundo.\nEl contenido de la conferencia consist
 irá en una breve historia de cómo la ciencia ha revolucionado nuestra fo
 rma de ver el mundo y entender la realidad.\nEl consejero de Cultura y Edu
 cación del Cabildo de La Palma\, Pablo Díaz Cobiella\, asegura que cada 
 edición de la Universidad de Invierno refuerza el acceso a la formación 
 en La Palma\, acercando a profesionales de prestigio y ofreciendo oportuni
 dades a quienes buscan especializarse sin salir de la isla. “Que persona
 s como Antonio Martínez Ron formen parte del programa es un ejemplo del n
 ivel que hemos alcanzado”\, señala.\n\nCon esta conferencia se cierra u
 n programa que ha permitido\, un año más\, acercar formación de calidad
  y especializada a la ciudadanía palmera\, gracias al compromiso del Cabi
 ldo y la ULL. En esta edición\, que se extiende hasta el 18 de febrero\, 
 se ha contado con catorce cursos reconocidos con créditos ECTS\, además 
 de talleres\, así como actividades culturales y de ocio\, consolidándose
  como un referente en la oferta formativa de la isla. Esta charla pondrá 
 punto y final a esta edición.\nInscripción aquí &gt\;&gt\;\n&nbsp\;\n\n
 &nbsp\;
ATTACH;FMTTYPE=image/jpeg:https://www.larevistadelapalma.com/wp-content/up
 loads/2025/02/Acto-de-clausura-banner-eventos-1.png
CATEGORIES:Formación,Otras propuestas
LOCATION:Real Sociedad Cosmológica\, C. Van de Walle\, 6\, Santa Cruz de l
 a Palma\, Santa Cruz de Tenerife\, 38700\, España
GEO:28.683437;-17.765238
X-APPLE-STRUCTURED-LOCATION;VALUE=URI;X-ADDRESS=C. Van de Walle\, 6\, Santa
  Cruz de la Palma\, Santa Cruz de Tenerife\, 38700\, España;X-APPLE-RADIU
 S=100;X-TITLE=Real Sociedad Cosmológica:geo:28.683437,-17.765238
END:VEVENT
END:VCALENDAR