BEGIN:VCALENDAR
VERSION:2.0
PRODID:-//wp-events-plugin.com//7.2.3.1//EN
TZID:Europe/London
X-WR-TIMEZONE:Europe/London
BEGIN:VEVENT
UID:3729@larevistadelapalma.com
DTSTART:20250525T160000Z
DTEND:20250525T193000Z
DTSTAMP:20250430T215940Z
URL:https://www.larevistadelapalma.com/events/coctel-de-inauguracion-del-f
 estival-tiempo-sur/
SUMMARY:Cóctel de inauguración del Festival Tiempo Sur
DESCRIPTION:\nEl Festival de Audiovisuales Tiempo Sur celebra su 13ª edici
 ón en la comarca del Noroeste\, y para su inauguración nos propone un d
 omingo diferente.\n\n\nEn esta tarde de inauguración Tiempo Sur descubrir
 á el leitmotiv de esta edición del festival cinematográfico. Además\, 
 les acompañarán la música  y las historias\, de la mano de DJ Walter D
 rop\, y la voz de Elena Revuelta.\nEl Espacio elegido es la Vinoteca de Vi
 nos Veganorte\, donde habrá juegos cinematográficos\, y abrirán las ins
 cripciones al concurso: Tiempo Sur Internacional y Comarca en Corto.\nEn e
 ste enlace Begoña Grande\, la directora del Festival\, nos cuenta detalle
 s de lo que tienen planeado para esta edición.\n\n\n\n\n
ATTACH;FMTTYPE=image/jpeg:https://www.larevistadelapalma.com/wp-content/up
 loads/2025/04/Inauguracion-TIempo-Sur.jpg
CATEGORIES:Cine,Cine y Literatura,Otras propuestas,Varios
LOCATION:La Vinoteca de Vega Norte\, Cam. Bellido\, 3\, Tijarafe\, 38780\, 
 España
GEO:28.737774;-17.9661
X-APPLE-STRUCTURED-LOCATION;VALUE=URI;X-ADDRESS=Cam. Bellido\, 3\, Tijarafe
 \, 38780\, España;X-APPLE-RADIUS=100;X-TITLE=La Vinoteca de Vega Norte:ge
 o:28.737774,-17.9661
END:VEVENT
END:VCALENDARBEGIN:VCALENDAR
VERSION:2.0
PRODID:-//wp-events-plugin.com//7.2.3.1//EN
TZID:Europe/London
X-WR-TIMEZONE:Europe/London
BEGIN:VEVENT
UID:3729@larevistadelapalma.com
DTSTART:20250525T160000Z
DTEND:20250525T193000Z
DTSTAMP:20250430T215940Z
URL:https://www.larevistadelapalma.com/events/coctel-de-inauguracion-del-f
 estival-tiempo-sur/
SUMMARY:Cóctel de inauguración del Festival Tiempo Sur
DESCRIPTION:\nEl Festival de Audiovisuales Tiempo Sur celebra su 13ª edici
 ón en la comarca del Noroeste\, y para su inauguración nos propone un d
 omingo diferente.\n\n\nEn esta tarde de inauguración Tiempo Sur descubrir
 á el leitmotiv de esta edición del festival cinematográfico. Además\, 
 les acompañarán la música  y las historias\, de la mano de DJ Walter D
 rop\, y la voz de Elena Revuelta.\nEl Espacio elegido es la Vinoteca de Vi
 nos Veganorte\, donde habrá juegos cinematográficos\, y abrirán las ins
 cripciones al concurso: Tiempo Sur Internacional y Comarca en Corto.\nEn e
 ste enlace Begoña Grande\, la directora del Festival\, nos cuenta detalle
 s de lo que tienen planeado para esta edición.\n\n\n\n\n
ATTACH;FMTTYPE=image/jpeg:https://www.larevistadelapalma.com/wp-content/up
 loads/2025/04/Inauguracion-TIempo-Sur.jpg
CATEGORIES:Cine,Cine y Literatura,Otras propuestas,Varios
LOCATION:La Vinoteca de Vega Norte\, Cam. Bellido\, 3\, Tijarafe\, 38780\, 
 España
GEO:28.737774;-17.9661
X-APPLE-STRUCTURED-LOCATION;VALUE=URI;X-ADDRESS=Cam. Bellido\, 3\, Tijarafe
 \, 38780\, España;X-APPLE-RADIUS=100;X-TITLE=La Vinoteca de Vega Norte:ge
 o:28.737774,-17.9661
END:VEVENT
END:VCALENDAR