BEGIN:VCALENDAR
VERSION:2.0
PRODID:-//wp-events-plugin.com//7.2.3.1//EN
TZID:Europe/London
X-WR-TIMEZONE:Europe/London
BEGIN:VEVENT
UID:3359@larevistadelapalma.com
DTSTART:20241108T193000Z
DTEND:20241108T210000Z
DTSTAMP:20241029T151553Z
URL:https://www.larevistadelapalma.com/events/colacerdo-circo-de-marte/
SUMMARY:"Colacerdo"\, de Teatro La República\, en el Circo de Marte
DESCRIPTION:Colacerdo es una adaptación de ‘Cien años de soledad’ por
  Nacho Cabrera\, donde realidad y fantasía se funden para mostrar la cró
 nica de una estirpe obligada a hacer frente a sus demonios. \nTres descen
 dientes de aquel gitano indio\, el patriarca Melquíades\, recorren el mun
 do contando y cantando las viejas historias que su antecesor le legó pasa
 ndo de generación en generación.\n\nEn su peregrinar de pueblo en pueblo
 \, van viajando e introduciendo el mundo de los libros y el conocimiento\,
  ofrendando las infinitas historias de aquel alquimista y misterioso viaje
 ro.\n\nPero de todas aquellas fábulas\, sobresale la de un pueblo fictici
 o llamado Macondo\, y la especial relación que el viejo Melquíades estab
 leció con la familia de los Buendía desde la fundación de su pueblo\, h
 asta la decadencia y extinción del mismo a lo largo de siete generaciones
 .\n\nCien años de soledad es una obra maestra que explora la soledad huma
 na a través de generaciones\, fusionando lo cotidiano con lo mágico. “
 Colacerdo” parte de la obra original para trascender desde la atemporali
 dad de la misma y reflexionar sobre la identidad\, la memoria\, el amor\, 
 el poder\, la muerte y la soledad.\n\nUna obra de Teatro La República.\nC
 omprar entradas &gt\;&gt\;
ATTACH;FMTTYPE=image/jpeg:https://www.larevistadelapalma.com/wp-content/up
 loads/2024/10/Colacerdo-Teatro-La-Republica.jpg
CATEGORIES:Espectáculos
LOCATION:Teatro Circo de Marte\, Calle Virgen de La Luz\, 5\, Santa Cruz de
  La Palma\, 38700\, España
GEO:28.682989;-17.765755
X-APPLE-STRUCTURED-LOCATION;VALUE=URI;X-ADDRESS=Calle Virgen de La Luz\, 5\
 , Santa Cruz de La Palma\, 38700\, España;X-APPLE-RADIUS=100;X-TITLE=Teat
 ro Circo de Marte:geo:28.682989,-17.765755
END:VEVENT
END:VCALENDARBEGIN:VCALENDAR
VERSION:2.0
PRODID:-//wp-events-plugin.com//7.2.3.1//EN
TZID:Europe/London
X-WR-TIMEZONE:Europe/London
BEGIN:VEVENT
UID:3359@larevistadelapalma.com
DTSTART:20241108T193000Z
DTEND:20241108T210000Z
DTSTAMP:20241029T151553Z
URL:https://www.larevistadelapalma.com/events/colacerdo-circo-de-marte/
SUMMARY:"Colacerdo"\, de Teatro La República\, en el Circo de Marte
DESCRIPTION:Colacerdo es una adaptación de ‘Cien años de soledad’ por
  Nacho Cabrera\, donde realidad y fantasía se funden para mostrar la cró
 nica de una estirpe obligada a hacer frente a sus demonios. \nTres descen
 dientes de aquel gitano indio\, el patriarca Melquíades\, recorren el mun
 do contando y cantando las viejas historias que su antecesor le legó pasa
 ndo de generación en generación.\n\nEn su peregrinar de pueblo en pueblo
 \, van viajando e introduciendo el mundo de los libros y el conocimiento\,
  ofrendando las infinitas historias de aquel alquimista y misterioso viaje
 ro.\n\nPero de todas aquellas fábulas\, sobresale la de un pueblo fictici
 o llamado Macondo\, y la especial relación que el viejo Melquíades estab
 leció con la familia de los Buendía desde la fundación de su pueblo\, h
 asta la decadencia y extinción del mismo a lo largo de siete generaciones
 .\n\nCien años de soledad es una obra maestra que explora la soledad huma
 na a través de generaciones\, fusionando lo cotidiano con lo mágico. “
 Colacerdo” parte de la obra original para trascender desde la atemporali
 dad de la misma y reflexionar sobre la identidad\, la memoria\, el amor\, 
 el poder\, la muerte y la soledad.\n\nUna obra de Teatro La República.\nC
 omprar entradas &gt\;&gt\;
ATTACH;FMTTYPE=image/jpeg:https://www.larevistadelapalma.com/wp-content/up
 loads/2024/10/Colacerdo-Teatro-La-Republica.jpg
CATEGORIES:Espectáculos
LOCATION:Teatro Circo de Marte\, Calle Virgen de La Luz\, 5\, Santa Cruz de
  La Palma\, 38700\, España
GEO:28.682989;-17.765755
X-APPLE-STRUCTURED-LOCATION;VALUE=URI;X-ADDRESS=Calle Virgen de La Luz\, 5\
 , Santa Cruz de La Palma\, 38700\, España;X-APPLE-RADIUS=100;X-TITLE=Teat
 ro Circo de Marte:geo:28.682989,-17.765755
END:VEVENT
END:VCALENDAR