BEGIN:VCALENDAR
VERSION:2.0
PRODID:-//wp-events-plugin.com//7.2.3.1//EN
TZID:Europe/London
X-WR-TIMEZONE:Europe/London
BEGIN:VEVENT
UID:3097@larevistadelapalma.com
DTSTART:20240713T100000Z
DTEND:20240713T183000Z
DTSTAMP:20240703T212913Z
URL:https://www.larevistadelapalma.com/events/concentracion-de-seat-600-y-
 musica-en-vivo-en-los-alamos/
SUMMARY:Concentración de Seat 600 y música en vivo en Los Álamos
DESCRIPTION:\n\n\n\n\n\n\n\n\n\nMúsica y buen ambiente desde las 11:00 hor
 as\, con DjEquis\, Grajasound y Los Salvapantallas en la Plaza de Los 
 Álamos.\nEl sábado 13 de julio\, música en la V Concentración Insular 
 de Seat 600. Encuentro solidario del Club Amigos del Seat 600 La Palma.\n\
 n\n\n\n\n\n\n\n\n\n\n\n\n\n\n\n\n\n\n\n\n\n\n\n\n\n\n\n\n\n\n\n\n\n\n\n\n\
 n\n\n\n\n\n\n\n\n\n\n\n\n\n\n\n\n\n\n\n\n\n\n\n\n\n\n\n\n\n\n\n\n\n\n\n\n\
 n\n\n\n\n\n\n\n\n\n\n\n\n\n\n\n\n\n\n\n\n\n\n\n\n\n
ATTACH;FMTTYPE=image/jpeg:https://www.larevistadelapalma.com/wp-content/up
 loads/2024/07/Cncentracion-de-seat-600.jpg
CATEGORIES:Conciertos,Música,Otras propuestas,Varios
LOCATION:Parque de Los Álamos\, Bodegón Los Alamos\, Breña Alta\, 38710\
 , España
GEO:28.667222;-17.787778
X-APPLE-STRUCTURED-LOCATION;VALUE=URI;X-ADDRESS=Bodegón Los Alamos\, Breñ
 a Alta\, 38710\, España;X-APPLE-RADIUS=100;X-TITLE=Parque de Los Álamos:
 geo:28.667222,-17.787778
END:VEVENT
END:VCALENDARBEGIN:VCALENDAR
VERSION:2.0
PRODID:-//wp-events-plugin.com//7.2.3.1//EN
TZID:Europe/London
X-WR-TIMEZONE:Europe/London
BEGIN:VEVENT
UID:3097@larevistadelapalma.com
DTSTART:20240713T100000Z
DTEND:20240713T183000Z
DTSTAMP:20240703T212913Z
URL:https://www.larevistadelapalma.com/events/concentracion-de-seat-600-y-
 musica-en-vivo-en-los-alamos/
SUMMARY:Concentración de Seat 600 y música en vivo en Los Álamos
DESCRIPTION:\n\n\n\n\n\n\n\n\n\nMúsica y buen ambiente desde las 11:00 hor
 as\, con DjEquis\, Grajasound y Los Salvapantallas en la Plaza de Los 
 Álamos.\nEl sábado 13 de julio\, música en la V Concentración Insular 
 de Seat 600. Encuentro solidario del Club Amigos del Seat 600 La Palma.\n\
 n\n\n\n\n\n\n\n\n\n\n\n\n\n\n\n\n\n\n\n\n\n\n\n\n\n\n\n\n\n\n\n\n\n\n\n\n\
 n\n\n\n\n\n\n\n\n\n\n\n\n\n\n\n\n\n\n\n\n\n\n\n\n\n\n\n\n\n\n\n\n\n\n\n\n\
 n\n\n\n\n\n\n\n\n\n\n\n\n\n\n\n\n\n\n\n\n\n\n\n\n\n
ATTACH;FMTTYPE=image/jpeg:https://www.larevistadelapalma.com/wp-content/up
 loads/2024/07/Cncentracion-de-seat-600.jpg
CATEGORIES:Conciertos,Música,Otras propuestas,Varios
LOCATION:Parque de Los Álamos\, Bodegón Los Alamos\, Breña Alta\, 38710\
 , España
GEO:28.667222;-17.787778
X-APPLE-STRUCTURED-LOCATION;VALUE=URI;X-ADDRESS=Bodegón Los Alamos\, Breñ
 a Alta\, 38710\, España;X-APPLE-RADIUS=100;X-TITLE=Parque de Los Álamos:
 geo:28.667222,-17.787778
END:VEVENT
END:VCALENDAR