BEGIN:VCALENDAR
VERSION:2.0
PRODID:-//wp-events-plugin.com//7.2.3.1//EN
TZID:Europe/London
X-WR-TIMEZONE:Europe/London
BEGIN:VEVENT
UID:3939@larevistadelapalma.com
DTSTART:20250831T100000Z
DTEND:20250831T160000Z
DTSTAMP:20250826T220810Z
URL:https://www.larevistadelapalma.com/events/concentracion-vehiculos-anti
 guos-el-paso/
SUMMARY:Gran concentración de Vehículos Clásicos\, en El Paso
DESCRIPTION:El Club de Automóviles Antiguos El Paso organiza dos actos est
 e fin de semana. Un autocine retro con tributo a Elvis\, y la Gran Concent
 ración Insular de Vehículos Clásicos\, en la que participarán vehícul
 os de diferentes asociaciones y clubes de la isla.\n\n&nbsp\;
ATTACH;FMTTYPE=image/jpeg:https://www.larevistadelapalma.com/wp-content/up
 loads/2025/08/Imagen-de-WhatsApp-2025-08-24-a-las-12.42.47_7b128cc4.jpg
CATEGORIES:Exposiciones,Varios
LOCATION:Municipio de El Paso\, El Paso\, La Palma \, El Paso\, 38750\, Esp
 aña
GEO:28.652378;-17.880396
X-APPLE-STRUCTURED-LOCATION;VALUE=URI;X-ADDRESS=El Paso\, La Palma \, El Pa
 so\, 38750\, España;X-APPLE-RADIUS=100;X-TITLE=Municipio de El Paso:geo:2
 8.652378,-17.880396
END:VEVENT
END:VCALENDARBEGIN:VCALENDAR
VERSION:2.0
PRODID:-//wp-events-plugin.com//7.2.3.1//EN
TZID:Europe/London
X-WR-TIMEZONE:Europe/London
BEGIN:VEVENT
UID:3939@larevistadelapalma.com
DTSTART:20250831T100000Z
DTEND:20250831T160000Z
DTSTAMP:20250826T220810Z
URL:https://www.larevistadelapalma.com/events/concentracion-vehiculos-anti
 guos-el-paso/
SUMMARY:Gran concentración de Vehículos Clásicos\, en El Paso
DESCRIPTION:El Club de Automóviles Antiguos El Paso organiza dos actos est
 e fin de semana. Un autocine retro con tributo a Elvis\, y la Gran Concent
 ración Insular de Vehículos Clásicos\, en la que participarán vehícul
 os de diferentes asociaciones y clubes de la isla.\n\n&nbsp\;
ATTACH;FMTTYPE=image/jpeg:https://www.larevistadelapalma.com/wp-content/up
 loads/2025/08/Imagen-de-WhatsApp-2025-08-24-a-las-12.42.47_7b128cc4.jpg
CATEGORIES:Exposiciones,Varios
LOCATION:Municipio de El Paso\, El Paso\, La Palma \, El Paso\, 38750\, Esp
 aña
GEO:28.652378;-17.880396
X-APPLE-STRUCTURED-LOCATION;VALUE=URI;X-ADDRESS=El Paso\, La Palma \, El Pa
 so\, 38750\, España;X-APPLE-RADIUS=100;X-TITLE=Municipio de El Paso:geo:2
 8.652378,-17.880396
END:VEVENT
END:VCALENDAR