BEGIN:VCALENDAR
VERSION:2.0
PRODID:-//wp-events-plugin.com//7.2.3.1//EN
TZID:Europe/London
X-WR-TIMEZONE:Europe/London
BEGIN:VEVENT
UID:4073@larevistadelapalma.com
DTSTART:20251206T190000Z
DTEND:20251206T203000Z
DTSTAMP:20251127T135643Z
URL:https://www.larevistadelapalma.com/events/concierto-50-anos-y-de-tabur
 iente/
SUMMARY:Concierto “50 años y +” de Taburiente
DESCRIPTION:El emblemático grupo canario sigue celebrando su más de medio
  siglo de carrera musical con este concierto que repasará su trayectoria 
 musical y que tendrá lugar en la Plaza de Santo Domingo. 
ATTACH;FMTTYPE=image/jpeg:https://www.larevistadelapalma.com/wp-content/up
 loads/2025/11/Taburiente-50-anos.jpeg
CATEGORIES:Conciertos,Música
LOCATION:Plaza de Santo Domingo en Santa Cruz de La Palma\, Plaza Santo Dom
 ingo\, Santa Cruz de La Palma\, 38700\, España
GEO:28.682691;-17.766334
X-APPLE-STRUCTURED-LOCATION;VALUE=URI;X-ADDRESS=Plaza Santo Domingo\, Santa
  Cruz de La Palma\, 38700\, España;X-APPLE-RADIUS=100;X-TITLE=Plaza de Sa
 nto Domingo en Santa Cruz de La Palma:geo:28.682691,-17.766334
END:VEVENT
END:VCALENDARBEGIN:VCALENDAR
VERSION:2.0
PRODID:-//wp-events-plugin.com//7.2.3.1//EN
TZID:Europe/London
X-WR-TIMEZONE:Europe/London
BEGIN:VEVENT
UID:4073@larevistadelapalma.com
DTSTART:20251206T190000Z
DTEND:20251206T203000Z
DTSTAMP:20251127T135643Z
URL:https://www.larevistadelapalma.com/events/concierto-50-anos-y-de-tabur
 iente/
SUMMARY:Concierto “50 años y +” de Taburiente
DESCRIPTION:El emblemático grupo canario sigue celebrando su más de medio
  siglo de carrera musical con este concierto que repasará su trayectoria 
 musical y que tendrá lugar en la Plaza de Santo Domingo. 
ATTACH;FMTTYPE=image/jpeg:https://www.larevistadelapalma.com/wp-content/up
 loads/2025/11/Taburiente-50-anos.jpeg
CATEGORIES:Conciertos,Música
LOCATION:Plaza de Santo Domingo en Santa Cruz de La Palma\, Plaza Santo Dom
 ingo\, Santa Cruz de La Palma\, 38700\, España
GEO:28.682691;-17.766334
X-APPLE-STRUCTURED-LOCATION;VALUE=URI;X-ADDRESS=Plaza Santo Domingo\, Santa
  Cruz de La Palma\, 38700\, España;X-APPLE-RADIUS=100;X-TITLE=Plaza de Sa
 nto Domingo en Santa Cruz de La Palma:geo:28.682691,-17.766334
END:VEVENT
END:VCALENDAR