BEGIN:VCALENDAR
VERSION:2.0
PRODID:-//wp-events-plugin.com//7.2.3.1//EN
TZID:Europe/London
X-WR-TIMEZONE:Europe/London
BEGIN:VEVENT
UID:620@larevistadelapalma.com
DTSTART:20230819T190000Z
DTEND:20230819T204500Z
DTSTAMP:20230817T173415Z
URL:https://www.larevistadelapalma.com/events/concierto-benefico-de-tajadr
 e-en-santa-cruz-de-la-palma/
SUMMARY:Concierto benéfico de Tajadre en Santa Cruz de La Palma
DESCRIPTION:Los fondos obtenidos se destinarán a Cáritas\, Se habilitará
  una Fila 0 en la que las personas interesadas en colaborar podrán realiz
 ar una aportación solidaria
ATTACH;FMTTYPE=image/jpeg:https://www.larevistadelapalma.com/wp-content/up
 loads/2023/08/Tajadre-y-Danzar-de-Los-Alisios.jpg
CATEGORIES:Conciertos,Música
LOCATION:Plaza de España de Santa Cruz de La Palma\, Plaza de España\, Sa
 nta Cruz De La Palma\, Santa Cruz de Tenerife\, 38700\, España
GEO:28.683369;-17.76487
X-APPLE-STRUCTURED-LOCATION;VALUE=URI;X-ADDRESS=Plaza de España\, Santa Cr
 uz De La Palma\, Santa Cruz de Tenerife\, 38700\, España;X-APPLE-RADIUS=1
 00;X-TITLE=Plaza de España de Santa Cruz de La Palma:geo:28.683369,-17.76
 487
END:VEVENT
END:VCALENDARBEGIN:VCALENDAR
VERSION:2.0
PRODID:-//wp-events-plugin.com//7.2.3.1//EN
TZID:Europe/London
X-WR-TIMEZONE:Europe/London
BEGIN:VEVENT
UID:620@larevistadelapalma.com
DTSTART:20230819T190000Z
DTEND:20230819T204500Z
DTSTAMP:20230817T173415Z
URL:https://www.larevistadelapalma.com/events/concierto-benefico-de-tajadr
 e-en-santa-cruz-de-la-palma/
SUMMARY:Concierto benéfico de Tajadre en Santa Cruz de La Palma
DESCRIPTION:Los fondos obtenidos se destinarán a Cáritas\, Se habilitará
  una Fila 0 en la que las personas interesadas en colaborar podrán realiz
 ar una aportación solidaria
ATTACH;FMTTYPE=image/jpeg:https://www.larevistadelapalma.com/wp-content/up
 loads/2023/08/Tajadre-y-Danzar-de-Los-Alisios.jpg
CATEGORIES:Conciertos,Música
LOCATION:Plaza de España de Santa Cruz de La Palma\, Plaza de España\, Sa
 nta Cruz De La Palma\, Santa Cruz de Tenerife\, 38700\, España
GEO:28.683369;-17.76487
X-APPLE-STRUCTURED-LOCATION;VALUE=URI;X-ADDRESS=Plaza de España\, Santa Cr
 uz De La Palma\, Santa Cruz de Tenerife\, 38700\, España;X-APPLE-RADIUS=1
 00;X-TITLE=Plaza de España de Santa Cruz de La Palma:geo:28.683369,-17.76
 487
END:VEVENT
END:VCALENDAR