BEGIN:VCALENDAR
VERSION:2.0
PRODID:-//wp-events-plugin.com//7.2.3.1//EN
TZID:Europe/London
X-WR-TIMEZONE:Europe/London
BEGIN:VEVENT
UID:943@larevistadelapalma.com
DTSTART:20231227T230000Z
DTEND:20231227T230000Z
DTSTAMP:20231220T233308Z
URL:https://www.larevistadelapalma.com/events/concierto-benefico-unas-nota
 s-de-esperanza-2024/
SUMMARY:Concierto benéfico «Unas notas de esperanza 2024»
DESCRIPTION:\nEl 28 de diciembre\, bajo la Casa de la Cultura de Los Llanos
  de Aridane\, se celebrará un concierto benéfico del grupo Piú Mosso Sa
 x Quartet para presentar «Unas notas de esperanza 2024»\, un calendario 
 solidario ilustrado con fotografías de Emilio Barrionuevo y poemas de Els
 a López\, Ricardo Hernández Bravo\, Belén Lorenzo\, Maiki Martín Franc
 isco y el presidente de la Asociación Abra Canarias Cultural\, Héctor Jo
 sé Rodríguez Riverol.\n\n\n\n\n\nCon un donativo de mínimo 4€ puedes 
 reservar uno de los calendarios especiales y limitados.\n\n\nLos beneficio
 s de la venta de este calendario serán donados a la Asociación Niños Es
 peciales de La Palma.\n\n\n\n\n\n\n\n\n\nOrganizado por la Asociación Enc
 uentro de Saxofón\, Foto Helénica y la Asociación NEP (Niños Especiale
 s de La Palma).\n\n\n\n\n\n
ATTACH;FMTTYPE=image/jpeg:https://www.larevistadelapalma.com/wp-content/up
 loads/2023/12/Concierto-unas-notas-de-esperanza.jpg
CATEGORIES:Conciertos,Música
LOCATION:Casa de La Cultura de Los Llanos de Aridane\, : C. Real\, 8\, Los 
 Llanos de Aridane \, 38760\, España
GEO:28.658651;-17.913512
X-APPLE-STRUCTURED-LOCATION;VALUE=URI;X-ADDRESS=: C. Real\, 8\, Los Llanos 
 de Aridane \, 38760\, España;X-APPLE-RADIUS=100;X-TITLE=Casa de La Cultur
 a de Los Llanos de Aridane:geo:28.658651,-17.913512
END:VEVENT
END:VCALENDARBEGIN:VCALENDAR
VERSION:2.0
PRODID:-//wp-events-plugin.com//7.2.3.1//EN
TZID:Europe/London
X-WR-TIMEZONE:Europe/London
BEGIN:VEVENT
UID:943@larevistadelapalma.com
DTSTART:20231227T230000Z
DTEND:20231227T230000Z
DTSTAMP:20231220T233308Z
URL:https://www.larevistadelapalma.com/events/concierto-benefico-unas-nota
 s-de-esperanza-2024/
SUMMARY:Concierto benéfico «Unas notas de esperanza 2024»
DESCRIPTION:\nEl 28 de diciembre\, bajo la Casa de la Cultura de Los Llanos
  de Aridane\, se celebrará un concierto benéfico del grupo Piú Mosso Sa
 x Quartet para presentar «Unas notas de esperanza 2024»\, un calendario 
 solidario ilustrado con fotografías de Emilio Barrionuevo y poemas de Els
 a López\, Ricardo Hernández Bravo\, Belén Lorenzo\, Maiki Martín Franc
 isco y el presidente de la Asociación Abra Canarias Cultural\, Héctor Jo
 sé Rodríguez Riverol.\n\n\n\n\n\nCon un donativo de mínimo 4€ puedes 
 reservar uno de los calendarios especiales y limitados.\n\n\nLos beneficio
 s de la venta de este calendario serán donados a la Asociación Niños Es
 peciales de La Palma.\n\n\n\n\n\n\n\n\n\nOrganizado por la Asociación Enc
 uentro de Saxofón\, Foto Helénica y la Asociación NEP (Niños Especiale
 s de La Palma).\n\n\n\n\n\n
ATTACH;FMTTYPE=image/jpeg:https://www.larevistadelapalma.com/wp-content/up
 loads/2023/12/Concierto-unas-notas-de-esperanza.jpg
CATEGORIES:Conciertos,Música
LOCATION:Casa de La Cultura de Los Llanos de Aridane\, : C. Real\, 8\, Los 
 Llanos de Aridane \, 38760\, España
GEO:28.658651;-17.913512
X-APPLE-STRUCTURED-LOCATION;VALUE=URI;X-ADDRESS=: C. Real\, 8\, Los Llanos 
 de Aridane \, 38760\, España;X-APPLE-RADIUS=100;X-TITLE=Casa de La Cultur
 a de Los Llanos de Aridane:geo:28.658651,-17.913512
END:VEVENT
END:VCALENDAR