BEGIN:VCALENDAR
VERSION:2.0
PRODID:-//wp-events-plugin.com//7.2.3.1//EN
TZID:Europe/London
X-WR-TIMEZONE:Europe/London
BEGIN:VEVENT
UID:3638@larevistadelapalma.com
DTSTART:20250314T190000Z
DTEND:20250314T203000Z
DTSTAMP:20250307T212137Z
URL:https://www.larevistadelapalma.com/events/concierto-con-jazz-friends-l
 os-llanos/
SUMMARY:Concierto con Jazz Friends\, Los Llanos
DESCRIPTION:Jazz Friends hará un repertorio que cuenta con clásicos del h
 ardbop\, varios standards\, y algún tema contemporáneo\, provenientes de
 l set list americano\, que a su vez comprende mucha variedad de influencia
 s. Pretenden así establecer un paisaje sonoro muy rítmico pero flexible 
 en el que los músicos de la banda puedan improvisar libremente.
ATTACH;FMTTYPE=image/jpeg:https://www.larevistadelapalma.com/wp-content/up
 loads/2025/03/Jazz-Friends-los-llanos.jpg
CATEGORIES:Conciertos,Música
LOCATION:Plaza de España en Los Llanos de Aridane\, Plaza de España\, Los
  Llanos de Aridane\, 38760\, España
GEO:28.658934;-17.913174
X-APPLE-STRUCTURED-LOCATION;VALUE=URI;X-ADDRESS=Plaza de España\, Los Llan
 os de Aridane\, 38760\, España;X-APPLE-RADIUS=100;X-TITLE=Plaza de Españ
 a en Los Llanos de Aridane:geo:28.658934,-17.913174
END:VEVENT
END:VCALENDARBEGIN:VCALENDAR
VERSION:2.0
PRODID:-//wp-events-plugin.com//7.2.3.1//EN
TZID:Europe/London
X-WR-TIMEZONE:Europe/London
BEGIN:VEVENT
UID:3638@larevistadelapalma.com
DTSTART:20250314T190000Z
DTEND:20250314T203000Z
DTSTAMP:20250307T212137Z
URL:https://www.larevistadelapalma.com/events/concierto-con-jazz-friends-l
 os-llanos/
SUMMARY:Concierto con Jazz Friends\, Los Llanos
DESCRIPTION:Jazz Friends hará un repertorio que cuenta con clásicos del h
 ardbop\, varios standards\, y algún tema contemporáneo\, provenientes de
 l set list americano\, que a su vez comprende mucha variedad de influencia
 s. Pretenden así establecer un paisaje sonoro muy rítmico pero flexible 
 en el que los músicos de la banda puedan improvisar libremente.
ATTACH;FMTTYPE=image/jpeg:https://www.larevistadelapalma.com/wp-content/up
 loads/2025/03/Jazz-Friends-los-llanos.jpg
CATEGORIES:Conciertos,Música
LOCATION:Plaza de España en Los Llanos de Aridane\, Plaza de España\, Los
  Llanos de Aridane\, 38760\, España
GEO:28.658934;-17.913174
X-APPLE-STRUCTURED-LOCATION;VALUE=URI;X-ADDRESS=Plaza de España\, Los Llan
 os de Aridane\, 38760\, España;X-APPLE-RADIUS=100;X-TITLE=Plaza de Españ
 a en Los Llanos de Aridane:geo:28.658934,-17.913174
END:VEVENT
END:VCALENDAR