BEGIN:VCALENDAR
VERSION:2.0
PRODID:-//wp-events-plugin.com//7.2.3.1//EN
TZID:Europe/London
X-WR-TIMEZONE:Europe/London
BEGIN:VEVENT
UID:2846@larevistadelapalma.com
DTSTART:20240921T120000Z
DTEND:20240921T200000Z
DTSTAMP:20240913T124357Z
URL:https://www.larevistadelapalma.com/events/concierto-contigo-almediodia
 -con-seguridad-social-2/
SUMMARY:Especial "Contigo Almediodía" con Manel Fuentes\, Seguridad Social
  y mercado
DESCRIPTION:En este aniversario habrá doble concierto y un mercado calleje
 ro que estará amenizado con la música de Grajasound.\n\nEl Contigo Almed
 iodía vivirá una edición especial con música desde las 13:00 horas has
 ta la noche. El espectáculo comenzará con un concierto tributo a Bruce S
 pringsteen de la mano de Manuel Fuentes &amp\; The Spring’s Team\, segui
 do de la actuación de los DJs de GrajaSound y la actuación final de la b
 anda Seguridad Social a partir de las 19:00 horas.\nEn 2024. ya  se han c
 umplido los 18 años en los que con los conciertos "Contigo Almediodía" h
 emos disfrutado de más de un centenar de grandes artistas y grupos repres
 entativos de la historia musical más reciente. Este especial Contigo Alme
 diodía comenzará a las 13:00 horas con un tributo a Bruce Springsteen a 
 cargo de Manel Fuentes &amp\; The Spring’s Team.\n\n\n\n\n\nManuel Fuent
 es\, conocido presentador y apasionado fan de Springsteen\, lleva más de 
 una década rindiendo homenaje a The Boss con su banda de ocho músicos pr
 ofesionales\, ofreciendo un espectáculo enérgico y emotivo que recorre l
 os grandes éxitos del legendario cantante estadounidense.\n\n&nbsp\;\n\n\
 n\n&nbsp\;\nEl segundo gran concierto del día será el de Seguridad Socia
 l\, previsto para las 19 horas\, y que tuvo que aplazarse en el mes de mar
 zo por motivos meteorológicos. La banda española formada en 1982 por Jos
 é Manuel Casañ fue un referente dentro de la Movida de los 80 y del rock
  español. Su música es una fusión de reggae\, ska\, rumba y pop-rock. E
 ntre sus temas más conocidos están Chiquilla\, Comerranas y Quiero tener
  tu presencia y Acuarela. Incluso se atrevieron con las baladas como "No v
 erte más"\, que probablemente no sea su tema más popular.\n\n\n\n\nArida
 neMarket\n\n\nParalelamente\, entre las 11 y las 21 horas se llevará a ca
 bo el AridaneMarket&gt\;&gt\;\, un escaparate para que artesanos\, emprend
 edores y pequeños comercios de nuestras islas den a conocer su producto. 
 Estará ubicado en la calle Díaz Pimienta.\n\n\n
ATTACH;FMTTYPE=image/jpeg:https://www.larevistadelapalma.com/wp-content/up
 loads/2024/03/Especial-contigo-Almediodia-manel-seguridad-y-mercado.jpg
CATEGORIES:Conciertos,Música
LOCATION:Plaza de España en Los Llanos de Aridane\, Plaza de España\, Los
  Llanos de Aridane\, 38760\, España
GEO:28.658934;-17.913174
X-APPLE-STRUCTURED-LOCATION;VALUE=URI;X-ADDRESS=Plaza de España\, Los Llan
 os de Aridane\, 38760\, España;X-APPLE-RADIUS=100;X-TITLE=Plaza de Españ
 a en Los Llanos de Aridane:geo:28.658934,-17.913174
END:VEVENT
END:VCALENDARBEGIN:VCALENDAR
VERSION:2.0
PRODID:-//wp-events-plugin.com//7.2.3.1//EN
TZID:Europe/London
X-WR-TIMEZONE:Europe/London
BEGIN:VEVENT
UID:2846@larevistadelapalma.com
DTSTART:20240921T120000Z
DTEND:20240921T200000Z
DTSTAMP:20240913T124357Z
URL:https://www.larevistadelapalma.com/events/concierto-contigo-almediodia
 -con-seguridad-social-2/
SUMMARY:Especial "Contigo Almediodía" con Manel Fuentes\, Seguridad Social
  y mercado
DESCRIPTION:En este aniversario habrá doble concierto y un mercado calleje
 ro que estará amenizado con la música de Grajasound.\n\nEl Contigo Almed
 iodía vivirá una edición especial con música desde las 13:00 horas has
 ta la noche. El espectáculo comenzará con un concierto tributo a Bruce S
 pringsteen de la mano de Manuel Fuentes &amp\; The Spring’s Team\, segui
 do de la actuación de los DJs de GrajaSound y la actuación final de la b
 anda Seguridad Social a partir de las 19:00 horas.\nEn 2024. ya  se han c
 umplido los 18 años en los que con los conciertos "Contigo Almediodía" h
 emos disfrutado de más de un centenar de grandes artistas y grupos repres
 entativos de la historia musical más reciente. Este especial Contigo Alme
 diodía comenzará a las 13:00 horas con un tributo a Bruce Springsteen a 
 cargo de Manel Fuentes &amp\; The Spring’s Team.\n\n\n\n\n\nManuel Fuent
 es\, conocido presentador y apasionado fan de Springsteen\, lleva más de 
 una década rindiendo homenaje a The Boss con su banda de ocho músicos pr
 ofesionales\, ofreciendo un espectáculo enérgico y emotivo que recorre l
 os grandes éxitos del legendario cantante estadounidense.\n\n&nbsp\;\n\n\
 n\n&nbsp\;\nEl segundo gran concierto del día será el de Seguridad Socia
 l\, previsto para las 19 horas\, y que tuvo que aplazarse en el mes de mar
 zo por motivos meteorológicos. La banda española formada en 1982 por Jos
 é Manuel Casañ fue un referente dentro de la Movida de los 80 y del rock
  español. Su música es una fusión de reggae\, ska\, rumba y pop-rock. E
 ntre sus temas más conocidos están Chiquilla\, Comerranas y Quiero tener
  tu presencia y Acuarela. Incluso se atrevieron con las baladas como "No v
 erte más"\, que probablemente no sea su tema más popular.\n\n\n\n\nArida
 neMarket\n\n\nParalelamente\, entre las 11 y las 21 horas se llevará a ca
 bo el AridaneMarket&gt\;&gt\;\, un escaparate para que artesanos\, emprend
 edores y pequeños comercios de nuestras islas den a conocer su producto. 
 Estará ubicado en la calle Díaz Pimienta.\n\n\n
ATTACH;FMTTYPE=image/jpeg:https://www.larevistadelapalma.com/wp-content/up
 loads/2024/03/Especial-contigo-Almediodia-manel-seguridad-y-mercado.jpg
CATEGORIES:Conciertos,Música
LOCATION:Plaza de España en Los Llanos de Aridane\, Plaza de España\, Los
  Llanos de Aridane\, 38760\, España
GEO:28.658934;-17.913174
X-APPLE-STRUCTURED-LOCATION;VALUE=URI;X-ADDRESS=Plaza de España\, Los Llan
 os de Aridane\, 38760\, España;X-APPLE-RADIUS=100;X-TITLE=Plaza de Españ
 a en Los Llanos de Aridane:geo:28.658934,-17.913174
END:VEVENT
END:VCALENDAR