BEGIN:VCALENDAR
VERSION:2.0
PRODID:-//wp-events-plugin.com//7.2.3.1//EN
TZID:Europe/London
X-WR-TIMEZONE:Europe/London
BEGIN:VEVENT
UID:3547@larevistadelapalma.com
DTSTART:20250117T190000Z
DTEND:20250117T224500Z
DTSTAMP:20250113T215606Z
URL:https://www.larevistadelapalma.com/events/concierto-de-4strings-en-lun
 atico/
SUMMARY:Concierto de 4Strings+ en Lunático
DESCRIPTION:El poder total de la música: este viernes presentan en Lunáti
 co\, una fusión revolucionaria de la música clásica con una banda moder
 na con batería\, bajo y piano. 4Strings+ promete una noche inolvidable ll
 ena de momentos emocionantes\, pura alegría y una experiencia musical com
 o nunca antes se ha visto en nuestra isla.
ATTACH;FMTTYPE=image/jpeg:https://www.larevistadelapalma.com/wp-content/up
 loads/2025/01/4-strings-lunatico.jpg
CATEGORIES:Conciertos,Música
LOCATION:Sala Lunático\, El Paso\, Calle Manuel Taño 9\, El Paso\, 38750\
 , España
GEO:28.651734;-17.879603
X-APPLE-STRUCTURED-LOCATION;VALUE=URI;X-ADDRESS=Calle Manuel Taño 9\, El P
 aso\, 38750\, España;X-APPLE-RADIUS=100;X-TITLE=Sala Lunático\, El Paso:
 geo:28.651734,-17.879603
END:VEVENT
END:VCALENDARBEGIN:VCALENDAR
VERSION:2.0
PRODID:-//wp-events-plugin.com//7.2.3.1//EN
TZID:Europe/London
X-WR-TIMEZONE:Europe/London
BEGIN:VEVENT
UID:3547@larevistadelapalma.com
DTSTART:20250117T190000Z
DTEND:20250117T224500Z
DTSTAMP:20250113T215606Z
URL:https://www.larevistadelapalma.com/events/concierto-de-4strings-en-lun
 atico/
SUMMARY:Concierto de 4Strings+ en Lunático
DESCRIPTION:El poder total de la música: este viernes presentan en Lunáti
 co\, una fusión revolucionaria de la música clásica con una banda moder
 na con batería\, bajo y piano. 4Strings+ promete una noche inolvidable ll
 ena de momentos emocionantes\, pura alegría y una experiencia musical com
 o nunca antes se ha visto en nuestra isla.
ATTACH;FMTTYPE=image/jpeg:https://www.larevistadelapalma.com/wp-content/up
 loads/2025/01/4-strings-lunatico.jpg
CATEGORIES:Conciertos,Música
LOCATION:Sala Lunático\, El Paso\, Calle Manuel Taño 9\, El Paso\, 38750\
 , España
GEO:28.651734;-17.879603
X-APPLE-STRUCTURED-LOCATION;VALUE=URI;X-ADDRESS=Calle Manuel Taño 9\, El P
 aso\, 38750\, España;X-APPLE-RADIUS=100;X-TITLE=Sala Lunático\, El Paso:
 geo:28.651734,-17.879603
END:VEVENT
END:VCALENDAR