BEGIN:VCALENDAR
VERSION:2.0
PRODID:-//wp-events-plugin.com//7.2.3.1//EN
TZID:Europe/London
X-WR-TIMEZONE:Europe/London
BEGIN:VEVENT
UID:3260@larevistadelapalma.com
DTSTART:20240927T210000Z
DTEND:20240927T223000Z
DTSTAMP:20240924T214042Z
URL:https://www.larevistadelapalma.com/events/concierto-de-aristides-moren
 o-garafia/
SUMMARY:Concierto de Arístides Moreno\, Garafía
DESCRIPTION:Dentro de la programación de la décima edición del Festival 
 de La Palabra\, te esperan en Garafía con el concierto de Arístides More
 no.\n\nA partir de las  22:00\, en la  horas\, en la Plaza Ismael Ferná
 ndez Hernández.\n\n«En el concierto de Garafía ofreceré canciones muy 
 variadas»\n\n&nbsp\;
ATTACH;FMTTYPE=image/jpeg:https://www.larevistadelapalma.com/wp-content/up
 loads/2024/09/Aristides.jpg
CATEGORIES:Conciertos,Música
LOCATION:Municipio Villa de Garafía\, Garafía\, Garafía\, 38787\, Españ
 a
GEO:28.822803;-17.950221
X-APPLE-STRUCTURED-LOCATION;VALUE=URI;X-ADDRESS=Garafía\, Garafía\, 38787
 \, España;X-APPLE-RADIUS=100;X-TITLE=Municipio Villa de Garafía:geo:28.8
 22803,-17.950221
END:VEVENT
END:VCALENDARBEGIN:VCALENDAR
VERSION:2.0
PRODID:-//wp-events-plugin.com//7.2.3.1//EN
TZID:Europe/London
X-WR-TIMEZONE:Europe/London
BEGIN:VEVENT
UID:3260@larevistadelapalma.com
DTSTART:20240927T210000Z
DTEND:20240927T223000Z
DTSTAMP:20240924T214042Z
URL:https://www.larevistadelapalma.com/events/concierto-de-aristides-moren
 o-garafia/
SUMMARY:Concierto de Arístides Moreno\, Garafía
DESCRIPTION:Dentro de la programación de la décima edición del Festival 
 de La Palabra\, te esperan en Garafía con el concierto de Arístides More
 no.\n\nA partir de las  22:00\, en la  horas\, en la Plaza Ismael Ferná
 ndez Hernández.\n\n«En el concierto de Garafía ofreceré canciones muy 
 variadas»\n\n&nbsp\;
ATTACH;FMTTYPE=image/jpeg:https://www.larevistadelapalma.com/wp-content/up
 loads/2024/09/Aristides.jpg
CATEGORIES:Conciertos,Música
LOCATION:Municipio Villa de Garafía\, Garafía\, Garafía\, 38787\, Españ
 a
GEO:28.822803;-17.950221
X-APPLE-STRUCTURED-LOCATION;VALUE=URI;X-ADDRESS=Garafía\, Garafía\, 38787
 \, España;X-APPLE-RADIUS=100;X-TITLE=Municipio Villa de Garafía:geo:28.8
 22803,-17.950221
END:VEVENT
END:VCALENDAR