BEGIN:VCALENDAR
VERSION:2.0
PRODID:-//wp-events-plugin.com//7.2.3.1//EN
TZID:Europe/London
X-WR-TIMEZONE:Europe/London
BEGIN:VEVENT
UID:897@larevistadelapalma.com
DTSTART:20231216T213000Z
DTEND:20231216T225900Z
DTSTAMP:20231205T205804Z
URL:https://www.larevistadelapalma.com/events/concierto-de-atlantis-en-fue
 ncaliente/
SUMMARY:Concierto de Atlantis en Fuencaliente
DESCRIPTION:La banda Atlantis sigue con su tour navideño\, el segundo con
 cierto será en Fuencaliente.  Próximamente tendremos datos de la local
 ización exacta.\n\nLas actuaciones de Atlantis reúnen grandes éxitos in
 ternacionales de las cuatro últimas décadas. En su repertorio bilingüe 
 hay temas de de Maná\, Seguridad Social\, Queen\, Michael Jackson\n\nA la
  voz\, Yaiza Magdalena\, cantante y compositora con amplia experiencia en 
 distintos géneros musicales y países de América y Europa (Syrinxoare\, 
 Manifold\, ….).\n\n\nA la batería\, Roy Kenner\, artista multidisciplin
 ar\, coreógrafo y editor con amplio bagaje musical (2Mess\, Flaw's Theore
 ms\,...).\n\n\n\nAl bajo\, Héctor J. Rodríguez Riverol\, compositor\, es
 critor y gestor cultural que ha tocado con múltiples bandas (Forever\, Kl
 amardo\,…).\n\n\n\nA la guitarra\, Rubén Medina\, multiinstrumentista q
 ue ya con 12 años comienza en Echentive\, actualmente es componente de va
 rios grupos con diversos estilos musicales (Punto y clave\, Manikomio del 
 sur\,... etc.).\n\n\n\n\n\n\n   \n\n\n\n   \n\n\n\n   \n\n
ATTACH;FMTTYPE=image/jpeg:https://www.larevistadelapalma.com/wp-content/up
 loads/2023/11/Atlantis.jpg
CATEGORIES:Conciertos,Música
LOCATION:Municipio de Fuencaliente\, Fuencaliente\, Fuencaliente\, 38740\, 
 España
GEO:28.479676;-17.840616
X-APPLE-STRUCTURED-LOCATION;VALUE=URI;X-ADDRESS=Fuencaliente\, Fuencaliente
 \, 38740\, España;X-APPLE-RADIUS=100;X-TITLE=Municipio de Fuencaliente:ge
 o:28.479676,-17.840616
END:VEVENT
END:VCALENDARBEGIN:VCALENDAR
VERSION:2.0
PRODID:-//wp-events-plugin.com//7.2.3.1//EN
TZID:Europe/London
X-WR-TIMEZONE:Europe/London
BEGIN:VEVENT
UID:897@larevistadelapalma.com
DTSTART:20231216T213000Z
DTEND:20231216T225900Z
DTSTAMP:20231205T205804Z
URL:https://www.larevistadelapalma.com/events/concierto-de-atlantis-en-fue
 ncaliente/
SUMMARY:Concierto de Atlantis en Fuencaliente
DESCRIPTION:La banda Atlantis sigue con su tour navideño\, el segundo con
 cierto será en Fuencaliente.  Próximamente tendremos datos de la local
 ización exacta.\n\nLas actuaciones de Atlantis reúnen grandes éxitos in
 ternacionales de las cuatro últimas décadas. En su repertorio bilingüe 
 hay temas de de Maná\, Seguridad Social\, Queen\, Michael Jackson\n\nA la
  voz\, Yaiza Magdalena\, cantante y compositora con amplia experiencia en 
 distintos géneros musicales y países de América y Europa (Syrinxoare\, 
 Manifold\, ….).\n\n\nA la batería\, Roy Kenner\, artista multidisciplin
 ar\, coreógrafo y editor con amplio bagaje musical (2Mess\, Flaw's Theore
 ms\,...).\n\n\n\nAl bajo\, Héctor J. Rodríguez Riverol\, compositor\, es
 critor y gestor cultural que ha tocado con múltiples bandas (Forever\, Kl
 amardo\,…).\n\n\n\nA la guitarra\, Rubén Medina\, multiinstrumentista q
 ue ya con 12 años comienza en Echentive\, actualmente es componente de va
 rios grupos con diversos estilos musicales (Punto y clave\, Manikomio del 
 sur\,... etc.).\n\n\n\n\n\n\n   \n\n\n\n   \n\n\n\n   \n\n
ATTACH;FMTTYPE=image/jpeg:https://www.larevistadelapalma.com/wp-content/up
 loads/2023/11/Atlantis.jpg
CATEGORIES:Conciertos,Música
LOCATION:Municipio de Fuencaliente\, Fuencaliente\, Fuencaliente\, 38740\, 
 España
GEO:28.479676;-17.840616
X-APPLE-STRUCTURED-LOCATION;VALUE=URI;X-ADDRESS=Fuencaliente\, Fuencaliente
 \, 38740\, España;X-APPLE-RADIUS=100;X-TITLE=Municipio de Fuencaliente:ge
 o:28.479676,-17.840616
END:VEVENT
END:VCALENDAR