BEGIN:VCALENDAR
VERSION:2.0
PRODID:-//wp-events-plugin.com//7.2.3.1//EN
TZID:Europe/London
X-WR-TIMEZONE:Europe/London
BEGIN:VEVENT
UID:871@larevistadelapalma.com
DTSTART:20231222T213000Z
DTEND:20231222T225900Z
DTSTAMP:20231218T152036Z
URL:https://www.larevistadelapalma.com/events/concierto-de-atlantis-en-pun
 tagorda/
SUMMARY:Concierto de Atlantis en Puntagorda
DESCRIPTION:Será en la Comunidad 4 Caminos\, a partir de las 22:30 horas.
  Les seguirá VISAC DJ.\n\nEste será el tercer concierto de la banda Atl
 antis  en el tour navideño\, que les anunciábamos anteriormente.\n\nLas
  actuaciones de Atlantis reúnen grandes éxitos internacionales de las cu
 atro últimas décadas. En su repertorio bilingüe hay temas de de Maná\,
  Seguridad Social\, Queen\, Michael Jackson\n\nA la voz\, Yaiza Magdalena\
 , cantante y compositora con amplia experiencia en distintos géneros musi
 cales y países de América y Europa (Syrinxoare\, Manifold\, ….).\n\n\n
 A la batería\, Roy Kenner\, artista multidisciplinar\, coreógrafo y edit
 or con amplio bagaje musical (2Mess\, Flaw's Theorems\,...).\n\n\n\nAl baj
 o\, Héctor J. Rodríguez Riverol\, compositor\, escritor y gestor cultura
 l que ha tocado con múltiples bandas (Forever\, Klamardo\,…).\n\n\n\nA 
 la guitarra\, Rubén Medina\, multiinstrumentista que ya con 12 años comi
 enza en Echentive\, actualmente es componente de varios grupos con diverso
 s estilos musicales (Punto y clave\, Manikomio del sur\,... etc.).\n\n\n\n
 \n\n\n   \n\n\n\n   \n\n\n\n   \n\n
ATTACH;FMTTYPE=image/jpeg:https://www.larevistadelapalma.com/wp-content/up
 loads/2023/11/Atlantis-Puntagorda.jpg
CATEGORIES:Conciertos,Música
LOCATION:Comunidad Cuatro Caminos\, Puntagorda\, 46 Cno. El Pinar\, Puntago
 rda\, 38789\, España
GEO:28.773885;-17.978138
X-APPLE-STRUCTURED-LOCATION;VALUE=URI;X-ADDRESS=46 Cno. El Pinar\, Puntagor
 da\, 38789\, España;X-APPLE-RADIUS=100;X-TITLE=Comunidad Cuatro Caminos\,
  Puntagorda:geo:28.773885,-17.978138
END:VEVENT
END:VCALENDARBEGIN:VCALENDAR
VERSION:2.0
PRODID:-//wp-events-plugin.com//7.2.3.1//EN
TZID:Europe/London
X-WR-TIMEZONE:Europe/London
BEGIN:VEVENT
UID:871@larevistadelapalma.com
DTSTART:20231222T213000Z
DTEND:20231222T225900Z
DTSTAMP:20231218T152036Z
URL:https://www.larevistadelapalma.com/events/concierto-de-atlantis-en-pun
 tagorda/
SUMMARY:Concierto de Atlantis en Puntagorda
DESCRIPTION:Será en la Comunidad 4 Caminos\, a partir de las 22:30 horas.
  Les seguirá VISAC DJ.\n\nEste será el tercer concierto de la banda Atl
 antis  en el tour navideño\, que les anunciábamos anteriormente.\n\nLas
  actuaciones de Atlantis reúnen grandes éxitos internacionales de las cu
 atro últimas décadas. En su repertorio bilingüe hay temas de de Maná\,
  Seguridad Social\, Queen\, Michael Jackson\n\nA la voz\, Yaiza Magdalena\
 , cantante y compositora con amplia experiencia en distintos géneros musi
 cales y países de América y Europa (Syrinxoare\, Manifold\, ….).\n\n\n
 A la batería\, Roy Kenner\, artista multidisciplinar\, coreógrafo y edit
 or con amplio bagaje musical (2Mess\, Flaw's Theorems\,...).\n\n\n\nAl baj
 o\, Héctor J. Rodríguez Riverol\, compositor\, escritor y gestor cultura
 l que ha tocado con múltiples bandas (Forever\, Klamardo\,…).\n\n\n\nA 
 la guitarra\, Rubén Medina\, multiinstrumentista que ya con 12 años comi
 enza en Echentive\, actualmente es componente de varios grupos con diverso
 s estilos musicales (Punto y clave\, Manikomio del sur\,... etc.).\n\n\n\n
 \n\n\n   \n\n\n\n   \n\n\n\n   \n\n
ATTACH;FMTTYPE=image/jpeg:https://www.larevistadelapalma.com/wp-content/up
 loads/2023/11/Atlantis-Puntagorda.jpg
CATEGORIES:Conciertos,Música
LOCATION:Comunidad Cuatro Caminos\, Puntagorda\, 46 Cno. El Pinar\, Puntago
 rda\, 38789\, España
GEO:28.773885;-17.978138
X-APPLE-STRUCTURED-LOCATION;VALUE=URI;X-ADDRESS=46 Cno. El Pinar\, Puntagor
 da\, 38789\, España;X-APPLE-RADIUS=100;X-TITLE=Comunidad Cuatro Caminos\,
  Puntagorda:geo:28.773885,-17.978138
END:VEVENT
END:VCALENDAR