BEGIN:VCALENDAR
VERSION:2.0
PRODID:-//wp-events-plugin.com//7.2.3.1//EN
TZID:Europe/London
X-WR-TIMEZONE:Europe/London
BEGIN:VEVENT
UID:613@larevistadelapalma.com
DTSTART:20230817T210000Z
DTEND:20230817T225900Z
DTSTAMP:20230814T223635Z
URL:https://www.larevistadelapalma.com/events/concierto-de-atlantis-y-mani
 komio-del-sur-en-fuencaliente/
SUMMARY:Concierto de Atlantis y Manikomio del Sur en Fuencaliente
DESCRIPTION:Un concierto incluido en la programación de las Fiestas de la 
 vendimia de Fuencaliente. \n\nAtlantis. La voz de Yaiza Magdalena encabez
 a esta banda que versionará grandes éxitos del rock español e internaci
 onal de las últimas décadas.\n\n\n\nManikomio del Sur ofrecerá un reper
 torio formado íntegramente por temas propios con su particular estilo nad
 a convencional que se balancea entre el rock\, el ska\, e incluso el regga
 e.\n\n\n\n&nbsp\;
ATTACH;FMTTYPE=image/jpeg:https://www.larevistadelapalma.com/wp-content/up
 loads/2023/08/Atlantis-y-Manikomio-del-Sur.jpg
CATEGORIES:Conciertos,Música
LOCATION:Plaza del Ayuntamiento de Fuencaliente\, C. San Antonio\, Los Cana
 rios\, Fuencaliente\, 38740\, España
GEO:28.494669;-17.845068
X-APPLE-STRUCTURED-LOCATION;VALUE=URI;X-ADDRESS=C. San Antonio\, Los Canari
 os\, Fuencaliente\, 38740\, España;X-APPLE-RADIUS=100;X-TITLE=Plaza del A
 yuntamiento de Fuencaliente:geo:28.494669,-17.845068
END:VEVENT
END:VCALENDARBEGIN:VCALENDAR
VERSION:2.0
PRODID:-//wp-events-plugin.com//7.2.3.1//EN
TZID:Europe/London
X-WR-TIMEZONE:Europe/London
BEGIN:VEVENT
UID:613@larevistadelapalma.com
DTSTART:20230817T210000Z
DTEND:20230817T225900Z
DTSTAMP:20230814T223635Z
URL:https://www.larevistadelapalma.com/events/concierto-de-atlantis-y-mani
 komio-del-sur-en-fuencaliente/
SUMMARY:Concierto de Atlantis y Manikomio del Sur en Fuencaliente
DESCRIPTION:Un concierto incluido en la programación de las Fiestas de la 
 vendimia de Fuencaliente. \n\nAtlantis. La voz de Yaiza Magdalena encabez
 a esta banda que versionará grandes éxitos del rock español e internaci
 onal de las últimas décadas.\n\n\n\nManikomio del Sur ofrecerá un reper
 torio formado íntegramente por temas propios con su particular estilo nad
 a convencional que se balancea entre el rock\, el ska\, e incluso el regga
 e.\n\n\n\n&nbsp\;
ATTACH;FMTTYPE=image/jpeg:https://www.larevistadelapalma.com/wp-content/up
 loads/2023/08/Atlantis-y-Manikomio-del-Sur.jpg
CATEGORIES:Conciertos,Música
LOCATION:Plaza del Ayuntamiento de Fuencaliente\, C. San Antonio\, Los Cana
 rios\, Fuencaliente\, 38740\, España
GEO:28.494669;-17.845068
X-APPLE-STRUCTURED-LOCATION;VALUE=URI;X-ADDRESS=C. San Antonio\, Los Canari
 os\, Fuencaliente\, 38740\, España;X-APPLE-RADIUS=100;X-TITLE=Plaza del A
 yuntamiento de Fuencaliente:geo:28.494669,-17.845068
END:VEVENT
END:VCALENDAR