BEGIN:VCALENDAR
VERSION:2.0
PRODID:-//wp-events-plugin.com//7.2.3.1//EN
TZID:Europe/London
X-WR-TIMEZONE:Europe/London
BEGIN:VEVENT
UID:3671@larevistadelapalma.com
DTSTART:20250329T170000Z
DTEND:20250329T183000Z
DTSTAMP:20250328T191531Z
URL:https://www.larevistadelapalma.com/events/concierto-de-bahia-tualla-en
 -el-contemporaneo/
SUMMARY:Concierto de Bahía Tualla en el Contemporáneo
DESCRIPTION:El grupo Bahía Tualla (Celia Pérez\, Jorge Garde y Nico Santo
 laya) que iban a actuar el sábado en el Festival Candela de El Paso\, des
 pués de el aplazamiento del evento por motivos meteorológicos\, ofrecer
 án un concierto en el Museo Contemporáneo de Santa Cruz de La Palma.\n\n
 Entrada libre.\n\n\n\n&nbsp\;\n\n\n\n\n\n\n\n\n\n\nVer esta publicación e
 n Instagram\n\n\n\n\n\n\n\n\n\n\n\n\n\n\n\n\n\n\n\n\n\n\n&nbsp\;\nUna publ
 icación compartida de Bahía Tualla (@bahiatuallamusica)\n\n\n
ATTACH;FMTTYPE=image/jpeg:https://www.larevistadelapalma.com/wp-content/up
 loads/2025/03/Bahia-Tualla.jpeg
CATEGORIES:Conciertos,Música
LOCATION:Museo de Arte Contemporáneo y Centro de Interpretación de La Baj
 ada de La Virgen\, Santa Cruz de La Palma\, Calle Virgen de la Luz\, nº13
 \, Santa Cruz De La Palma\, Santa Cruz de Tenerife\, 38700\, España
GEO:28.681507;-17.767058
X-APPLE-STRUCTURED-LOCATION;VALUE=URI;X-ADDRESS=Calle Virgen de la Luz\, n
 º13\, Santa Cruz De La Palma\, Santa Cruz de Tenerife\, 38700\, España;X
 -APPLE-RADIUS=100;X-TITLE=Museo de Arte Contemporáneo y Centro de Interpr
 etación de La Bajada de La Virgen\, Santa Cruz de La Palma:geo:28.681507,
 -17.767058
END:VEVENT
END:VCALENDARBEGIN:VCALENDAR
VERSION:2.0
PRODID:-//wp-events-plugin.com//7.2.3.1//EN
TZID:Europe/London
X-WR-TIMEZONE:Europe/London
BEGIN:VEVENT
UID:3671@larevistadelapalma.com
DTSTART:20250329T170000Z
DTEND:20250329T183000Z
DTSTAMP:20250328T191531Z
URL:https://www.larevistadelapalma.com/events/concierto-de-bahia-tualla-en
 -el-contemporaneo/
SUMMARY:Concierto de Bahía Tualla en el Contemporáneo
DESCRIPTION:El grupo Bahía Tualla (Celia Pérez\, Jorge Garde y Nico Santo
 laya) que iban a actuar el sábado en el Festival Candela de El Paso\, des
 pués de el aplazamiento del evento por motivos meteorológicos\, ofrecer
 án un concierto en el Museo Contemporáneo de Santa Cruz de La Palma.\n\n
 Entrada libre.\n\n\n\n&nbsp\;\n\n\n\n\n\n\n\n\n\n\nVer esta publicación e
 n Instagram\n\n\n\n\n\n\n\n\n\n\n\n\n\n\n\n\n\n\n\n\n\n\n&nbsp\;\nUna publ
 icación compartida de Bahía Tualla (@bahiatuallamusica)\n\n\n
ATTACH;FMTTYPE=image/jpeg:https://www.larevistadelapalma.com/wp-content/up
 loads/2025/03/Bahia-Tualla.jpeg
CATEGORIES:Conciertos,Música
LOCATION:Museo de Arte Contemporáneo y Centro de Interpretación de La Baj
 ada de La Virgen\, Santa Cruz de La Palma\, Calle Virgen de la Luz\, nº13
 \, Santa Cruz De La Palma\, Santa Cruz de Tenerife\, 38700\, España
GEO:28.681507;-17.767058
X-APPLE-STRUCTURED-LOCATION;VALUE=URI;X-ADDRESS=Calle Virgen de la Luz\, n
 º13\, Santa Cruz De La Palma\, Santa Cruz de Tenerife\, 38700\, España;X
 -APPLE-RADIUS=100;X-TITLE=Museo de Arte Contemporáneo y Centro de Interpr
 etación de La Bajada de La Virgen\, Santa Cruz de La Palma:geo:28.681507,
 -17.767058
END:VEVENT
END:VCALENDAR