BEGIN:VCALENDAR
VERSION:2.0
PRODID:-//wp-events-plugin.com//7.2.3.1//EN
TZID:Europe/London
X-WR-TIMEZONE:Europe/London
BEGIN:VEVENT
UID:3467@larevistadelapalma.com
DTSTART:20241206T193000Z
DTEND:20241206T210000Z
DTSTAMP:20241204T044901Z
URL:https://www.larevistadelapalma.com/events/concierto-de-buszjan-quartet
 -en-puntagorda/
SUMMARY:Concierto de Buszjan Quartet en Puntagorda
DESCRIPTION:Buszjan Quartet actúa este viernes 6\, en la Casa de la Cultur
 a de Puntagorda. Fusión de rock\, blues\, y folk americano.\n\nCon entrad
 a libre hasta completar el aforo.
ATTACH;FMTTYPE=image/jpeg:https://www.larevistadelapalma.com/wp-content/up
 loads/2024/12/Buszjan-QUartet.jpg
CATEGORIES:Conciertos,Música
LOCATION:Casa de La Cultura\, Puntagorda\, C. Cuatro Caminos\, 5\, Puntagor
 da\, 38789\, España
GEO:28.774328;-17.976112
X-APPLE-STRUCTURED-LOCATION;VALUE=URI;X-ADDRESS=C. Cuatro Caminos\, 5\, Pun
 tagorda\, 38789\, España;X-APPLE-RADIUS=100;X-TITLE=Casa de La Cultura\, 
 Puntagorda:geo:28.774328,-17.976112
END:VEVENT
END:VCALENDARBEGIN:VCALENDAR
VERSION:2.0
PRODID:-//wp-events-plugin.com//7.2.3.1//EN
TZID:Europe/London
X-WR-TIMEZONE:Europe/London
BEGIN:VEVENT
UID:3467@larevistadelapalma.com
DTSTART:20241206T193000Z
DTEND:20241206T210000Z
DTSTAMP:20241204T044901Z
URL:https://www.larevistadelapalma.com/events/concierto-de-buszjan-quartet
 -en-puntagorda/
SUMMARY:Concierto de Buszjan Quartet en Puntagorda
DESCRIPTION:Buszjan Quartet actúa este viernes 6\, en la Casa de la Cultur
 a de Puntagorda. Fusión de rock\, blues\, y folk americano.\n\nCon entrad
 a libre hasta completar el aforo.
ATTACH;FMTTYPE=image/jpeg:https://www.larevistadelapalma.com/wp-content/up
 loads/2024/12/Buszjan-QUartet.jpg
CATEGORIES:Conciertos,Música
LOCATION:Casa de La Cultura\, Puntagorda\, C. Cuatro Caminos\, 5\, Puntagor
 da\, 38789\, España
GEO:28.774328;-17.976112
X-APPLE-STRUCTURED-LOCATION;VALUE=URI;X-ADDRESS=C. Cuatro Caminos\, 5\, Pun
 tagorda\, 38789\, España;X-APPLE-RADIUS=100;X-TITLE=Casa de La Cultura\, 
 Puntagorda:geo:28.774328,-17.976112
END:VEVENT
END:VCALENDAR