BEGIN:VCALENDAR
VERSION:2.0
PRODID:-//wp-events-plugin.com//7.2.3.1//EN
TZID:Europe/London
X-WR-TIMEZONE:Europe/London
BEGIN:VEVENT
UID:3527@larevistadelapalma.com
DTSTART;VALUE=DATE:20250823
DTEND;VALUE=DATE:20250824
DTSTAMP:20241220T230549Z
URL:https://www.larevistadelapalma.com/events/concierto-de-camilo-en-la-pa
 lma/
SUMMARY:Camilo este verano en La Palma en ResisTime 2025
DESCRIPTION:Camilo ofrecerá un concierto este verano en La Palma\, en el 
 Festival ResisTime 2025\, que se celebra en el municipio de El Paso.\n\nEl
  artista colombiano\, ganador de seis Grammy latinos\, y creador de melod
 ías tan populares como “Vida de rico”\, "Desconocidos"\, "La Mitad" o
  "Una Vida Pasada"\, incluye a la Isla Bonita como uno de las fechas de su
  gira 2025.Las entradas estarán disponibles a partir de este lunes 23 de 
 diciembre a las 11:00h (hora canaria) en tomaticket.es
ATTACH;FMTTYPE=image/jpeg:https://www.larevistadelapalma.com/wp-content/up
 loads/2024/12/cAMILO-LA-PALMA.jpg
CATEGORIES:Festivales/Fiestas,Música
LOCATION:Municipio de El Paso\, El Paso\, La Palma \, El Paso\, 38750\, Esp
 aña
GEO:28.652378;-17.880396
X-APPLE-STRUCTURED-LOCATION;VALUE=URI;X-ADDRESS=El Paso\, La Palma \, El Pa
 so\, 38750\, España;X-APPLE-RADIUS=100;X-TITLE=Municipio de El Paso:geo:2
 8.652378,-17.880396
END:VEVENT
END:VCALENDARBEGIN:VCALENDAR
VERSION:2.0
PRODID:-//wp-events-plugin.com//7.2.3.1//EN
TZID:Europe/London
X-WR-TIMEZONE:Europe/London
BEGIN:VEVENT
UID:3527@larevistadelapalma.com
DTSTART;VALUE=DATE:20250823
DTEND;VALUE=DATE:20250824
DTSTAMP:20241220T230549Z
URL:https://www.larevistadelapalma.com/events/concierto-de-camilo-en-la-pa
 lma/
SUMMARY:Camilo este verano en La Palma en ResisTime 2025
DESCRIPTION:Camilo ofrecerá un concierto este verano en La Palma\, en el 
 Festival ResisTime 2025\, que se celebra en el municipio de El Paso.\n\nEl
  artista colombiano\, ganador de seis Grammy latinos\, y creador de melod
 ías tan populares como “Vida de rico”\, "Desconocidos"\, "La Mitad" o
  "Una Vida Pasada"\, incluye a la Isla Bonita como uno de las fechas de su
  gira 2025.Las entradas estarán disponibles a partir de este lunes 23 de 
 diciembre a las 11:00h (hora canaria) en tomaticket.es
ATTACH;FMTTYPE=image/jpeg:https://www.larevistadelapalma.com/wp-content/up
 loads/2024/12/cAMILO-LA-PALMA.jpg
CATEGORIES:Festivales/Fiestas,Música
LOCATION:Municipio de El Paso\, El Paso\, La Palma \, El Paso\, 38750\, Esp
 aña
GEO:28.652378;-17.880396
X-APPLE-STRUCTURED-LOCATION;VALUE=URI;X-ADDRESS=El Paso\, La Palma \, El Pa
 so\, 38750\, España;X-APPLE-RADIUS=100;X-TITLE=Municipio de El Paso:geo:2
 8.652378,-17.880396
END:VEVENT
END:VCALENDAR