BEGIN:VCALENDAR
VERSION:2.0
PRODID:-//wp-events-plugin.com//7.2.3.1//EN
TZID:Europe/London
X-WR-TIMEZONE:Europe/London
BEGIN:VEVENT
UID:3113@larevistadelapalma.com
DTSTART:20240719T180000Z
DTEND:20240719T193000Z
DTSTAMP:20240708T235535Z
URL:https://www.larevistadelapalma.com/events/concierto-de-clave-con-goret
 ty-pena/
SUMMARY:Concierto de clave con Goretty Peña
DESCRIPTION:Música Barroca.\nLa palmera Goretty Peña\, profesora de la Es
 cuela Insular de Música de La Palma\, nos ofrece este recital\, enmarcado
  en el Ciclo de Música Clásica de la Casa del Conde\, y que se basa en a
 utores muy representativos de la música antigua para clave en su periodo 
 de mayor apogeo como instrumento a sólo. Leer más &gt\;&gt\;\nEntradas 1
 5€. Comprar &gt\;&gt\;
ATTACH;FMTTYPE=image/jpeg:https://www.larevistadelapalma.com/wp-content/up
 loads/2024/07/GORETTY-PENA-scaled.jpg
CATEGORIES:Conciertos,Música
LOCATION:Casa del Conde\, Los Llanos de Aridane\, C/San Antonio\, 35 - Llan
 o de Argual\, Los Llanos de Aridane\, 38760\, España
GEO:28.655333;-17.926641
X-APPLE-STRUCTURED-LOCATION;VALUE=URI;X-ADDRESS=C/San Antonio\, 35 - Llano 
 de Argual\, Los Llanos de Aridane\, 38760\, España;X-APPLE-RADIUS=100;X-T
 ITLE=Casa del Conde\, Los Llanos de Aridane:geo:28.655333,-17.926641
END:VEVENT
END:VCALENDARBEGIN:VCALENDAR
VERSION:2.0
PRODID:-//wp-events-plugin.com//7.2.3.1//EN
TZID:Europe/London
X-WR-TIMEZONE:Europe/London
BEGIN:VEVENT
UID:3113@larevistadelapalma.com
DTSTART:20240719T180000Z
DTEND:20240719T193000Z
DTSTAMP:20240708T235535Z
URL:https://www.larevistadelapalma.com/events/concierto-de-clave-con-goret
 ty-pena/
SUMMARY:Concierto de clave con Goretty Peña
DESCRIPTION:Música Barroca.\nLa palmera Goretty Peña\, profesora de la Es
 cuela Insular de Música de La Palma\, nos ofrece este recital\, enmarcado
  en el Ciclo de Música Clásica de la Casa del Conde\, y que se basa en a
 utores muy representativos de la música antigua para clave en su periodo 
 de mayor apogeo como instrumento a sólo. Leer más &gt\;&gt\;\nEntradas 1
 5€. Comprar &gt\;&gt\;
ATTACH;FMTTYPE=image/jpeg:https://www.larevistadelapalma.com/wp-content/up
 loads/2024/07/GORETTY-PENA-scaled.jpg
CATEGORIES:Conciertos,Música
LOCATION:Casa del Conde\, Los Llanos de Aridane\, C/San Antonio\, 35 - Llan
 o de Argual\, Los Llanos de Aridane\, 38760\, España
GEO:28.655333;-17.926641
X-APPLE-STRUCTURED-LOCATION;VALUE=URI;X-ADDRESS=C/San Antonio\, 35 - Llano 
 de Argual\, Los Llanos de Aridane\, 38760\, España;X-APPLE-RADIUS=100;X-T
 ITLE=Casa del Conde\, Los Llanos de Aridane:geo:28.655333,-17.926641
END:VEVENT
END:VCALENDAR