BEGIN:VCALENDAR
VERSION:2.0
PRODID:-//wp-events-plugin.com//7.2.3.1//EN
TZID:Europe/London
X-WR-TIMEZONE:Europe/London
BEGIN:VEVENT
UID:3789@larevistadelapalma.com
DTSTART:20250606T180000Z
DTEND:20250606T193000Z
DTSTAMP:20250604T200641Z
URL:https://www.larevistadelapalma.com/events/concierto-de-conjunto-de-vio
 lines/
SUMMARY:Concierto de Conjunto de Violines
DESCRIPTION:\nLa Escuela Insular de Música de La Palma te invita este vier
 nes a disfrutar de una tarde musical al aire libre. Un concierto lleno de 
 talento\, emoción y buen ambiente.\n\n\n\nUna actividad enmarcada en la c
 elebración de sus 30 años de escuela.\n ¡Entrada libre!\n\n
ATTACH;FMTTYPE=image/jpeg:https://www.larevistadelapalma.com/wp-content/up
 loads/2025/06/Concierto-Violines.jpg
CATEGORIES:Conciertos,Música
LOCATION:Plaza de Montserrat en San Andrés y Sauces\, Calle Montserrat\, S
 an Andrés y Sauces\, 38729\, España
GEO:28.784222;-17.799155
X-APPLE-STRUCTURED-LOCATION;VALUE=URI;X-ADDRESS=Calle Montserrat\, San Andr
 és y Sauces\, 38729\, España;X-APPLE-RADIUS=100;X-TITLE=Plaza de Montser
 rat en San Andrés y Sauces:geo:28.784222,-17.799155
END:VEVENT
END:VCALENDARBEGIN:VCALENDAR
VERSION:2.0
PRODID:-//wp-events-plugin.com//7.2.3.1//EN
TZID:Europe/London
X-WR-TIMEZONE:Europe/London
BEGIN:VEVENT
UID:3789@larevistadelapalma.com
DTSTART:20250606T180000Z
DTEND:20250606T193000Z
DTSTAMP:20250604T200641Z
URL:https://www.larevistadelapalma.com/events/concierto-de-conjunto-de-vio
 lines/
SUMMARY:Concierto de Conjunto de Violines
DESCRIPTION:\nLa Escuela Insular de Música de La Palma te invita este vier
 nes a disfrutar de una tarde musical al aire libre. Un concierto lleno de 
 talento\, emoción y buen ambiente.\n\n\n\nUna actividad enmarcada en la c
 elebración de sus 30 años de escuela.\n ¡Entrada libre!\n\n
ATTACH;FMTTYPE=image/jpeg:https://www.larevistadelapalma.com/wp-content/up
 loads/2025/06/Concierto-Violines.jpg
CATEGORIES:Conciertos,Música
LOCATION:Plaza de Montserrat en San Andrés y Sauces\, Calle Montserrat\, S
 an Andrés y Sauces\, 38729\, España
GEO:28.784222;-17.799155
X-APPLE-STRUCTURED-LOCATION;VALUE=URI;X-ADDRESS=Calle Montserrat\, San Andr
 és y Sauces\, 38729\, España;X-APPLE-RADIUS=100;X-TITLE=Plaza de Montser
 rat en San Andrés y Sauces:geo:28.784222,-17.799155
END:VEVENT
END:VCALENDAR