BEGIN:VCALENDAR
VERSION:2.0
PRODID:-//wp-events-plugin.com//7.2.3.1//EN
TZID:Europe/London
X-WR-TIMEZONE:Europe/London
BEGIN:VEVENT
UID:3999@larevistadelapalma.com
DTSTART:20251017T193000Z
DTEND:20251017T210000Z
DTSTAMP:20251007T201550Z
URL:https://www.larevistadelapalma.com/events/concierto-de-fado-con-jose-g
 eadas/
SUMMARY:Concierto de Fado con José Geadas
DESCRIPTION:El joven cantante y guitarrista portugués José Geadas ofrecer
 á un concierto en el Teatro Circo de Marte el próximo 17 de octubre.\n\n
 El fadista y compositor tiene una formación muy marcada en el fado tradic
 ional y su prioridad es honrar lo que le define. Ganador de la Grande Noit
 e do Fado de 2006\, su trayectoria cuenta con actuaciones en diversas sala
 s y festivales dentro y fuera del país\, y una presencia asidua en las ca
 sas de fado de Lisboa.\n\n
ATTACH;FMTTYPE=image/jpeg:https://www.larevistadelapalma.com/wp-content/up
 loads/2025/10/Jose-Geadas.jpg
CATEGORIES:Conciertos,Música
LOCATION:Teatro Circo de Marte\, Calle Virgen de La Luz\, 5\, Santa Cruz de
  La Palma\, 38700\, España
GEO:28.682989;-17.765755
X-APPLE-STRUCTURED-LOCATION;VALUE=URI;X-ADDRESS=Calle Virgen de La Luz\, 5\
 , Santa Cruz de La Palma\, 38700\, España;X-APPLE-RADIUS=100;X-TITLE=Teat
 ro Circo de Marte:geo:28.682989,-17.765755
END:VEVENT
END:VCALENDARBEGIN:VCALENDAR
VERSION:2.0
PRODID:-//wp-events-plugin.com//7.2.3.1//EN
TZID:Europe/London
X-WR-TIMEZONE:Europe/London
BEGIN:VEVENT
UID:3999@larevistadelapalma.com
DTSTART:20251017T193000Z
DTEND:20251017T210000Z
DTSTAMP:20251007T201550Z
URL:https://www.larevistadelapalma.com/events/concierto-de-fado-con-jose-g
 eadas/
SUMMARY:Concierto de Fado con José Geadas
DESCRIPTION:El joven cantante y guitarrista portugués José Geadas ofrecer
 á un concierto en el Teatro Circo de Marte el próximo 17 de octubre.\n\n
 El fadista y compositor tiene una formación muy marcada en el fado tradic
 ional y su prioridad es honrar lo que le define. Ganador de la Grande Noit
 e do Fado de 2006\, su trayectoria cuenta con actuaciones en diversas sala
 s y festivales dentro y fuera del país\, y una presencia asidua en las ca
 sas de fado de Lisboa.\n\n
ATTACH;FMTTYPE=image/jpeg:https://www.larevistadelapalma.com/wp-content/up
 loads/2025/10/Jose-Geadas.jpg
CATEGORIES:Conciertos,Música
LOCATION:Teatro Circo de Marte\, Calle Virgen de La Luz\, 5\, Santa Cruz de
  La Palma\, 38700\, España
GEO:28.682989;-17.765755
X-APPLE-STRUCTURED-LOCATION;VALUE=URI;X-ADDRESS=Calle Virgen de La Luz\, 5\
 , Santa Cruz de La Palma\, 38700\, España;X-APPLE-RADIUS=100;X-TITLE=Teat
 ro Circo de Marte:geo:28.682989,-17.765755
END:VEVENT
END:VCALENDAR