BEGIN:VCALENDAR
VERSION:2.0
PRODID:-//wp-events-plugin.com//7.2.3.1//EN
TZID:Europe/London
X-WR-TIMEZONE:Europe/London
BEGIN:VEVENT
UID:4413@larevistadelapalma.com
DTSTART:20251221T180000Z
DTEND:20251221T193000Z
DTSTAMP:20251217T234346Z
URL:https://www.larevistadelapalma.com/events/concierto-de-gospel-con-gene
 sis-el-paso/
SUMMARY:Concierto de Góspel con Génesis. El Paso
DESCRIPTION:\nGénesis de Jesús\, de ascendencia dominicana\, nació y fue
  criado en Madrid. Cantante formado en el Coro de Góspel de Madrid\, con 
 influencias en otros estilos como el R&amp\;B y el Neo Soul. Participante 
 del programa La Voz logró quedar en el segundo puesto en el año 2022. En
  la actualidad es el vocalista de AfroJam Madrid además de actuar en otro
 s shows.\nUn concierto incluido en la programación del 20ª edición\, de
 l Gospel Canarias Fest.\n\n\nIglesia Ntra Sra de Bonanza.\n\n\n\n
ATTACH;FMTTYPE=image/jpeg:https://www.larevistadelapalma.com/wp-content/up
 loads/2025/12/Concierto-gospel-el-paso.jpg
CATEGORIES:Conciertos,Música
LOCATION:Municipio de El Paso\, El Paso\, La Palma \, El Paso\, 38750\, Esp
 aña
GEO:28.652378;-17.880396
X-APPLE-STRUCTURED-LOCATION;VALUE=URI;X-ADDRESS=El Paso\, La Palma \, El Pa
 so\, 38750\, España;X-APPLE-RADIUS=100;X-TITLE=Municipio de El Paso:geo:2
 8.652378,-17.880396
END:VEVENT
END:VCALENDARBEGIN:VCALENDAR
VERSION:2.0
PRODID:-//wp-events-plugin.com//7.2.3.1//EN
TZID:Europe/London
X-WR-TIMEZONE:Europe/London
BEGIN:VEVENT
UID:4413@larevistadelapalma.com
DTSTART:20251221T180000Z
DTEND:20251221T193000Z
DTSTAMP:20251217T234346Z
URL:https://www.larevistadelapalma.com/events/concierto-de-gospel-con-gene
 sis-el-paso/
SUMMARY:Concierto de Góspel con Génesis. El Paso
DESCRIPTION:\nGénesis de Jesús\, de ascendencia dominicana\, nació y fue
  criado en Madrid. Cantante formado en el Coro de Góspel de Madrid\, con 
 influencias en otros estilos como el R&amp\;B y el Neo Soul. Participante 
 del programa La Voz logró quedar en el segundo puesto en el año 2022. En
  la actualidad es el vocalista de AfroJam Madrid además de actuar en otro
 s shows.\nUn concierto incluido en la programación del 20ª edición\, de
 l Gospel Canarias Fest.\n\n\nIglesia Ntra Sra de Bonanza.\n\n\n\n
ATTACH;FMTTYPE=image/jpeg:https://www.larevistadelapalma.com/wp-content/up
 loads/2025/12/Concierto-gospel-el-paso.jpg
CATEGORIES:Conciertos,Música
LOCATION:Municipio de El Paso\, El Paso\, La Palma \, El Paso\, 38750\, Esp
 aña
GEO:28.652378;-17.880396
X-APPLE-STRUCTURED-LOCATION;VALUE=URI;X-ADDRESS=El Paso\, La Palma \, El Pa
 so\, 38750\, España;X-APPLE-RADIUS=100;X-TITLE=Municipio de El Paso:geo:2
 8.652378,-17.880396
END:VEVENT
END:VCALENDAR