BEGIN:VCALENDAR
VERSION:2.0
PRODID:-//wp-events-plugin.com//7.2.3.1//EN
TZID:Europe/London
X-WR-TIMEZONE:Europe/London
BEGIN:VEVENT
UID:3676@larevistadelapalma.com
DTSTART:20250404T190000Z
DTEND:20250404T203000Z
DTSTAMP:20250401T170610Z
URL:https://www.larevistadelapalma.com/events/concierto-de-hirahi-afonso-e
 n-los-llanos-de-aridane/
SUMMARY:Concierto de Hirahi Afonso en Los Llanos de Aridane
DESCRIPTION:El ciclo "Conciertos La Plaza A3" prosigue con el concierto del
  timplista y guitarrista Hirahi Afonso.  Este grancanario explora distint
 os estilos e influencias musicales. Su primer trabajo discográfico\, 'Mem
 ento'\, fue premiado como "Mejor Disco de Músicas de Jazz y Fusión" en l
 os Premios Canarios de la Música.\n\nHa participado en varios proyectos c
 on Olga Cerpa y Mestisay y ha realizado colaboraciones con artistas como O
 mara Portuondo\, Carlos Oramas\, “El Colorao”\, entre otros\, lo que l
 e ha llevado a visitar innumerables escenarios y a realizar giras internac
 ionales.\n\nEn su segundo álbum\, "LO PURO\," cuenta con colaboraciones i
 nternacionales y nacionales\, como Pedro Guerra\, Rita Payés\, Vic Mirall
 as\, Judit Neddermann\, Valeria Castro\, Pol Batlle\, Meritxell Neddermann
 \, LAJALADA ...\n\n
ATTACH;FMTTYPE=image/jpeg:https://www.larevistadelapalma.com/wp-content/up
 loads/2025/04/HIrahi-afonso.jpg
CATEGORIES:Conciertos,Música
LOCATION:Plaza de España en Los Llanos de Aridane\, Plaza de España\, Los
  Llanos de Aridane\, 38760\, España
GEO:28.658934;-17.913174
X-APPLE-STRUCTURED-LOCATION;VALUE=URI;X-ADDRESS=Plaza de España\, Los Llan
 os de Aridane\, 38760\, España;X-APPLE-RADIUS=100;X-TITLE=Plaza de Españ
 a en Los Llanos de Aridane:geo:28.658934,-17.913174
END:VEVENT
END:VCALENDARBEGIN:VCALENDAR
VERSION:2.0
PRODID:-//wp-events-plugin.com//7.2.3.1//EN
TZID:Europe/London
X-WR-TIMEZONE:Europe/London
BEGIN:VEVENT
UID:3676@larevistadelapalma.com
DTSTART:20250404T190000Z
DTEND:20250404T203000Z
DTSTAMP:20250401T170610Z
URL:https://www.larevistadelapalma.com/events/concierto-de-hirahi-afonso-e
 n-los-llanos-de-aridane/
SUMMARY:Concierto de Hirahi Afonso en Los Llanos de Aridane
DESCRIPTION:El ciclo "Conciertos La Plaza A3" prosigue con el concierto del
  timplista y guitarrista Hirahi Afonso.  Este grancanario explora distint
 os estilos e influencias musicales. Su primer trabajo discográfico\, 'Mem
 ento'\, fue premiado como "Mejor Disco de Músicas de Jazz y Fusión" en l
 os Premios Canarios de la Música.\n\nHa participado en varios proyectos c
 on Olga Cerpa y Mestisay y ha realizado colaboraciones con artistas como O
 mara Portuondo\, Carlos Oramas\, “El Colorao”\, entre otros\, lo que l
 e ha llevado a visitar innumerables escenarios y a realizar giras internac
 ionales.\n\nEn su segundo álbum\, "LO PURO\," cuenta con colaboraciones i
 nternacionales y nacionales\, como Pedro Guerra\, Rita Payés\, Vic Mirall
 as\, Judit Neddermann\, Valeria Castro\, Pol Batlle\, Meritxell Neddermann
 \, LAJALADA ...\n\n
ATTACH;FMTTYPE=image/jpeg:https://www.larevistadelapalma.com/wp-content/up
 loads/2025/04/HIrahi-afonso.jpg
CATEGORIES:Conciertos,Música
LOCATION:Plaza de España en Los Llanos de Aridane\, Plaza de España\, Los
  Llanos de Aridane\, 38760\, España
GEO:28.658934;-17.913174
X-APPLE-STRUCTURED-LOCATION;VALUE=URI;X-ADDRESS=Plaza de España\, Los Llan
 os de Aridane\, 38760\, España;X-APPLE-RADIUS=100;X-TITLE=Plaza de Españ
 a en Los Llanos de Aridane:geo:28.658934,-17.913174
END:VEVENT
END:VCALENDAR