BEGIN:VCALENDAR
VERSION:2.0
PRODID:-//wp-events-plugin.com//7.2.3.1//EN
TZID:Europe/London
X-WR-TIMEZONE:Europe/London
BEGIN:VEVENT
UID:4549@larevistadelapalma.com
DTSTART:20260306T190000Z
DTEND:20260306T203000Z
DTSTAMP:20260306T221319Z
URL:https://www.larevistadelapalma.com/events/concierto-de-isla-catalufa-l
 os-llanos/
SUMMARY:Concierto de "Isla Catalufa". Los Llanos- APLAZADO
DESCRIPTION:Aplazado por meteorología adversa. Nueva fecha&gt\;&gt\;\n\n«
 Isla Catalufa» es un grupo formado por tres músicos de amplia trayectori
 a en el mundo del Jazz: Tomás Stehlik al piano\, Mike Fernández al bajo 
 y Andrés Pérez a la batería. Acompañan a la joven cantante Cristina Lo
 zano\, nueva promesa musical de La Palma\, quien ya ha demostrado su talen
 to en su proyecto inicial\, «Cristina Lozano Quartet».\n\nEl grupo se es
 pecializa en versiones en inglés\, destacando la influencia del Jazz que 
 aportan sus integrantes\, pero con una marcada vocación comercial. Su rep
 ertorio abarca Soul\, Pop\, Rock y Música Latina\, con el objetivo de lle
 gar al mayor número de público posible\, siempre buscando sorprender y d
 ivertir al espectador. Su filosofía es clara: hacer buena música disfrut
 ando cada momento\, sin límites de estilo ni dificultad.\n\nSus versiones
  van desde Charlie Parker hasta Adele\, Alicia Keys\, Nirvana\, The Jackso
 n Five\, Cole Porter o Randy Crawford\, adaptando siempre cada tema con su
  toque personal y seleccionando el repertorio según la ocasión.\n\nEn de
 finitiva\, «Isla Catalufa» es un grupo que entretiene y hace disfrutar a
 l público\, garantizando una experiencia musical versátil\, elegante y d
 ivertida en cualquier escenario.
ATTACH;FMTTYPE=image/jpeg:https://www.larevistadelapalma.com/wp-content/up
 loads/2026/03/3-6-isla-catalufa.jpg
CATEGORIES:Conciertos,Música
LOCATION:Plaza de España en Los Llanos de Aridane\, Plaza de España\, Los
  Llanos de Aridane\, 38760\, España
GEO:28.658934;-17.913174
X-APPLE-STRUCTURED-LOCATION;VALUE=URI;X-ADDRESS=Plaza de España\, Los Llan
 os de Aridane\, 38760\, España;X-APPLE-RADIUS=100;X-TITLE=Plaza de Españ
 a en Los Llanos de Aridane:geo:28.658934,-17.913174
END:VEVENT
END:VCALENDARBEGIN:VCALENDAR
VERSION:2.0
PRODID:-//wp-events-plugin.com//7.2.3.1//EN
TZID:Europe/London
X-WR-TIMEZONE:Europe/London
BEGIN:VEVENT
UID:4549@larevistadelapalma.com
DTSTART:20260306T190000Z
DTEND:20260306T203000Z
DTSTAMP:20260306T221319Z
URL:https://www.larevistadelapalma.com/events/concierto-de-isla-catalufa-l
 os-llanos/
SUMMARY:Concierto de "Isla Catalufa". Los Llanos- APLAZADO
DESCRIPTION:Aplazado por meteorología adversa. Nueva fecha&gt\;&gt\;\n\n«
 Isla Catalufa» es un grupo formado por tres músicos de amplia trayectori
 a en el mundo del Jazz: Tomás Stehlik al piano\, Mike Fernández al bajo 
 y Andrés Pérez a la batería. Acompañan a la joven cantante Cristina Lo
 zano\, nueva promesa musical de La Palma\, quien ya ha demostrado su talen
 to en su proyecto inicial\, «Cristina Lozano Quartet».\n\nEl grupo se es
 pecializa en versiones en inglés\, destacando la influencia del Jazz que 
 aportan sus integrantes\, pero con una marcada vocación comercial. Su rep
 ertorio abarca Soul\, Pop\, Rock y Música Latina\, con el objetivo de lle
 gar al mayor número de público posible\, siempre buscando sorprender y d
 ivertir al espectador. Su filosofía es clara: hacer buena música disfrut
 ando cada momento\, sin límites de estilo ni dificultad.\n\nSus versiones
  van desde Charlie Parker hasta Adele\, Alicia Keys\, Nirvana\, The Jackso
 n Five\, Cole Porter o Randy Crawford\, adaptando siempre cada tema con su
  toque personal y seleccionando el repertorio según la ocasión.\n\nEn de
 finitiva\, «Isla Catalufa» es un grupo que entretiene y hace disfrutar a
 l público\, garantizando una experiencia musical versátil\, elegante y d
 ivertida en cualquier escenario.
ATTACH;FMTTYPE=image/jpeg:https://www.larevistadelapalma.com/wp-content/up
 loads/2026/03/3-6-isla-catalufa.jpg
CATEGORIES:Conciertos,Música
LOCATION:Plaza de España en Los Llanos de Aridane\, Plaza de España\, Los
  Llanos de Aridane\, 38760\, España
GEO:28.658934;-17.913174
X-APPLE-STRUCTURED-LOCATION;VALUE=URI;X-ADDRESS=Plaza de España\, Los Llan
 os de Aridane\, 38760\, España;X-APPLE-RADIUS=100;X-TITLE=Plaza de Españ
 a en Los Llanos de Aridane:geo:28.658934,-17.913174
END:VEVENT
END:VCALENDAR