BEGIN:VCALENDAR
VERSION:2.0
PRODID:-//wp-events-plugin.com//7.2.3.1//EN
TZID:Europe/London
X-WR-TIMEZONE:Europe/London
BEGIN:VEVENT
UID:867@larevistadelapalma.com
DTSTART:20231222T200000Z
DTEND:20231222T213000Z
DTSTAMP:20231222T005418Z
URL:https://www.larevistadelapalma.com/events/concierto-de-julia-debis-en-
 tazacorte/
SUMMARY:Concierto de Julia Debis en Tazacorte
DESCRIPTION:La cantautora palmera Julia Debis vuelve a casa por navidad y 
 ofrecerá un concierto en la Plaza de La Casa Massieu de Tazacorte.\nJulia
  Debis ha vivido siempre en Tazacorte\, un pueblecito de la isla de La Pal
 ma\, muy cerca de Cumbre Vieja.\n\nEn su primer single\, “Rescátame”\
 , empieza cantando: “Cómo se improvisa / cuando estás frente al volcá
 n / Que no te avisa / Que todo está apunto de estallar / Y a toda prisa /
  Buscas el modo de poderte salvar”. Pero esta canción está escrita mes
 es antes de la triste erupción de septiembre del 2021: "En realidad habla
  un poco de cómo suceden las cosas inesperadas. Estaba en un momento de m
 i vida en el que había muchos cambios…".\n\nDesde que Julia se vino a M
 adrid a estudiar Musicología\, se reencontró con Pablo Cebrián\, amigo 
 de siempre de toda la familia y con el que había trabajado también su pa
 dre\, y empezaron a preparar las canciones que formarán su primer álbum.
  Pablo\, ex componente del grupo Fábula\, que tiene una carrera espectacu
 lar como compositor\, músico y productor después de haber trabajado para
  artistas como Malú\, Manuel Carrasco\, David Bisbal\, Nach o Dvicio entr
 e otros\, ha producido finalmente el primer disco de Julia Debis que será
  publicado en el sello discográfico del propio Pablo Cebrián\, Arcadia M
 usic.\n\nEmpezó a aprender guitarra\, piano y a cantar de manera autodida
 cta. Dice que cree "que lo suyo" me viene de escuchar un poco de todo. Lue
 go empezó a hacer conciertos sola por la isla con la guitarra o con los g
 rupos que eran amigos de su padre. A Julia le daba tanta vergüenza que te
 nía una cuenta paralela de Instagram donde subía sus canciones para que 
 su familia y amigos no se enteraran\, pero estos temas empezaron a viraliz
 arse y llegaron las primeras propuestas profesionales. Fue ahí cuando se 
 dio cuenta de que se lo podía plantear de manera profesional. Mientras ta
 nto\, cuando llega a Madrid\, no duda en tocar con algunos compañeros de 
 profesión por las aceras de la Gran Vía. Después le llegó la gran opor
 tunidad de poder cantar en directo “Rescátame” en el festival benéfi
 co para los damnificados del volcán\, “La música con La Palma”\, que
  tuvo lugar en su isla.\n\n\n\n&nbsp\;\n\n\n\n\n\n\n\n\n\n\nVer esta publi
 cación en Instagram\n\n\n\n\n\n\n\n\n\n\n\n\n\n\n\n\n\n\n\n\n\n\n&nbsp\;\
 nUna publicación compartida por Julia Debis (@juliadebis)\n\n\n
ATTACH;FMTTYPE=image/jpeg:https://www.larevistadelapalma.com/wp-content/up
 loads/2023/11/Concierto-de-JUlia-Debis.jpg
CATEGORIES:Conciertos,Música
LOCATION:Casa Masieu\, Tazacorte\, s/n\, C. Miguel de Unamuno\, Tazacorte\,
  38770\, España
GEO:28.641866;-17.936446
X-APPLE-STRUCTURED-LOCATION;VALUE=URI;X-ADDRESS=s/n\, C. Miguel de Unamuno\
 , Tazacorte\, 38770\, España;X-APPLE-RADIUS=100;X-TITLE=Casa Masieu\, Taz
 acorte:geo:28.641866,-17.936446
END:VEVENT
END:VCALENDARBEGIN:VCALENDAR
VERSION:2.0
PRODID:-//wp-events-plugin.com//7.2.3.1//EN
TZID:Europe/London
X-WR-TIMEZONE:Europe/London
BEGIN:VEVENT
UID:867@larevistadelapalma.com
DTSTART:20231222T200000Z
DTEND:20231222T213000Z
DTSTAMP:20231222T005418Z
URL:https://www.larevistadelapalma.com/events/concierto-de-julia-debis-en-
 tazacorte/
SUMMARY:Concierto de Julia Debis en Tazacorte
DESCRIPTION:La cantautora palmera Julia Debis vuelve a casa por navidad y 
 ofrecerá un concierto en la Plaza de La Casa Massieu de Tazacorte.\nJulia
  Debis ha vivido siempre en Tazacorte\, un pueblecito de la isla de La Pal
 ma\, muy cerca de Cumbre Vieja.\n\nEn su primer single\, “Rescátame”\
 , empieza cantando: “Cómo se improvisa / cuando estás frente al volcá
 n / Que no te avisa / Que todo está apunto de estallar / Y a toda prisa /
  Buscas el modo de poderte salvar”. Pero esta canción está escrita mes
 es antes de la triste erupción de septiembre del 2021: "En realidad habla
  un poco de cómo suceden las cosas inesperadas. Estaba en un momento de m
 i vida en el que había muchos cambios…".\n\nDesde que Julia se vino a M
 adrid a estudiar Musicología\, se reencontró con Pablo Cebrián\, amigo 
 de siempre de toda la familia y con el que había trabajado también su pa
 dre\, y empezaron a preparar las canciones que formarán su primer álbum.
  Pablo\, ex componente del grupo Fábula\, que tiene una carrera espectacu
 lar como compositor\, músico y productor después de haber trabajado para
  artistas como Malú\, Manuel Carrasco\, David Bisbal\, Nach o Dvicio entr
 e otros\, ha producido finalmente el primer disco de Julia Debis que será
  publicado en el sello discográfico del propio Pablo Cebrián\, Arcadia M
 usic.\n\nEmpezó a aprender guitarra\, piano y a cantar de manera autodida
 cta. Dice que cree "que lo suyo" me viene de escuchar un poco de todo. Lue
 go empezó a hacer conciertos sola por la isla con la guitarra o con los g
 rupos que eran amigos de su padre. A Julia le daba tanta vergüenza que te
 nía una cuenta paralela de Instagram donde subía sus canciones para que 
 su familia y amigos no se enteraran\, pero estos temas empezaron a viraliz
 arse y llegaron las primeras propuestas profesionales. Fue ahí cuando se 
 dio cuenta de que se lo podía plantear de manera profesional. Mientras ta
 nto\, cuando llega a Madrid\, no duda en tocar con algunos compañeros de 
 profesión por las aceras de la Gran Vía. Después le llegó la gran opor
 tunidad de poder cantar en directo “Rescátame” en el festival benéfi
 co para los damnificados del volcán\, “La música con La Palma”\, que
  tuvo lugar en su isla.\n\n\n\n&nbsp\;\n\n\n\n\n\n\n\n\n\n\nVer esta publi
 cación en Instagram\n\n\n\n\n\n\n\n\n\n\n\n\n\n\n\n\n\n\n\n\n\n\n&nbsp\;\
 nUna publicación compartida por Julia Debis (@juliadebis)\n\n\n
ATTACH;FMTTYPE=image/jpeg:https://www.larevistadelapalma.com/wp-content/up
 loads/2023/11/Concierto-de-JUlia-Debis.jpg
CATEGORIES:Conciertos,Música
LOCATION:Casa Masieu\, Tazacorte\, s/n\, C. Miguel de Unamuno\, Tazacorte\,
  38770\, España
GEO:28.641866;-17.936446
X-APPLE-STRUCTURED-LOCATION;VALUE=URI;X-ADDRESS=s/n\, C. Miguel de Unamuno\
 , Tazacorte\, 38770\, España;X-APPLE-RADIUS=100;X-TITLE=Casa Masieu\, Taz
 acorte:geo:28.641866,-17.936446
END:VEVENT
END:VCALENDAR