BEGIN:VCALENDAR
VERSION:2.0
PRODID:-//wp-events-plugin.com//7.2.3.1//EN
TZID:Europe/London
X-WR-TIMEZONE:Europe/London
BEGIN:VEVENT
UID:3866@larevistadelapalma.com
DTSTART:20250708T213000Z
DTEND:20250708T225900Z
DTSTAMP:20250707T005537Z
URL:https://www.larevistadelapalma.com/events/concierto-de-la-grange-grupo
 -libertad/
SUMMARY:Concierto de La Grange + Grupo Libertad
DESCRIPTION:LA GRANGE\, grupo palmero que mezcla rock\, country y blues.\n\
 nEn el recinto popular de las Fiestas Lustrales.
ATTACH;FMTTYPE=image/jpeg:https://www.larevistadelapalma.com/wp-content/up
 loads/2025/07/La-Grnage.jpg
CATEGORIES:Conciertos,Música
LOCATION:Municipio de Santa Cruz de La Palma\, Santa Cruz de La Palma \, Sa
 nta Cruz de La Palma \, 38700\, España
GEO:28.688757;-17.765102
X-APPLE-STRUCTURED-LOCATION;VALUE=URI;X-ADDRESS=Santa Cruz de La Palma \, S
 anta Cruz de La Palma \, 38700\, España;X-APPLE-RADIUS=100;X-TITLE=Munici
 pio de Santa Cruz de La Palma:geo:28.688757,-17.765102
END:VEVENT
END:VCALENDARBEGIN:VCALENDAR
VERSION:2.0
PRODID:-//wp-events-plugin.com//7.2.3.1//EN
TZID:Europe/London
X-WR-TIMEZONE:Europe/London
BEGIN:VEVENT
UID:3866@larevistadelapalma.com
DTSTART:20250708T213000Z
DTEND:20250708T225900Z
DTSTAMP:20250707T005537Z
URL:https://www.larevistadelapalma.com/events/concierto-de-la-grange-grupo
 -libertad/
SUMMARY:Concierto de La Grange + Grupo Libertad
DESCRIPTION:LA GRANGE\, grupo palmero que mezcla rock\, country y blues.\n\
 nEn el recinto popular de las Fiestas Lustrales.
ATTACH;FMTTYPE=image/jpeg:https://www.larevistadelapalma.com/wp-content/up
 loads/2025/07/La-Grnage.jpg
CATEGORIES:Conciertos,Música
LOCATION:Municipio de Santa Cruz de La Palma\, Santa Cruz de La Palma \, Sa
 nta Cruz de La Palma \, 38700\, España
GEO:28.688757;-17.765102
X-APPLE-STRUCTURED-LOCATION;VALUE=URI;X-ADDRESS=Santa Cruz de La Palma \, S
 anta Cruz de La Palma \, 38700\, España;X-APPLE-RADIUS=100;X-TITLE=Munici
 pio de Santa Cruz de La Palma:geo:28.688757,-17.765102
END:VEVENT
END:VCALENDAR