BEGIN:VCALENDAR
VERSION:2.0
PRODID:-//wp-events-plugin.com//7.2.3.1//EN
TZID:Europe/London
X-WR-TIMEZONE:Europe/London
BEGIN:VEVENT
UID:3445@larevistadelapalma.com
DTSTART:20241206T200000Z
DTEND:20241206T214500Z
DTSTAMP:20241201T125723Z
URL:https://www.larevistadelapalma.com/events/concierto-de-la-teruka-en-pu
 ntagorda/
SUMMARY:Concierto de "La Teruka" en Tazacorte
DESCRIPTION:Cumbia sureña y psicodelia para tres conciertos en La Palma: E
 n Tazacorte\, Puntagorda y Los Llanos de Aridane.\nLa Teruka se formó en 
 abril del año 2010 con la intención de potenciar la nueva cumbia chilena
  o cumbia urbana. Esta banda surge en el año 2010 en la comuna de Futron
 o. La idea de crear esta banda nace de una conversación entre el vocalist
 a y el antiguo percusionista de esta agrupación\, los cuales decidieron f
 ormar esta banda de cumbia urbana. Tal como señala Carlos Andrés Kunz\, 
 bajista\, “La Teruka se alza en sus primeros tiempos como una banda de c
 over\, tocando en diferentes fiestas y discotecas de la Región de Los Rí
 os”.\n\nEl punto de inflexión en la trayectoria de la banda fue su part
 icipación en el programa de televisión “Talento Chileno”\, transmiti
 do a todo el país por Chilevisión. En aquel concurso esta agrupación tu
 vo una participación destacada\, lo que le significó llegar a las instan
 cias finales de dicho programa. Sin duda esta experiencia fue fundamental 
 en la profesionalización de la banda\, ya que al terminar este concurso e
 llos comienzan a escribir sus propias canciones y a preparar su primer dis
 co de estudio.\n\nEn la actualidad La Teruka tiene un extenso repertorio m
 usical\, reflejo de un trabajo serio y profesional\, logrando una gran con
 currencia de público en sus presentaciones.\n\n
ATTACH;FMTTYPE=image/jpeg:https://www.larevistadelapalma.com/wp-content/up
 loads/2024/11/La-Teruka.jpg
CATEGORIES:Conciertos,Música
LOCATION:Plaza de España de Tazacorte\, plaza de España\, Tazacorte\, 387
 70\, España
GEO:28.644047;-17.933657
X-APPLE-STRUCTURED-LOCATION;VALUE=URI;X-ADDRESS=plaza de España\, Tazacort
 e\, 38770\, España;X-APPLE-RADIUS=100;X-TITLE=Plaza de España de Tazacor
 te:geo:28.644047,-17.933657
END:VEVENT
END:VCALENDARBEGIN:VCALENDAR
VERSION:2.0
PRODID:-//wp-events-plugin.com//7.2.3.1//EN
TZID:Europe/London
X-WR-TIMEZONE:Europe/London
BEGIN:VEVENT
UID:3445@larevistadelapalma.com
DTSTART:20241206T200000Z
DTEND:20241206T214500Z
DTSTAMP:20241201T125723Z
URL:https://www.larevistadelapalma.com/events/concierto-de-la-teruka-en-pu
 ntagorda/
SUMMARY:Concierto de "La Teruka" en Tazacorte
DESCRIPTION:Cumbia sureña y psicodelia para tres conciertos en La Palma: E
 n Tazacorte\, Puntagorda y Los Llanos de Aridane.\nLa Teruka se formó en 
 abril del año 2010 con la intención de potenciar la nueva cumbia chilena
  o cumbia urbana. Esta banda surge en el año 2010 en la comuna de Futron
 o. La idea de crear esta banda nace de una conversación entre el vocalist
 a y el antiguo percusionista de esta agrupación\, los cuales decidieron f
 ormar esta banda de cumbia urbana. Tal como señala Carlos Andrés Kunz\, 
 bajista\, “La Teruka se alza en sus primeros tiempos como una banda de c
 over\, tocando en diferentes fiestas y discotecas de la Región de Los Rí
 os”.\n\nEl punto de inflexión en la trayectoria de la banda fue su part
 icipación en el programa de televisión “Talento Chileno”\, transmiti
 do a todo el país por Chilevisión. En aquel concurso esta agrupación tu
 vo una participación destacada\, lo que le significó llegar a las instan
 cias finales de dicho programa. Sin duda esta experiencia fue fundamental 
 en la profesionalización de la banda\, ya que al terminar este concurso e
 llos comienzan a escribir sus propias canciones y a preparar su primer dis
 co de estudio.\n\nEn la actualidad La Teruka tiene un extenso repertorio m
 usical\, reflejo de un trabajo serio y profesional\, logrando una gran con
 currencia de público en sus presentaciones.\n\n
ATTACH;FMTTYPE=image/jpeg:https://www.larevistadelapalma.com/wp-content/up
 loads/2024/11/La-Teruka.jpg
CATEGORIES:Conciertos,Música
LOCATION:Plaza de España de Tazacorte\, plaza de España\, Tazacorte\, 387
 70\, España
GEO:28.644047;-17.933657
X-APPLE-STRUCTURED-LOCATION;VALUE=URI;X-ADDRESS=plaza de España\, Tazacort
 e\, 38770\, España;X-APPLE-RADIUS=100;X-TITLE=Plaza de España de Tazacor
 te:geo:28.644047,-17.933657
END:VEVENT
END:VCALENDAR