BEGIN:VCALENDAR
VERSION:2.0
PRODID:-//wp-events-plugin.com//7.2.3.1//EN
TZID:Europe/London
X-WR-TIMEZONE:Europe/London
BEGIN:VEVENT
UID:916@larevistadelapalma.com
DTSTART:20231223T210000Z
DTEND:20231223T223000Z
DTSTAMP:20231212T210339Z
URL:https://www.larevistadelapalma.com/events/concierto-de-los-600-en-taza
 corte/
SUMMARY:Concierto de Los 600 en Tazacorte
DESCRIPTION:Versiones en español de los temas más populares de las décad
 as de los 70\, 80 y 90.\n\nDesde sus inicios\, en el año 2016\, el grupo 
 formado por Mario Ferrer «Mayín» (drums)\, Bencomo Morales (voz)\, Juan
  Batista (voz)\, Pablo Trujillo (guitarra) y Alejandro Velázquez (bajo) h
 a gozado de una gran aceptación\, acogida entre el público insular.\n\nL
 a banda grancanaria Los 600 versiona un variado repertorio de temas en esp
 añol popularizados en las décadas de los años 70\, los 80 y los 90.
ATTACH;FMTTYPE=image/jpeg:https://www.larevistadelapalma.com/wp-content/up
 loads/2023/07/Los-600-Foto-Rayco-Tacoronte.jpg
CATEGORIES:Conciertos,Música
LOCATION:Plaza de España de Tazacorte\, plaza de España\, Tazacorte\, 387
 70\, España
GEO:28.644047;-17.933657
X-APPLE-STRUCTURED-LOCATION;VALUE=URI;X-ADDRESS=plaza de España\, Tazacort
 e\, 38770\, España;X-APPLE-RADIUS=100;X-TITLE=Plaza de España de Tazacor
 te:geo:28.644047,-17.933657
END:VEVENT
END:VCALENDARBEGIN:VCALENDAR
VERSION:2.0
PRODID:-//wp-events-plugin.com//7.2.3.1//EN
TZID:Europe/London
X-WR-TIMEZONE:Europe/London
BEGIN:VEVENT
UID:916@larevistadelapalma.com
DTSTART:20231223T210000Z
DTEND:20231223T223000Z
DTSTAMP:20231212T210339Z
URL:https://www.larevistadelapalma.com/events/concierto-de-los-600-en-taza
 corte/
SUMMARY:Concierto de Los 600 en Tazacorte
DESCRIPTION:Versiones en español de los temas más populares de las décad
 as de los 70\, 80 y 90.\n\nDesde sus inicios\, en el año 2016\, el grupo 
 formado por Mario Ferrer «Mayín» (drums)\, Bencomo Morales (voz)\, Juan
  Batista (voz)\, Pablo Trujillo (guitarra) y Alejandro Velázquez (bajo) h
 a gozado de una gran aceptación\, acogida entre el público insular.\n\nL
 a banda grancanaria Los 600 versiona un variado repertorio de temas en esp
 añol popularizados en las décadas de los años 70\, los 80 y los 90.
ATTACH;FMTTYPE=image/jpeg:https://www.larevistadelapalma.com/wp-content/up
 loads/2023/07/Los-600-Foto-Rayco-Tacoronte.jpg
CATEGORIES:Conciertos,Música
LOCATION:Plaza de España de Tazacorte\, plaza de España\, Tazacorte\, 387
 70\, España
GEO:28.644047;-17.933657
X-APPLE-STRUCTURED-LOCATION;VALUE=URI;X-ADDRESS=plaza de España\, Tazacort
 e\, 38770\, España;X-APPLE-RADIUS=100;X-TITLE=Plaza de España de Tazacor
 te:geo:28.644047,-17.933657
END:VEVENT
END:VCALENDAR