BEGIN:VCALENDAR
VERSION:2.0
PRODID:-//wp-events-plugin.com//7.2.3.1//EN
TZID:Europe/London
X-WR-TIMEZONE:Europe/London
BEGIN:VEVENT
UID:3225@larevistadelapalma.com
DTSTART:20240908T203000Z
DTEND:20240908T220000Z
DTSTAMP:20240906T222333Z
URL:https://www.larevistadelapalma.com/events/concierto-de-los-cantadores-
 san-andres-y-sauces/
SUMMARY:Concierto de Los Cantadores\, San Andrés y Sauces
DESCRIPTION:El domingo 8 de septiembre de 2024\, a las 21:30 horas\, en la 
 Plaza de Montserrat\, concierto de Los Cantadores.\n\n\n\n&nbsp\;\n\n\n\n\
 n\n\n\n\n\n\nVer esta publicación en Instagram\n\n\n\n\n\n\n\n\n\n\n\n\n\
 n\n\n\n\n\n\n\n\n\n&nbsp\;\nUna publicación compartida de Los Cantadores 
 (@loscantadoresoficial)\n\n\n
ATTACH;FMTTYPE=image/jpeg:https://www.larevistadelapalma.com/wp-content/up
 loads/2024/09/Los-cantadores.jpg
CATEGORIES:Conciertos,Música
LOCATION:Plaza de Montserrat en San Andrés y Sauces\, Calle Montserrat\, S
 an Andrés y Sauces\, 38729\, España
GEO:28.784222;-17.799155
X-APPLE-STRUCTURED-LOCATION;VALUE=URI;X-ADDRESS=Calle Montserrat\, San Andr
 és y Sauces\, 38729\, España;X-APPLE-RADIUS=100;X-TITLE=Plaza de Montser
 rat en San Andrés y Sauces:geo:28.784222,-17.799155
END:VEVENT
END:VCALENDARBEGIN:VCALENDAR
VERSION:2.0
PRODID:-//wp-events-plugin.com//7.2.3.1//EN
TZID:Europe/London
X-WR-TIMEZONE:Europe/London
BEGIN:VEVENT
UID:3225@larevistadelapalma.com
DTSTART:20240908T203000Z
DTEND:20240908T220000Z
DTSTAMP:20240906T222333Z
URL:https://www.larevistadelapalma.com/events/concierto-de-los-cantadores-
 san-andres-y-sauces/
SUMMARY:Concierto de Los Cantadores\, San Andrés y Sauces
DESCRIPTION:El domingo 8 de septiembre de 2024\, a las 21:30 horas\, en la 
 Plaza de Montserrat\, concierto de Los Cantadores.\n\n\n\n&nbsp\;\n\n\n\n\
 n\n\n\n\n\n\nVer esta publicación en Instagram\n\n\n\n\n\n\n\n\n\n\n\n\n\
 n\n\n\n\n\n\n\n\n\n&nbsp\;\nUna publicación compartida de Los Cantadores 
 (@loscantadoresoficial)\n\n\n
ATTACH;FMTTYPE=image/jpeg:https://www.larevistadelapalma.com/wp-content/up
 loads/2024/09/Los-cantadores.jpg
CATEGORIES:Conciertos,Música
LOCATION:Plaza de Montserrat en San Andrés y Sauces\, Calle Montserrat\, S
 an Andrés y Sauces\, 38729\, España
GEO:28.784222;-17.799155
X-APPLE-STRUCTURED-LOCATION;VALUE=URI;X-ADDRESS=Calle Montserrat\, San Andr
 és y Sauces\, 38729\, España;X-APPLE-RADIUS=100;X-TITLE=Plaza de Montser
 rat en San Andrés y Sauces:geo:28.784222,-17.799155
END:VEVENT
END:VCALENDAR