BEGIN:VCALENDAR
VERSION:2.0
PRODID:-//wp-events-plugin.com//7.2.3.1//EN
TZID:Europe/London
X-WR-TIMEZONE:Europe/London
BEGIN:VEVENT
UID:3781@larevistadelapalma.com
DTSTART:20250622T120000Z
DTEND:20250622T133000Z
DTSTAMP:20250602T014923Z
URL:https://www.larevistadelapalma.com/events/concierto-de-los-gofiones-en
 -puntallana/
SUMMARY:Concierto de Los Gofiones en Puntallana
DESCRIPTION:Por segunda vez\, Los Gofiones volverán al municipio de Puntal
 lana. Será con motivo de sus Fiestas Patronales\, en esta ocasión con la
  participación del cuerpo de baile Danzar de Los Alisios
ATTACH;FMTTYPE=image/jpeg:https://www.larevistadelapalma.com/wp-content/up
 loads/2025/06/Concierto-Los-Gofiones.jpg
CATEGORIES:Conciertos,Música
LOCATION:Plaza de San Juan en Puntallna\, Calle Constitución\, s/n\, Punta
 llana\, 38715\, España
GEO:28.739777;-17.745493
X-APPLE-STRUCTURED-LOCATION;VALUE=URI;X-ADDRESS=Calle Constitución\, s/n\,
  Puntallana\, 38715\, España;X-APPLE-RADIUS=100;X-TITLE=Plaza de San Juan
  en Puntallna:geo:28.739777,-17.745493
END:VEVENT
END:VCALENDARBEGIN:VCALENDAR
VERSION:2.0
PRODID:-//wp-events-plugin.com//7.2.3.1//EN
TZID:Europe/London
X-WR-TIMEZONE:Europe/London
BEGIN:VEVENT
UID:3781@larevistadelapalma.com
DTSTART:20250622T120000Z
DTEND:20250622T133000Z
DTSTAMP:20250602T014923Z
URL:https://www.larevistadelapalma.com/events/concierto-de-los-gofiones-en
 -puntallana/
SUMMARY:Concierto de Los Gofiones en Puntallana
DESCRIPTION:Por segunda vez\, Los Gofiones volverán al municipio de Puntal
 lana. Será con motivo de sus Fiestas Patronales\, en esta ocasión con la
  participación del cuerpo de baile Danzar de Los Alisios
ATTACH;FMTTYPE=image/jpeg:https://www.larevistadelapalma.com/wp-content/up
 loads/2025/06/Concierto-Los-Gofiones.jpg
CATEGORIES:Conciertos,Música
LOCATION:Plaza de San Juan en Puntallna\, Calle Constitución\, s/n\, Punta
 llana\, 38715\, España
GEO:28.739777;-17.745493
X-APPLE-STRUCTURED-LOCATION;VALUE=URI;X-ADDRESS=Calle Constitución\, s/n\,
  Puntallana\, 38715\, España;X-APPLE-RADIUS=100;X-TITLE=Plaza de San Juan
  en Puntallna:geo:28.739777,-17.745493
END:VEVENT
END:VCALENDAR