BEGIN:VCALENDAR
VERSION:2.0
PRODID:-//wp-events-plugin.com//7.2.3.1//EN
TZID:Europe/London
X-WR-TIMEZONE:Europe/London
BEGIN:VEVENT
UID:3940@larevistadelapalma.com
DTSTART:20250831T170000Z
DTEND:20250831T220000Z
DTSTAMP:20250827T204600Z
URL:https://www.larevistadelapalma.com/events/concierto-de-los-salvapantal
 las-en-el-socorro/
SUMMARY:Concierto de los Salvapantallas en El Socorro
DESCRIPTION:El domingo 31 de agosto\, Los Salvapantallas vuelven a El Socor
 ro. Estarán acompañados de DJ X. 
ATTACH;FMTTYPE=image/jpeg:https://www.larevistadelapalma.com/wp-content/up
 loads/2025/08/Salvapantallas-El-socorro.jpg
CATEGORIES:Conciertos,Música
LOCATION:Plaza del Socorro\, Breña Baja\, C. del Socorro\, 96\, Breña Baj
 a\, 38712\, España
GEO:28.65757;-17.77079
X-APPLE-STRUCTURED-LOCATION;VALUE=URI;X-ADDRESS=C. del Socorro\, 96\, Breñ
 a Baja\, 38712\, España;X-APPLE-RADIUS=100;X-TITLE=Plaza del Socorro\, Br
 eña Baja:geo:28.65757,-17.77079
END:VEVENT
END:VCALENDARBEGIN:VCALENDAR
VERSION:2.0
PRODID:-//wp-events-plugin.com//7.2.3.1//EN
TZID:Europe/London
X-WR-TIMEZONE:Europe/London
BEGIN:VEVENT
UID:3940@larevistadelapalma.com
DTSTART:20250831T170000Z
DTEND:20250831T220000Z
DTSTAMP:20250827T204600Z
URL:https://www.larevistadelapalma.com/events/concierto-de-los-salvapantal
 las-en-el-socorro/
SUMMARY:Concierto de los Salvapantallas en El Socorro
DESCRIPTION:El domingo 31 de agosto\, Los Salvapantallas vuelven a El Socor
 ro. Estarán acompañados de DJ X. 
ATTACH;FMTTYPE=image/jpeg:https://www.larevistadelapalma.com/wp-content/up
 loads/2025/08/Salvapantallas-El-socorro.jpg
CATEGORIES:Conciertos,Música
LOCATION:Plaza del Socorro\, Breña Baja\, C. del Socorro\, 96\, Breña Baj
 a\, 38712\, España
GEO:28.65757;-17.77079
X-APPLE-STRUCTURED-LOCATION;VALUE=URI;X-ADDRESS=C. del Socorro\, 96\, Breñ
 a Baja\, 38712\, España;X-APPLE-RADIUS=100;X-TITLE=Plaza del Socorro\, Br
 eña Baja:geo:28.65757,-17.77079
END:VEVENT
END:VCALENDAR